Workbook

Sheet Start here
A1: Every Other Weekend Custody Calendar 2026–2027
A2: An every other weekend custody calendar for 2026 and 2027, already filled in from an example start date. Each letter is the parent the child sleeps at that night. Set your own start date, the nights that make up a weekend, and who is A or B in the spreadsheet, and follow your own order or agreement.
A3: A 14-night cycle where B has Friday and Saturday night every second weekend and A has the other 12 nights. If a weekend in your order includes Sunday night, change the pattern to AAAABBBAAAAAAA in the spreadsheet; add any midweek overnights the same way.
A5: Cycle start date (night 1) | B5: 46027 | C5: Example date. Type your own (a real date, e.g. 3/2/2026).
A6: Pattern (one letter per night) | B6: AAAABBAAAAAAAA | C6: A or B for each night from the start date; it repeats. Spaces are ignored.
A7: A = | C7: Type the parent’s name (orange)
A8: B = | C8: Type the parent’s name (blue)
A9: Exchange day, time and place
A10: Holidays and school breaks
A11: Agreed swaps (date agreed)
A13: First 14 nights from the start date
A14: =IF($B$5="","",TEXT($B$5+0,"ddd mmm d")) | B14: =IF($B$5="","",TEXT($B$5+1,"ddd mmm d")) | C14: =IF($B$5="","",TEXT($B$5+2,"ddd mmm d")) | D14: =IF($B$5="","",TEXT($B$5+3,"ddd mmm d")) | E14: =IF($B$5="","",TEXT($B$5+4,"ddd mmm d")) | F14: =IF($B$5="","",TEXT($B$5+5,"ddd mmm d")) | G14: =IF($B$5="","",TEXT($B$5+6,"ddd mmm d"))
A15: =IF(OR($B$5="",UPPER(SUBSTITUTE($B$6," ",""))=""),"",MID(UPPER(SUBSTITUTE($B$6," ","")),MOD(0,LEN(UPPER(SUBSTITUTE($B$6," ",""))))+1,1)) | B15: =IF(OR($B$5="",UPPER(SUBSTITUTE($B$6," ",""))=""),"",MID(UPPER(SUBSTITUTE($B$6," ","")),MOD(1,LEN(UPPER(SUBSTITUTE($B$6," ",""))))+1,1)) | C15: =IF(OR($B$5="",UPPER(SUBSTITUTE($B$6," ",""))=""),"",MID(UPPER(SUBSTITUTE($B$6," ","")),MOD(2,LEN(UPPER(SUBSTITUTE($B$6," ",""))))+1,1)) | D15: =IF(OR($B$5="",UPPER(SUBSTITUTE($B$6," ",""))=""),"",MID(UPPER(SUBSTITUTE($B$6," ","")),MOD(3,LEN(UPPER(SUBSTITUTE($B$6," ",""))))+1,1)) | E15: =IF(OR($B$5="",UPPER(SUBSTITUTE($B$6," ",""))=""),"",MID(UPPER(SUBSTITUTE($B$6," ","")),MOD(4,LEN(UPPER(SUBSTITUTE($B$6," ",""))))+1,1)) | F15: =IF(OR($B$5="",UPPER(SUBSTITUTE($B$6," ",""))=""),"",MID(UPPER(SUBSTITUTE($B$6," ","")),MOD(5,LEN(UPPER(SUBSTITUTE($B$6," ",""))))+1,1)) | G15: =IF(OR($B$5="",UPPER(SUBSTITUTE($B$6," ",""))=""),"",MID(UPPER(SUBSTITUTE($B$6," ","")),MOD(6,LEN(UPPER(SUBSTITUTE($B$6," ",""))))+1,1))
A16: =IF($B$5="","",TEXT($B$5+7,"ddd mmm d")) | B16: =IF($B$5="","",TEXT($B$5+8,"ddd mmm d")) | C16: =IF($B$5="","",TEXT($B$5+9,"ddd mmm d")) | D16: =IF($B$5="","",TEXT($B$5+10,"ddd mmm d")) | E16: =IF($B$5="","",TEXT($B$5+11,"ddd mmm d")) | F16: =IF($B$5="","",TEXT($B$5+12,"ddd mmm d")) | G16: =IF($B$5="","",TEXT($B$5+13,"ddd mmm d"))
A17: =IF(OR($B$5="",UPPER(SUBSTITUTE($B$6," ",""))=""),"",MID(UPPER(SUBSTITUTE($B$6," ","")),MOD(7,LEN(UPPER(SUBSTITUTE($B$6," ",""))))+1,1)) | B17: =IF(OR($B$5="",UPPER(SUBSTITUTE($B$6," ",""))=""),"",MID(UPPER(SUBSTITUTE($B$6," ","")),MOD(8,LEN(UPPER(SUBSTITUTE($B$6," ",""))))+1,1)) | C17: =IF(OR($B$5="",UPPER(SUBSTITUTE($B$6," ",""))=""),"",MID(UPPER(SUBSTITUTE($B$6," ","")),MOD(9,LEN(UPPER(SUBSTITUTE($B$6," ",""))))+1,1)) | D17: =IF(OR($B$5="",UPPER(SUBSTITUTE($B$6," ",""))=""),"",MID(UPPER(SUBSTITUTE($B$6," ","")),MOD(10,LEN(UPPER(SUBSTITUTE($B$6," ",""))))+1,1)) | E17: =IF(OR($B$5="",UPPER(SUBSTITUTE($B$6," ",""))=""),"",MID(UPPER(SUBSTITUTE($B$6," ","")),MOD(11,LEN(UPPER(SUBSTITUTE($B$6," ",""))))+1,1)) | F17: =IF(OR($B$5="",UPPER(SUBSTITUTE($B$6," ",""))=""),"",MID(UPPER(SUBSTITUTE($B$6," ","")),MOD(12,LEN(UPPER(SUBSTITUTE($B$6," ",""))))+1,1)) | G17: =IF(OR($B$5="",UPPER(SUBSTITUTE($B$6," ",""))=""),"",MID(UPPER(SUBSTITUTE($B$6," ","")),MOD(13,LEN(UPPER(SUBSTITUTE($B$6," ",""))))+1,1))
A19: Other patterns you can paste into the pattern cell (examples of how the letters work, not suggestions)
A20: 2-2-3 (cycle starts on a Monday) | B20: AABBAAABBAABBB
A21: Alternating weeks (7 and 7) | B21: AAAAAAABBBBBBB
A22: Every other weekend, Friday and Saturday nights (cycle starts on a Monday) | B22: AAAABBAAAAAAAA
A23: Every other weekend, Friday to Sunday nights (cycle starts on a Monday) | B23: AAAABBBAAAAAAA
A25: Read this first
A26: • This is an example. The letters start from the example start date shown on the key page. If your rotation starts on another date, or the other parent has the first stretch, use the spreadsheet: change the start date or swap the letters and every night re-fills.
A27: • Mark nights, not days: each letter is the parent the child sleeps at that night. How overnights are counted can differ by order or court.
A28: • Holidays, school breaks and agreed swaps usually change some nights. Write them on the key page or over the letter in the spreadsheet.
A29: • Your order, parenting plan or local rules control. This calendar doesn’t say which schedule to choose or how a court decides.
A31: General template for organizing your own information. It is not legal advice and not a court-approved form. Court rules and required forms vary by state and county, so check your court's local rules and self-help center.
A32: Blank version, other years and the free parenting time calculator: custodycommander.com/templates/custody-calendar-template/ and custodycommander.com/tools/parenting-time-calculator/.

Sheet 2026
A1: 2026 every other weekend custody calendar | Q1: 2026 nights A | S1: =C18+K18+S18+C34+K34+S34+C50+K50+S50+C66+K66+S66 | U1: Share A | W1: =IF(S1+S2=0,"",S1/(S1+S2))
A2: Filled in from the start date and pattern on the Start here sheet. To record a swap, type A or B over a night (that cell stops following the pattern). | Q2: 2026 nights B | S2: =F18+N18+V18+F34+N34+V34+F50+N50+V50+F66+N66+V66 | U2: Share B | W2: =IF(S1+S2=0,"",S2/(S1+S2))
A4: January 2026 | I4: February 2026 | Q4: March 2026
A5: S | B5: M | C5: T | D5: W | E5: T | F5: F | G5: S | I5: S | J5: M | K5: T | L5: W | M5: T | N5: F | O5: S | Q5: S | R5: M | S5: T | T5: W | U5: T | V5: F | W5: S
E6: 1 | F6: 2 | G6: 3 | I6: 1 | J6: 2 | K6: 3 | L6: 4 | M6: 5 | N6: 6 | O6: 7 | Q6: 1 | R6: 2 | S6: 3 | T6: 4 | U6: 5 | V6: 6 | W6: 7
E7: =IF(OR('Start here'!$B$5="",UPPER(SUBSTITUTE('Start here'!$B$6," ",""))=""),"",MID(UPPER(SUBSTITUTE('Start here'!$B$6," ","")),MOD(DATE(2026,1,1)-'Start here'!$B$5,LEN(UPPER(SUBSTITUTE('Start here'!$B$6," ",""))))+1,1)) | F7: =IF(OR('Start here'!$B$5="",UPPER(SUBSTITUTE('Start here'!$B$6," ",""))=""),"",MID(UPPER(SUBSTITUTE('Start here'!$B$6," ","")),MOD(DATE(2026,1,2)-'Start here'!$B$5,LEN(UPPER(SUBSTITUTE('Start here'!$B$6," ",""))))+1,1)) | G7: =IF(OR('Start here'!$B$5="",UPPER(SUBSTITUTE('Start here'!$B$6," ",""))=""),"",MID(UPPER(SUBSTITUTE('Start here'!$B$6," ","")),MOD(DATE(2026,1,3)-'Start here'!$B$5,LEN(UPPER(SUBSTITUTE('Start here'!$B$6," ",""))))+1,1)) | I7: =IF(OR('Start here'!$B$5="",UPPER(SUBSTITUTE('Start here'!$B$6," ",""))=""),"",MID(UPPER(SUBSTITUTE('Start here'!$B$6," ","")),MOD(DATE(2026,2,1)-'Start here'!$B$5,LEN(UPPER(SUBSTITUTE('Start here'!$B$6," ",""))))+1,1)) | J7: =IF(OR('Start here'!$B$5="",UPPER(SUBSTITUTE('Start here'!$B$6," ",""))=""),"",MID(UPPER(SUBSTITUTE('Start here'!$B$6," ","")),MOD(DATE(2026,2,2)-'Start here'!$B$5,LEN(UPPER(SUBSTITUTE('Start here'!$B$6," ",""))))+1,1)) | K7: =IF(OR('Start here'!$B$5="",UPPER(SUBSTITUTE('Start here'!$B$6," ",""))=""),"",MID(UPPER(SUBSTITUTE('Start here'!$B$6," ","")),MOD(DATE(2026,2,3)-'Start here'!$B$5,LEN(UPPER(SUBSTITUTE('Start here'!$B$6," ",""))))+1,1)) | L7: =IF(OR('Start here'!$B$5="",UPPER(SUBSTITUTE('Start here'!$B$6," ",""))=""),"",MID(UPPER(SUBSTITUTE('Start here'!$B$6," ","")),MOD(DATE(2026,2,4)-'Start here'!$B$5,LEN(UPPER(SUBSTITUTE('Start here'!$B$6," ",""))))+1,1)) | M7: =IF(OR('Start here'!$B$5="",UPPER(SUBSTITUTE('Start here'!$B$6," ",""))=""),"",MID(UPPER(SUBSTITUTE('Start here'!$B$6," ","")),MOD(DATE(2026,2,5)-'Start here'!$B$5,LEN(UPPER(SUBSTITUTE('Start here'!$B$6," ",""))))+1,1)) | N7: =IF(OR('Start here'!$B$5="",UPPER(SUBSTITUTE('Start here'!$B$6," ",""))=""),"",MID(UPPER(SUBSTITUTE('Start here'!$B$6," ","")),MOD(DATE(2026,2,6)-'Start here'!$B$5,LEN(UPPER(SUBSTITUTE('Start here'!$B$6," ",""))))+1,1)) | O7: =IF(OR('Start here'!$B$5="",UPPER(SUBSTITUTE('Start here'!$B$6," ",""))=""),"",MID(UPPER(SUBSTITUTE('Start here'!$B$6," ","")),MOD(DATE(2026,2,7)-'Start here'!$B$5,LEN(UPPER(SUBSTITUTE('Start here'!$B$6," ",""))))+1,1)) | Q7: =IF(OR('Start here'!$B$5="",UPPER(SUBSTITUTE('Start here'!$B$6," ",""))=""),"",MID(UPPER(SUBSTITUTE('Start here'!$B$6," ","")),MOD(DATE(2026,3,1)-'Start here'!$B$5,LEN(UPPER(SUBSTITUTE('Start here'!$B$6," ",""))))+1,1)) | R7: =IF(OR('Start here'!$B$5="",UPPER(SUBSTITUTE('Start here'!$B$6," ",""))=""),"",MID(UPPER(SUBSTITUTE('Start here'!$B$6," ","")),MOD(DATE(2026,3,2)-'Start here'!$B$5,LEN(UPPER(SUBSTITUTE('Start here'!$B$6," ",""))))+1,1)) | S7: =IF(OR('Start here'!$B$5="",UPPER(SUBSTITUTE('Start here'!$B$6," ",""))=""),"",MID(UPPER(SUBSTITUTE('Start here'!$B$6," ","")),MOD(DATE(2026,3,3)-'Start here'!$B$5,LEN(UPPER(SUBSTITUTE('Start here'!$B$6," ",""))))+1,1)) | T7: =IF(OR('Start here'!$B$5="",UPPER(SUBSTITUTE('Start here'!$B$6," ",""))=""),"",MID(UPPER(SUBSTITUTE('Start here'!$B$6," ","")),MOD(DATE(2026,3,4)-'Start here'!$B$5,LEN(UPPER(SUBSTITUTE('Start here'!$B$6," ",""))))+1,1)) | U7: =IF(OR('Start here'!$B$5="",UPPER(SUBSTITUTE('Start here'!$B$6," ",""))=""),"",MID(UPPER(SUBSTITUTE('Start here'!$B$6," ","")),MOD(DATE(2026,3,5)-'Start here'!$B$5,LEN(UPPER(SUBSTITUTE('Start here'!$B$6," ",""))))+1,1)) | V7: =IF(OR('Start here'!$B$5="",UPPER(SUBSTITUTE('Start here'!$B$6," ",""))=""),"",MID(UPPER(SUBSTITUTE('Start here'!$B$6," ","")),MOD(DATE(2026,3,6)-'Start here'!$B$5,LEN(UPPER(SUBSTITUTE('Start here'!$B$6," ",""))))+1,1)) | W7: =IF(OR('Start here'!$B$5="",UPPER(SUBSTITUTE('Start here'!$B$6," ",""))=""),"",MID(UPPER(SUBSTITUTE('Start here'!$B$6," ","")),MOD(DATE(2026,3,7)-'Start here'!$B$5,LEN(UPPER(SUBSTITUTE('Start here'!$B$6," ",""))))+1,1))
A8: 4 | B8: 5 | C8: 6 | D8: 7 | E8: 8 | F8: 9 | G8: 10 | I8: 8 | J8: 9 | K8: 10 | L8: 11 | M8: 12 | N8: 13 | O8: 14 | Q8: 8 | R8: 9 | S8: 10 | T8: 11 | U8: 12 | V8: 13 | W8: 14
A9: =IF(OR('Start here'!$B$5="",UPPER(SUBSTITUTE('Start here'!$B$6," ",""))=""),"",MID(UPPER(SUBSTITUTE('Start here'!$B$6," ","")),MOD(DATE(2026,1,4)-'Start here'!$B$5,LEN(UPPER(SUBSTITUTE('Start here'!$B$6," ",""))))+1,1)) | B9: =IF(OR('Start here'!$B$5="",UPPER(SUBSTITUTE('Start here'!$B$6," ",""))=""),"",MID(UPPER(SUBSTITUTE('Start here'!$B$6," ","")),MOD(DATE(2026,1,5)-'Start here'!$B$5,LEN(UPPER(SUBSTITUTE('Start here'!$B$6," ",""))))+1,1)) | C9: =IF(OR('Start here'!$B$5="",UPPER(SUBSTITUTE('Start here'!$B$6," ",""))=""),"",MID(UPPER(SUBSTITUTE('Start here'!$B$6," ","")),MOD(DATE(2026,1,6)-'Start here'!$B$5,LEN(UPPER(SUBSTITUTE('Start here'!$B$6," ",""))))+1,1)) | D9: =IF(OR('Start here'!$B$5="",UPPER(SUBSTITUTE('Start here'!$B$6," ",""))=""),"",MID(UPPER(SUBSTITUTE('Start here'!$B$6," ","")),MOD(DATE(2026,1,7)-'Start here'!$B$5,LEN(UPPER(SUBSTITUTE('Start here'!$B$6," ",""))))+1,1)) | E9: =IF(OR('Start here'!$B$5="",UPPER(SUBSTITUTE('Start here'!$B$6," ",""))=""),"",MID(UPPER(SUBSTITUTE('Start here'!$B$6," ","")),MOD(DATE(2026,1,8)-'Start here'!$B$5,LEN(UPPER(SUBSTITUTE('Start here'!$B$6," ",""))))+1,1)) | F9: =IF(OR('Start here'!$B$5="",UPPER(SUBSTITUTE('Start here'!$B$6," ",""))=""),"",MID(UPPER(SUBSTITUTE('Start here'!$B$6," ","")),MOD(DATE(2026,1,9)-'Start here'!$B$5,LEN(UPPER(SUBSTITUTE('Start here'!$B$6," ",""))))+1,1)) | G9: =IF(OR('Start here'!$B$5="",UPPER(SUBSTITUTE('Start here'!$B$6," ",""))=""),"",MID(UPPER(SUBSTITUTE('Start here'!$B$6," ","")),MOD(DATE(2026,1,10)-'Start here'!$B$5,LEN(UPPER(SUBSTITUTE('Start here'!$B$6," ",""))))+1,1)) | I9: =IF(OR('Start here'!$B$5="",UPPER(SUBSTITUTE('Start here'!$B$6," ",""))=""),"",MID(UPPER(SUBSTITUTE('Start here'!$B$6," ","")),MOD(DATE(2026,2,8)-'Start here'!$B$5,LEN(UPPER(SUBSTITUTE('Start here'!$B$6," ",""))))+1,1)) | J9: =IF(OR('Start here'!$B$5="",UPPER(SUBSTITUTE('Start here'!$B$6," ",""))=""),"",MID(UPPER(SUBSTITUTE('Start here'!$B$6," ","")),MOD(DATE(2026,2,9)-'Start here'!$B$5,LEN(UPPER(SUBSTITUTE('Start here'!$B$6," ",""))))+1,1)) | K9: =IF(OR('Start here'!$B$5="",UPPER(SUBSTITUTE('Start here'!$B$6," ",""))=""),"",MID(UPPER(SUBSTITUTE('Start here'!$B$6," ","")),MOD(DATE(2026,2,10)-'Start here'!$B$5,LEN(UPPER(SUBSTITUTE('Start here'!$B$6," ",""))))+1,1)) | L9: =IF(OR('Start here'!$B$5="",UPPER(SUBSTITUTE('Start here'!$B$6," ",""))=""),"",MID(UPPER(SUBSTITUTE('Start here'!$B$6," ","")),MOD(DATE(2026,2,11)-'Start here'!$B$5,LEN(UPPER(SUBSTITUTE('Start here'!$B$6," ",""))))+1,1)) | M9: =IF(OR('Start here'!$B$5="",UPPER(SUBSTITUTE('Start here'!$B$6," ",""))=""),"",MID(UPPER(SUBSTITUTE('Start here'!$B$6," ","")),MOD(DATE(2026,2,12)-'Start here'!$B$5,LEN(UPPER(SUBSTITUTE('Start here'!$B$6," ",""))))+1,1)) | N9: =IF(OR('Start here'!$B$5="",UPPER(SUBSTITUTE('Start here'!$B$6," ",""))=""),"",MID(UPPER(SUBSTITUTE('Start here'!$B$6," ","")),MOD(DATE(2026,2,13)-'Start here'!$B$5,LEN(UPPER(SUBSTITUTE('Start here'!$B$6," ",""))))+1,1)) | O9: =IF(OR('Start here'!$B$5="",UPPER(SUBSTITUTE('Start here'!$B$6," ",""))=""),"",MID(UPPER(SUBSTITUTE('Start here'!$B$6," ","")),MOD(DATE(2026,2,14)-'Start here'!$B$5,LEN(UPPER(SUBSTITUTE('Start here'!$B$6," ",""))))+1,1)) | Q9: =IF(OR('Start here'!$B$5="",UPPER(SUBSTITUTE('Start here'!$B$6," ",""))=""),"",MID(UPPER(SUBSTITUTE('Start here'!$B$6," ","")),MOD(DATE(2026,3,8)-'Start here'!$B$5,LEN(UPPER(SUBSTITUTE('Start here'!$B$6," ",""))))+1,1)) | R9: =IF(OR('Start here'!$B$5="",UPPER(SUBSTITUTE('Start here'!$B$6," ",""))=""),"",MID(UPPER(SUBSTITUTE('Start here'!$B$6," ","")),MOD(DATE(2026,3,9)-'Start here'!$B$5,LEN(UPPER(SUBSTITUTE('Start here'!$B$6," ",""))))+1,1)) | S9: =IF(OR('Start here'!$B$5="",UPPER(SUBSTITUTE('Start here'!$B$6," ",""))=""),"",MID(UPPER(SUBSTITUTE('Start here'!$B$6," ","")),MOD(DATE(2026,3,10)-'Start here'!$B$5,LEN(UPPER(SUBSTITUTE('Start here'!$B$6," ",""))))+1,1)) | T9: =IF(OR('Start here'!$B$5="",UPPER(SUBSTITUTE('Start here'!$B$6," ",""))=""),"",MID(UPPER(SUBSTITUTE('Start here'!$B$6," ","")),MOD(DATE(2026,3,11)-'Start here'!$B$5,LEN(UPPER(SUBSTITUTE('Start here'!$B$6," ",""))))+1,1)) | U9: =IF(OR('Start here'!$B$5="",UPPER(SUBSTITUTE('Start here'!$B$6," ",""))=""),"",MID(UPPER(SUBSTITUTE('Start here'!$B$6," ","")),MOD(DATE(2026,3,12)-'Start here'!$B$5,LEN(UPPER(SUBSTITUTE('Start here'!$B$6," ",""))))+1,1)) | V9: =IF(OR('Start here'!$B$5="",UPPER(SUBSTITUTE('Start here'!$B$6," ",""))=""),"",MID(UPPER(SUBSTITUTE('Start here'!$B$6," ","")),MOD(DATE(2026,3,13)-'Start here'!$B$5,LEN(UPPER(SUBSTITUTE('Start here'!$B$6," ",""))))+1,1)) | W9: =IF(OR('Start here'!$B$5="",UPPER(SUBSTITUTE('Start here'!$B$6," ",""))=""),"",MID(UPPER(SUBSTITUTE('Start here'!$B$6," ","")),MOD(DATE(2026,3,14)-'Start here'!$B$5,LEN(UPPER(SUBSTITUTE('Start here'!$B$6," ",""))))+1,1))
A10: 11 | B10: 12 | C10: 13 | D10: 14 | E10: 15 | F10: 16 | G10: 17 | I10: 15 | J10: 16 | K10: 17 | L10: 18 | M10: 19 | N10: 20 | O10: 21 | Q10: 15 | R10: 16 | S10: 17 | T10: 18 | U10: 19 | V10: 20 | W10: 21
A11: =IF(OR('Start here'!$B$5="",UPPER(SUBSTITUTE('Start here'!$B$6," ",""))=""),"",MID(UPPER(SUBSTITUTE('Start here'!$B$6," ","")),MOD(DATE(2026,1,11)-'Start here'!$B$5,LEN(UPPER(SUBSTITUTE('Start here'!$B$6," ",""))))+1,1)) | B11: =IF(OR('Start here'!$B$5="",UPPER(SUBSTITUTE('Start here'!$B$6," ",""))=""),"",MID(UPPER(SUBSTITUTE('Start here'!$B$6," ","")),MOD(DATE(2026,1,12)-'Start here'!$B$5,LEN(UPPER(SUBSTITUTE('Start here'!$B$6," ",""))))+1,1)) | C11: =IF(OR('Start here'!$B$5="",UPPER(SUBSTITUTE('Start here'!$B$6," ",""))=""),"",MID(UPPER(SUBSTITUTE('Start here'!$B$6," ","")),MOD(DATE(2026,1,13)-'Start here'!$B$5,LEN(UPPER(SUBSTITUTE('Start here'!$B$6," ",""))))+1,1)) | D11: =IF(OR('Start here'!$B$5="",UPPER(SUBSTITUTE('Start here'!$B$6," ",""))=""),"",MID(UPPER(SUBSTITUTE('Start here'!$B$6," ","")),MOD(DATE(2026,1,14)-'Start here'!$B$5,LEN(UPPER(SUBSTITUTE('Start here'!$B$6," ",""))))+1,1)) | E11: =IF(OR('Start here'!$B$5="",UPPER(SUBSTITUTE('Start here'!$B$6," ",""))=""),"",MID(UPPER(SUBSTITUTE('Start here'!$B$6," ","")),MOD(DATE(2026,1,15)-'Start here'!$B$5,LEN(UPPER(SUBSTITUTE('Start here'!$B$6," ",""))))+1,1)) | F11: =IF(OR('Start here'!$B$5="",UPPER(SUBSTITUTE('Start here'!$B$6," ",""))=""),"",MID(UPPER(SUBSTITUTE('Start here'!$B$6," ","")),MOD(DATE(2026,1,16)-'Start here'!$B$5,LEN(UPPER(SUBSTITUTE('Start here'!$B$6," ",""))))+1,1)) | G11: =IF(OR('Start here'!$B$5="",UPPER(SUBSTITUTE('Start here'!$B$6," ",""))=""),"",MID(UPPER(SUBSTITUTE('Start here'!$B$6," ","")),MOD(DATE(2026,1,17)-'Start here'!$B$5,LEN(UPPER(SUBSTITUTE('Start here'!$B$6," ",""))))+1,1)) | I11: =IF(OR('Start here'!$B$5="",UPPER(SUBSTITUTE('Start here'!$B$6," ",""))=""),"",MID(UPPER(SUBSTITUTE('Start here'!$B$6," ","")),MOD(DATE(2026,2,15)-'Start here'!$B$5,LEN(UPPER(SUBSTITUTE('Start here'!$B$6," ",""))))+1,1)) | J11: =IF(OR('Start here'!$B$5="",UPPER(SUBSTITUTE('Start here'!$B$6," ",""))=""),"",MID(UPPER(SUBSTITUTE('Start here'!$B$6," ","")),MOD(DATE(2026,2,16)-'Start here'!$B$5,LEN(UPPER(SUBSTITUTE('Start here'!$B$6," ",""))))+1,1)) | K11: =IF(OR('Start here'!$B$5="",UPPER(SUBSTITUTE('Start here'!$B$6," ",""))=""),"",MID(UPPER(SUBSTITUTE('Start here'!$B$6," ","")),MOD(DATE(2026,2,17)-'Start here'!$B$5,LEN(UPPER(SUBSTITUTE('Start here'!$B$6," ",""))))+1,1)) | L11: =IF(OR('Start here'!$B$5="",UPPER(SUBSTITUTE('Start here'!$B$6," ",""))=""),"",MID(UPPER(SUBSTITUTE('Start here'!$B$6," ","")),MOD(DATE(2026,2,18)-'Start here'!$B$5,LEN(UPPER(SUBSTITUTE('Start here'!$B$6," ",""))))+1,1)) | M11: =IF(OR('Start here'!$B$5="",UPPER(SUBSTITUTE('Start here'!$B$6," ",""))=""),"",MID(UPPER(SUBSTITUTE('Start here'!$B$6," ","")),MOD(DATE(2026,2,19)-'Start here'!$B$5,LEN(UPPER(SUBSTITUTE('Start here'!$B$6," ",""))))+1,1)) | N11: =IF(OR('Start here'!$B$5="",UPPER(SUBSTITUTE('Start here'!$B$6," ",""))=""),"",MID(UPPER(SUBSTITUTE('Start here'!$B$6," ","")),MOD(DATE(2026,2,20)-'Start here'!$B$5,LEN(UPPER(SUBSTITUTE('Start here'!$B$6," ",""))))+1,1)) | O11: =IF(OR('Start here'!$B$5="",UPPER(SUBSTITUTE('Start here'!$B$6," ",""))=""),"",MID(UPPER(SUBSTITUTE('Start here'!$B$6," ","")),MOD(DATE(2026,2,21)-'Start here'!$B$5,LEN(UPPER(SUBSTITUTE('Start here'!$B$6," ",""))))+1,1)) | Q11: =IF(OR('Start here'!$B$5="",UPPER(SUBSTITUTE('Start here'!$B$6," ",""))=""),"",MID(UPPER(SUBSTITUTE('Start here'!$B$6," ","")),MOD(DATE(2026,3,15)-'Start here'!$B$5,LEN(UPPER(SUBSTITUTE('Start here'!$B$6," ",""))))+1,1)) | R11: =IF(OR('Start here'!$B$5="",UPPER(SUBSTITUTE('Start here'!$B$6," ",""))=""),"",MID(UPPER(SUBSTITUTE('Start here'!$B$6," ","")),MOD(DATE(2026,3,16)-'Start here'!$B$5,LEN(UPPER(SUBSTITUTE('Start here'!$B$6," ",""))))+1,1)) | S11: =IF(OR('Start here'!$B$5="",UPPER(SUBSTITUTE('Start here'!$B$6," ",""))=""),"",MID(UPPER(SUBSTITUTE('Start here'!$B$6," ","")),MOD(DATE(2026,3,17)-'Start here'!$B$5,LEN(UPPER(SUBSTITUTE('Start here'!$B$6," ",""))))+1,1)) | T11: =IF(OR('Start here'!$B$5="",UPPER(SUBSTITUTE('Start here'!$B$6," ",""))=""),"",MID(UPPER(SUBSTITUTE('Start here'!$B$6," ","")),MOD(DATE(2026,3,18)-'Start here'!$B$5,LEN(UPPER(SUBSTITUTE('Start here'!$B$6," ",""))))+1,1)) | U11: =IF(OR('Start here'!$B$5="",UPPER(SUBSTITUTE('Start here'!$B$6," ",""))=""),"",MID(UPPER(SUBSTITUTE('Start here'!$B$6," ","")),MOD(DATE(2026,3,19)-'Start here'!$B$5,LEN(UPPER(SUBSTITUTE('Start here'!$B$6," ",""))))+1,1)) | V11: =IF(OR('Start here'!$B$5="",UPPER(SUBSTITUTE('Start here'!$B$6," ",""))=""),"",MID(UPPER(SUBSTITUTE('Start here'!$B$6," ","")),MOD(DATE(2026,3,20)-'Start here'!$B$5,LEN(UPPER(SUBSTITUTE('Start here'!$B$6," ",""))))+1,1)) | W11: =IF(OR('Start here'!$B$5="",UPPER(SUBSTITUTE('Start here'!$B$6," ",""))=""),"",MID(UPPER(SUBSTITUTE('Start here'!$B$6," ","")),MOD(DATE(2026,3,21)-'Start here'!$B$5,LEN(UPPER(SUBSTITUTE('Start here'!$B$6," ",""))))+1,1))
A12: 18 | B12: 19 | C12: 20 | D12: 21 | E12: 22 | F12: 23 | G12: 24 | I12: 22 | J12: 23 | K12: 24 | L12: 25 | M12: 26 | N12: 27 | O12: 28 | Q12: 22 | R12: 23 | S12: 24 | T12: 25 | U12: 26 | V12: 27 | W12: 28
A13: =IF(OR('Start here'!$B$5="",UPPER(SUBSTITUTE('Start here'!$B$6," ",""))=""),"",MID(UPPER(SUBSTITUTE('Start here'!$B$6," ","")),MOD(DATE(2026,1,18)-'Start here'!$B$5,LEN(UPPER(SUBSTITUTE('Start here'!$B$6," ",""))))+1,1)) | B13: =IF(OR('Start here'!$B$5="",UPPER(SUBSTITUTE('Start here'!$B$6," ",""))=""),"",MID(UPPER(SUBSTITUTE('Start here'!$B$6," ","")),MOD(DATE(2026,1,19)-'Start here'!$B$5,LEN(UPPER(SUBSTITUTE('Start here'!$B$6," ",""))))+1,1)) | C13: =IF(OR('Start here'!$B$5="",UPPER(SUBSTITUTE('Start here'!$B$6," ",""))=""),"",MID(UPPER(SUBSTITUTE('Start here'!$B$6," ","")),MOD(DATE(2026,1,20)-'Start here'!$B$5,LEN(UPPER(SUBSTITUTE('Start here'!$B$6," ",""))))+1,1)) | D13: =IF(OR('Start here'!$B$5="",UPPER(SUBSTITUTE('Start here'!$B$6," ",""))=""),"",MID(UPPER(SUBSTITUTE('Start here'!$B$6," ","")),MOD(DATE(2026,1,21)-'Start here'!$B$5,LEN(UPPER(SUBSTITUTE('Start here'!$B$6," ",""))))+1,1)) | E13: =IF(OR('Start here'!$B$5="",UPPER(SUBSTITUTE('Start here'!$B$6," ",""))=""),"",MID(UPPER(SUBSTITUTE('Start here'!$B$6," ","")),MOD(DATE(2026,1,22)-'Start here'!$B$5,LEN(UPPER(SUBSTITUTE('Start here'!$B$6," ",""))))+1,1)) | F13: =IF(OR('Start here'!$B$5="",UPPER(SUBSTITUTE('Start here'!$B$6," ",""))=""),"",MID(UPPER(SUBSTITUTE('Start here'!$B$6," ","")),MOD(DATE(2026,1,23)-'Start here'!$B$5,LEN(UPPER(SUBSTITUTE('Start here'!$B$6," ",""))))+1,1)) | G13: =IF(OR('Start here'!$B$5="",UPPER(SUBSTITUTE('Start here'!$B$6," ",""))=""),"",MID(UPPER(SUBSTITUTE('Start here'!$B$6," ","")),MOD(DATE(2026,1,24)-'Start here'!$B$5,LEN(UPPER(SUBSTITUTE('Start here'!$B$6," ",""))))+1,1)) | I13: =IF(OR('Start here'!$B$5="",UPPER(SUBSTITUTE('Start here'!$B$6," ",""))=""),"",MID(UPPER(SUBSTITUTE('Start here'!$B$6," ","")),MOD(DATE(2026,2,22)-'Start here'!$B$5,LEN(UPPER(SUBSTITUTE('Start here'!$B$6," ",""))))+1,1)) | J13: =IF(OR('Start here'!$B$5="",UPPER(SUBSTITUTE('Start here'!$B$6," ",""))=""),"",MID(UPPER(SUBSTITUTE('Start here'!$B$6," ","")),MOD(DATE(2026,2,23)-'Start here'!$B$5,LEN(UPPER(SUBSTITUTE('Start here'!$B$6," ",""))))+1,1)) | K13: =IF(OR('Start here'!$B$5="",UPPER(SUBSTITUTE('Start here'!$B$6," ",""))=""),"",MID(UPPER(SUBSTITUTE('Start here'!$B$6," ","")),MOD(DATE(2026,2,24)-'Start here'!$B$5,LEN(UPPER(SUBSTITUTE('Start here'!$B$6," ",""))))+1,1)) | L13: =IF(OR('Start here'!$B$5="",UPPER(SUBSTITUTE('Start here'!$B$6," ",""))=""),"",MID(UPPER(SUBSTITUTE('Start here'!$B$6," ","")),MOD(DATE(2026,2,25)-'Start here'!$B$5,LEN(UPPER(SUBSTITUTE('Start here'!$B$6," ",""))))+1,1)) | M13: =IF(OR('Start here'!$B$5="",UPPER(SUBSTITUTE('Start here'!$B$6," ",""))=""),"",MID(UPPER(SUBSTITUTE('Start here'!$B$6," ","")),MOD(DATE(2026,2,26)-'Start here'!$B$5,LEN(UPPER(SUBSTITUTE('Start here'!$B$6," ",""))))+1,1)) | N13: =IF(OR('Start here'!$B$5="",UPPER(SUBSTITUTE('Start here'!$B$6," ",""))=""),"",MID(UPPER(SUBSTITUTE('Start here'!$B$6," ","")),MOD(DATE(2026,2,27)-'Start here'!$B$5,LEN(UPPER(SUBSTITUTE('Start here'!$B$6," ",""))))+1,1)) | O13: =IF(OR('Start here'!$B$5="",UPPER(SUBSTITUTE('Start here'!$B$6," ",""))=""),"",MID(UPPER(SUBSTITUTE('Start here'!$B$6," ","")),MOD(DATE(2026,2,28)-'Start here'!$B$5,LEN(UPPER(SUBSTITUTE('Start here'!$B$6," ",""))))+1,1)) | Q13: =IF(OR('Start here'!$B$5="",UPPER(SUBSTITUTE('Start here'!$B$6," ",""))=""),"",MID(UPPER(SUBSTITUTE('Start here'!$B$6," ","")),MOD(DATE(2026,3,22)-'Start here'!$B$5,LEN(UPPER(SUBSTITUTE('Start here'!$B$6," ",""))))+1,1)) | R13: =IF(OR('Start here'!$B$5="",UPPER(SUBSTITUTE('Start here'!$B$6," ",""))=""),"",MID(UPPER(SUBSTITUTE('Start here'!$B$6," ","")),MOD(DATE(2026,3,23)-'Start here'!$B$5,LEN(UPPER(SUBSTITUTE('Start here'!$B$6," ",""))))+1,1)) | S13: =IF(OR('Start here'!$B$5="",UPPER(SUBSTITUTE('Start here'!$B$6," ",""))=""),"",MID(UPPER(SUBSTITUTE('Start here'!$B$6," ","")),MOD(DATE(2026,3,24)-'Start here'!$B$5,LEN(UPPER(SUBSTITUTE('Start here'!$B$6," ",""))))+1,1)) | T13: =IF(OR('Start here'!$B$5="",UPPER(SUBSTITUTE('Start here'!$B$6," ",""))=""),"",MID(UPPER(SUBSTITUTE('Start here'!$B$6," ","")),MOD(DATE(2026,3,25)-'Start here'!$B$5,LEN(UPPER(SUBSTITUTE('Start here'!$B$6," ",""))))+1,1)) | U13: =IF(OR('Start here'!$B$5="",UPPER(SUBSTITUTE('Start here'!$B$6," ",""))=""),"",MID(UPPER(SUBSTITUTE('Start here'!$B$6," ","")),MOD(DATE(2026,3,26)-'Start here'!$B$5,LEN(UPPER(SUBSTITUTE('Start here'!$B$6," ",""))))+1,1)) | V13: =IF(OR('Start here'!$B$5="",UPPER(SUBSTITUTE('Start here'!$B$6," ",""))=""),"",MID(UPPER(SUBSTITUTE('Start here'!$B$6," ","")),MOD(DATE(2026,3,27)-'Start here'!$B$5,LEN(UPPER(SUBSTITUTE('Start here'!$B$6," ",""))))+1,1)) | W13: =IF(OR('Start here'!$B$5="",UPPER(SUBSTITUTE('Start here'!$B$6," ",""))=""),"",MID(UPPER(SUBSTITUTE('Start here'!$B$6," ","")),MOD(DATE(2026,3,28)-'Start here'!$B$5,LEN(UPPER(SUBSTITUTE('Start here'!$B$6," ",""))))+1,1))
A14: 25 | B14: 26 | C14: 27 | D14: 28 | E14: 29 | F14: 30 | G14: 31 | Q14: 29 | R14: 30 | S14: 31
A15: =IF(OR('Start here'!$B$5="",UPPER(SUBSTITUTE('Start here'!$B$6," ",""))=""),"",MID(UPPER(SUBSTITUTE('Start here'!$B$6," ","")),MOD(DATE(2026,1,25)-'Start here'!$B$5,LEN(UPPER(SUBSTITUTE('Start here'!$B$6," ",""))))+1,1)) | B15: =IF(OR('Start here'!$B$5="",UPPER(SUBSTITUTE('Start here'!$B$6," ",""))=""),"",MID(UPPER(SUBSTITUTE('Start here'!$B$6," ","")),MOD(DATE(2026,1,26)-'Start here'!$B$5,LEN(UPPER(SUBSTITUTE('Start here'!$B$6," ",""))))+1,1)) | C15: =IF(OR('Start here'!$B$5="",UPPER(SUBSTITUTE('Start here'!$B$6," ",""))=""),"",MID(UPPER(SUBSTITUTE('Start here'!$B$6," ","")),MOD(DATE(2026,1,27)-'Start here'!$B$5,LEN(UPPER(SUBSTITUTE('Start here'!$B$6," ",""))))+1,1)) | D15: =IF(OR('Start here'!$B$5="",UPPER(SUBSTITUTE('Start here'!$B$6," ",""))=""),"",MID(UPPER(SUBSTITUTE('Start here'!$B$6," ","")),MOD(DATE(2026,1,28)-'Start here'!$B$5,LEN(UPPER(SUBSTITUTE('Start here'!$B$6," ",""))))+1,1)) | E15: =IF(OR('Start here'!$B$5="",UPPER(SUBSTITUTE('Start here'!$B$6," ",""))=""),"",MID(UPPER(SUBSTITUTE('Start here'!$B$6," ","")),MOD(DATE(2026,1,29)-'Start here'!$B$5,LEN(UPPER(SUBSTITUTE('Start here'!$B$6," ",""))))+1,1)) | F15: =IF(OR('Start here'!$B$5="",UPPER(SUBSTITUTE('Start here'!$B$6," ",""))=""),"",MID(UPPER(SUBSTITUTE('Start here'!$B$6," ","")),MOD(DATE(2026,1,30)-'Start here'!$B$5,LEN(UPPER(SUBSTITUTE('Start here'!$B$6," ",""))))+1,1)) | G15: =IF(OR('Start here'!$B$5="",UPPER(SUBSTITUTE('Start here'!$B$6," ",""))=""),"",MID(UPPER(SUBSTITUTE('Start here'!$B$6," ","")),MOD(DATE(2026,1,31)-'Start here'!$B$5,LEN(UPPER(SUBSTITUTE('Start here'!$B$6," ",""))))+1,1)) | Q15: =IF(OR('Start here'!$B$5="",UPPER(SUBSTITUTE('Start here'!$B$6," ",""))=""),"",MID(UPPER(SUBSTITUTE('Start here'!$B$6," ","")),MOD(DATE(2026,3,29)-'Start here'!$B$5,LEN(UPPER(SUBSTITUTE('Start here'!$B$6," ",""))))+1,1)) | R15: =IF(OR('Start here'!$B$5="",UPPER(SUBSTITUTE('Start here'!$B$6," ",""))=""),"",MID(UPPER(SUBSTITUTE('Start here'!$B$6," ","")),MOD(DATE(2026,3,30)-'Start here'!$B$5,LEN(UPPER(SUBSTITUTE('Start here'!$B$6," ",""))))+1,1)) | S15: =IF(OR('Start here'!$B$5="",UPPER(SUBSTITUTE('Start here'!$B$6," ",""))=""),"",MID(UPPER(SUBSTITUTE('Start here'!$B$6," ","")),MOD(DATE(2026,3,31)-'Start here'!$B$5,LEN(UPPER(SUBSTITUTE('Start here'!$B$6," ",""))))+1,1))
A18: Nights A | C18: =COUNTIF(A7:G17,"A") | E18: B | F18: =COUNTIF(A7:G17,"B") | I18: Nights A | K18: =COUNTIF(I7:O17,"A") | M18: B | N18: =COUNTIF(I7:O17,"B") | Q18: Nights A | S18: =COUNTIF(Q7:W17,"A") | U18: B | V18: =COUNTIF(Q7:W17,"B")
A20: April 2026 | I20: May 2026 | Q20: June 2026
A21: S | B21: M | C21: T | D21: W | E21: T | F21: F | G21: S | I21: S | J21: M | K21: T | L21: W | M21: T | N21: F | O21: S | Q21: S | R21: M | S21: T | T21: W | U21: T | V21: F | W21: S
D22: 1 | E22: 2 | F22: 3 | G22: 4 | N22: 1 | O22: 2 | R22: 1 | S22: 2 | T22: 3 | U22: 4 | V22: 5 | W22: 6
D23: =IF(OR('Start here'!$B$5="",UPPER(SUBSTITUTE('Start here'!$B$6," ",""))=""),"",MID(UPPER(SUBSTITUTE('Start here'!$B$6," ","")),MOD(DATE(2026,4,1)-'Start here'!$B$5,LEN(UPPER(SUBSTITUTE('Start here'!$B$6," ",""))))+1,1)) | E23: =IF(OR('Start here'!$B$5="",UPPER(SUBSTITUTE('Start here'!$B$6," ",""))=""),"",MID(UPPER(SUBSTITUTE('Start here'!$B$6," ","")),MOD(DATE(2026,4,2)-'Start here'!$B$5,LEN(UPPER(SUBSTITUTE('Start here'!$B$6," ",""))))+1,1)) | F23: =IF(OR('Start here'!$B$5="",UPPER(SUBSTITUTE('Start here'!$B$6," ",""))=""),"",MID(UPPER(SUBSTITUTE('Start here'!$B$6," ","")),MOD(DATE(2026,4,3)-'Start here'!$B$5,LEN(UPPER(SUBSTITUTE('Start here'!$B$6," ",""))))+1,1)) | G23: =IF(OR('Start here'!$B$5="",UPPER(SUBSTITUTE('Start here'!$B$6," ",""))=""),"",MID(UPPER(SUBSTITUTE('Start here'!$B$6," ","")),MOD(DATE(2026,4,4)-'Start here'!$B$5,LEN(UPPER(SUBSTITUTE('Start here'!$B$6," ",""))))+1,1)) | N23: =IF(OR('Start here'!$B$5="",UPPER(SUBSTITUTE('Start here'!$B$6," ",""))=""),"",MID(UPPER(SUBSTITUTE('Start here'!$B$6," ","")),MOD(DATE(2026,5,1)-'Start here'!$B$5,LEN(UPPER(SUBSTITUTE('Start here'!$B$6," ",""))))+1,1)) | O23: =IF(OR('Start here'!$B$5="",UPPER(SUBSTITUTE('Start here'!$B$6," ",""))=""),"",MID(UPPER(SUBSTITUTE('Start here'!$B$6," ","")),MOD(DATE(2026,5,2)-'Start here'!$B$5,LEN(UPPER(SUBSTITUTE('Start here'!$B$6," ",""))))+1,1)) | R23: =IF(OR('Start here'!$B$5="",UPPER(SUBSTITUTE('Start here'!$B$6," ",""))=""),"",MID(UPPER(SUBSTITUTE('Start here'!$B$6," ","")),MOD(DATE(2026,6,1)-'Start here'!$B$5,LEN(UPPER(SUBSTITUTE('Start here'!$B$6," ",""))))+1,1)) | S23: =IF(OR('Start here'!$B$5="",UPPER(SUBSTITUTE('Start here'!$B$6," ",""))=""),"",MID(UPPER(SUBSTITUTE('Start here'!$B$6," ","")),MOD(DATE(2026,6,2)-'Start here'!$B$5,LEN(UPPER(SUBSTITUTE('Start here'!$B$6," ",""))))+1,1)) | T23: =IF(OR('Start here'!$B$5="",UPPER(SUBSTITUTE('Start here'!$B$6," ",""))=""),"",MID(UPPER(SUBSTITUTE('Start here'!$B$6," ","")),MOD(DATE(2026,6,3)-'Start here'!$B$5,LEN(UPPER(SUBSTITUTE('Start here'!$B$6," ",""))))+1,1)) | U23: =IF(OR('Start here'!$B$5="",UPPER(SUBSTITUTE('Start here'!$B$6," ",""))=""),"",MID(UPPER(SUBSTITUTE('Start here'!$B$6," ","")),MOD(DATE(2026,6,4)-'Start here'!$B$5,LEN(UPPER(SUBSTITUTE('Start here'!$B$6," ",""))))+1,1)) | V23: =IF(OR('Start here'!$B$5="",UPPER(SUBSTITUTE('Start here'!$B$6," ",""))=""),"",MID(UPPER(SUBSTITUTE('Start here'!$B$6," ","")),MOD(DATE(2026,6,5)-'Start here'!$B$5,LEN(UPPER(SUBSTITUTE('Start here'!$B$6," ",""))))+1,1)) | W23: =IF(OR('Start here'!$B$5="",UPPER(SUBSTITUTE('Start here'!$B$6," ",""))=""),"",MID(UPPER(SUBSTITUTE('Start here'!$B$6," ","")),MOD(DATE(2026,6,6)-'Start here'!$B$5,LEN(UPPER(SUBSTITUTE('Start here'!$B$6," ",""))))+1,1))
A24: 5 | B24: 6 | C24: 7 | D24: 8 | E24: 9 | F24: 10 | G24: 11 | I24: 3 | J24: 4 | K24: 5 | L24: 6 | M24: 7 | N24: 8 | O24: 9 | Q24: 7 | R24: 8 | S24: 9 | T24: 10 | U24: 11 | V24: 12 | W24: 13
A25: =IF(OR('Start here'!$B$5="",UPPER(SUBSTITUTE('Start here'!$B$6," ",""))=""),"",MID(UPPER(SUBSTITUTE('Start here'!$B$6," ","")),MOD(DATE(2026,4,5)-'Start here'!$B$5,LEN(UPPER(SUBSTITUTE('Start here'!$B$6," ",""))))+1,1)) | B25: =IF(OR('Start here'!$B$5="",UPPER(SUBSTITUTE('Start here'!$B$6," ",""))=""),"",MID(UPPER(SUBSTITUTE('Start here'!$B$6," ","")),MOD(DATE(2026,4,6)-'Start here'!$B$5,LEN(UPPER(SUBSTITUTE('Start here'!$B$6," ",""))))+1,1)) | C25: =IF(OR('Start here'!$B$5="",UPPER(SUBSTITUTE('Start here'!$B$6," ",""))=""),"",MID(UPPER(SUBSTITUTE('Start here'!$B$6," ","")),MOD(DATE(2026,4,7)-'Start here'!$B$5,LEN(UPPER(SUBSTITUTE('Start here'!$B$6," ",""))))+1,1)) | D25: =IF(OR('Start here'!$B$5="",UPPER(SUBSTITUTE('Start here'!$B$6," ",""))=""),"",MID(UPPER(SUBSTITUTE('Start here'!$B$6," ","")),MOD(DATE(2026,4,8)-'Start here'!$B$5,LEN(UPPER(SUBSTITUTE('Start here'!$B$6," ",""))))+1,1)) | E25: =IF(OR('Start here'!$B$5="",UPPER(SUBSTITUTE('Start here'!$B$6," ",""))=""),"",MID(UPPER(SUBSTITUTE('Start here'!$B$6," ","")),MOD(DATE(2026,4,9)-'Start here'!$B$5,LEN(UPPER(SUBSTITUTE('Start here'!$B$6," ",""))))+1,1)) | F25: =IF(OR('Start here'!$B$5="",UPPER(SUBSTITUTE('Start here'!$B$6," ",""))=""),"",MID(UPPER(SUBSTITUTE('Start here'!$B$6," ","")),MOD(DATE(2026,4,10)-'Start here'!$B$5,LEN(UPPER(SUBSTITUTE('Start here'!$B$6," ",""))))+1,1)) | G25: =IF(OR('Start here'!$B$5="",UPPER(SUBSTITUTE('Start here'!$B$6," ",""))=""),"",MID(UPPER(SUBSTITUTE('Start here'!$B$6," ","")),MOD(DATE(2026,4,11)-'Start here'!$B$5,LEN(UPPER(SUBSTITUTE('Start here'!$B$6," ",""))))+1,1)) | I25: =IF(OR('Start here'!$B$5="",UPPER(SUBSTITUTE('Start here'!$B$6," ",""))=""),"",MID(UPPER(SUBSTITUTE('Start here'!$B$6," ","")),MOD(DATE(2026,5,3)-'Start here'!$B$5,LEN(UPPER(SUBSTITUTE('Start here'!$B$6," ",""))))+1,1)) | J25: =IF(OR('Start here'!$B$5="",UPPER(SUBSTITUTE('Start here'!$B$6," ",""))=""),"",MID(UPPER(SUBSTITUTE('Start here'!$B$6," ","")),MOD(DATE(2026,5,4)-'Start here'!$B$5,LEN(UPPER(SUBSTITUTE('Start here'!$B$6," ",""))))+1,1)) | K25: =IF(OR('Start here'!$B$5="",UPPER(SUBSTITUTE('Start here'!$B$6," ",""))=""),"",MID(UPPER(SUBSTITUTE('Start here'!$B$6," ","")),MOD(DATE(2026,5,5)-'Start here'!$B$5,LEN(UPPER(SUBSTITUTE('Start here'!$B$6," ",""))))+1,1)) | L25: =IF(OR('Start here'!$B$5="",UPPER(SUBSTITUTE('Start here'!$B$6," ",""))=""),"",MID(UPPER(SUBSTITUTE('Start here'!$B$6," ","")),MOD(DATE(2026,5,6)-'Start here'!$B$5,LEN(UPPER(SUBSTITUTE('Start here'!$B$6," ",""))))+1,1)) | M25: =IF(OR('Start here'!$B$5="",UPPER(SUBSTITUTE('Start here'!$B$6," ",""))=""),"",MID(UPPER(SUBSTITUTE('Start here'!$B$6," ","")),MOD(DATE(2026,5,7)-'Start here'!$B$5,LEN(UPPER(SUBSTITUTE('Start here'!$B$6," ",""))))+1,1)) | N25: =IF(OR('Start here'!$B$5="",UPPER(SUBSTITUTE('Start here'!$B$6," ",""))=""),"",MID(UPPER(SUBSTITUTE('Start here'!$B$6," ","")),MOD(DATE(2026,5,8)-'Start here'!$B$5,LEN(UPPER(SUBSTITUTE('Start here'!$B$6," ",""))))+1,1)) | O25: =IF(OR('Start here'!$B$5="",UPPER(SUBSTITUTE('Start here'!$B$6," ",""))=""),"",MID(UPPER(SUBSTITUTE('Start here'!$B$6," ","")),MOD(DATE(2026,5,9)-'Start here'!$B$5,LEN(UPPER(SUBSTITUTE('Start here'!$B$6," ",""))))+1,1)) | Q25: =IF(OR('Start here'!$B$5="",UPPER(SUBSTITUTE('Start here'!$B$6," ",""))=""),"",MID(UPPER(SUBSTITUTE('Start here'!$B$6," ","")),MOD(DATE(2026,6,7)-'Start here'!$B$5,LEN(UPPER(SUBSTITUTE('Start here'!$B$6," ",""))))+1,1)) | R25: =IF(OR('Start here'!$B$5="",UPPER(SUBSTITUTE('Start here'!$B$6," ",""))=""),"",MID(UPPER(SUBSTITUTE('Start here'!$B$6," ","")),MOD(DATE(2026,6,8)-'Start here'!$B$5,LEN(UPPER(SUBSTITUTE('Start here'!$B$6," ",""))))+1,1)) | S25: =IF(OR('Start here'!$B$5="",UPPER(SUBSTITUTE('Start here'!$B$6," ",""))=""),"",MID(UPPER(SUBSTITUTE('Start here'!$B$6," ","")),MOD(DATE(2026,6,9)-'Start here'!$B$5,LEN(UPPER(SUBSTITUTE('Start here'!$B$6," ",""))))+1,1)) | T25: =IF(OR('Start here'!$B$5="",UPPER(SUBSTITUTE('Start here'!$B$6," ",""))=""),"",MID(UPPER(SUBSTITUTE('Start here'!$B$6," ","")),MOD(DATE(2026,6,10)-'Start here'!$B$5,LEN(UPPER(SUBSTITUTE('Start here'!$B$6," ",""))))+1,1)) | U25: =IF(OR('Start here'!$B$5="",UPPER(SUBSTITUTE('Start here'!$B$6," ",""))=""),"",MID(UPPER(SUBSTITUTE('Start here'!$B$6," ","")),MOD(DATE(2026,6,11)-'Start here'!$B$5,LEN(UPPER(SUBSTITUTE('Start here'!$B$6," ",""))))+1,1)) | V25: =IF(OR('Start here'!$B$5="",UPPER(SUBSTITUTE('Start here'!$B$6," ",""))=""),"",MID(UPPER(SUBSTITUTE('Start here'!$B$6," ","")),MOD(DATE(2026,6,12)-'Start here'!$B$5,LEN(UPPER(SUBSTITUTE('Start here'!$B$6," ",""))))+1,1)) | W25: =IF(OR('Start here'!$B$5="",UPPER(SUBSTITUTE('Start here'!$B$6," ",""))=""),"",MID(UPPER(SUBSTITUTE('Start here'!$B$6," ","")),MOD(DATE(2026,6,13)-'Start here'!$B$5,LEN(UPPER(SUBSTITUTE('Start here'!$B$6," ",""))))+1,1))
A26: 12 | B26: 13 | C26: 14 | D26: 15 | E26: 16 | F26: 17 | G26: 18 | I26: 10 | J26: 11 | K26: 12 | L26: 13 | M26: 14 | N26: 15 | O26: 16 | Q26: 14 | R26: 15 | S26: 16 | T26: 17 | U26: 18 | V26: 19 | W26: 20
A27: =IF(OR('Start here'!$B$5="",UPPER(SUBSTITUTE('Start here'!$B$6," ",""))=""),"",MID(UPPER(SUBSTITUTE('Start here'!$B$6," ","")),MOD(DATE(2026,4,12)-'Start here'!$B$5,LEN(UPPER(SUBSTITUTE('Start here'!$B$6," ",""))))+1,1)) | B27: =IF(OR('Start here'!$B$5="",UPPER(SUBSTITUTE('Start here'!$B$6," ",""))=""),"",MID(UPPER(SUBSTITUTE('Start here'!$B$6," ","")),MOD(DATE(2026,4,13)-'Start here'!$B$5,LEN(UPPER(SUBSTITUTE('Start here'!$B$6," ",""))))+1,1)) | C27: =IF(OR('Start here'!$B$5="",UPPER(SUBSTITUTE('Start here'!$B$6," ",""))=""),"",MID(UPPER(SUBSTITUTE('Start here'!$B$6," ","")),MOD(DATE(2026,4,14)-'Start here'!$B$5,LEN(UPPER(SUBSTITUTE('Start here'!$B$6," ",""))))+1,1)) | D27: =IF(OR('Start here'!$B$5="",UPPER(SUBSTITUTE('Start here'!$B$6," ",""))=""),"",MID(UPPER(SUBSTITUTE('Start here'!$B$6," ","")),MOD(DATE(2026,4,15)-'Start here'!$B$5,LEN(UPPER(SUBSTITUTE('Start here'!$B$6," ",""))))+1,1)) | E27: =IF(OR('Start here'!$B$5="",UPPER(SUBSTITUTE('Start here'!$B$6," ",""))=""),"",MID(UPPER(SUBSTITUTE('Start here'!$B$6," ","")),MOD(DATE(2026,4,16)-'Start here'!$B$5,LEN(UPPER(SUBSTITUTE('Start here'!$B$6," ",""))))+1,1)) | F27: =IF(OR('Start here'!$B$5="",UPPER(SUBSTITUTE('Start here'!$B$6," ",""))=""),"",MID(UPPER(SUBSTITUTE('Start here'!$B$6," ","")),MOD(DATE(2026,4,17)-'Start here'!$B$5,LEN(UPPER(SUBSTITUTE('Start here'!$B$6," ",""))))+1,1)) | G27: =IF(OR('Start here'!$B$5="",UPPER(SUBSTITUTE('Start here'!$B$6," ",""))=""),"",MID(UPPER(SUBSTITUTE('Start here'!$B$6," ","")),MOD(DATE(2026,4,18)-'Start here'!$B$5,LEN(UPPER(SUBSTITUTE('Start here'!$B$6," ",""))))+1,1)) | I27: =IF(OR('Start here'!$B$5="",UPPER(SUBSTITUTE('Start here'!$B$6," ",""))=""),"",MID(UPPER(SUBSTITUTE('Start here'!$B$6," ","")),MOD(DATE(2026,5,10)-'Start here'!$B$5,LEN(UPPER(SUBSTITUTE('Start here'!$B$6," ",""))))+1,1)) | J27: =IF(OR('Start here'!$B$5="",UPPER(SUBSTITUTE('Start here'!$B$6," ",""))=""),"",MID(UPPER(SUBSTITUTE('Start here'!$B$6," ","")),MOD(DATE(2026,5,11)-'Start here'!$B$5,LEN(UPPER(SUBSTITUTE('Start here'!$B$6," ",""))))+1,1)) | K27: =IF(OR('Start here'!$B$5="",UPPER(SUBSTITUTE('Start here'!$B$6," ",""))=""),"",MID(UPPER(SUBSTITUTE('Start here'!$B$6," ","")),MOD(DATE(2026,5,12)-'Start here'!$B$5,LEN(UPPER(SUBSTITUTE('Start here'!$B$6," ",""))))+1,1)) | L27: =IF(OR('Start here'!$B$5="",UPPER(SUBSTITUTE('Start here'!$B$6," ",""))=""),"",MID(UPPER(SUBSTITUTE('Start here'!$B$6," ","")),MOD(DATE(2026,5,13)-'Start here'!$B$5,LEN(UPPER(SUBSTITUTE('Start here'!$B$6," ",""))))+1,1)) | M27: =IF(OR('Start here'!$B$5="",UPPER(SUBSTITUTE('Start here'!$B$6," ",""))=""),"",MID(UPPER(SUBSTITUTE('Start here'!$B$6," ","")),MOD(DATE(2026,5,14)-'Start here'!$B$5,LEN(UPPER(SUBSTITUTE('Start here'!$B$6," ",""))))+1,1)) | N27: =IF(OR('Start here'!$B$5="",UPPER(SUBSTITUTE('Start here'!$B$6," ",""))=""),"",MID(UPPER(SUBSTITUTE('Start here'!$B$6," ","")),MOD(DATE(2026,5,15)-'Start here'!$B$5,LEN(UPPER(SUBSTITUTE('Start here'!$B$6," ",""))))+1,1)) | O27: =IF(OR('Start here'!$B$5="",UPPER(SUBSTITUTE('Start here'!$B$6," ",""))=""),"",MID(UPPER(SUBSTITUTE('Start here'!$B$6," ","")),MOD(DATE(2026,5,16)-'Start here'!$B$5,LEN(UPPER(SUBSTITUTE('Start here'!$B$6," ",""))))+1,1)) | Q27: =IF(OR('Start here'!$B$5="",UPPER(SUBSTITUTE('Start here'!$B$6," ",""))=""),"",MID(UPPER(SUBSTITUTE('Start here'!$B$6," ","")),MOD(DATE(2026,6,14)-'Start here'!$B$5,LEN(UPPER(SUBSTITUTE('Start here'!$B$6," ",""))))+1,1)) | R27: =IF(OR('Start here'!$B$5="",UPPER(SUBSTITUTE('Start here'!$B$6," ",""))=""),"",MID(UPPER(SUBSTITUTE('Start here'!$B$6," ","")),MOD(DATE(2026,6,15)-'Start here'!$B$5,LEN(UPPER(SUBSTITUTE('Start here'!$B$6," ",""))))+1,1)) | S27: =IF(OR('Start here'!$B$5="",UPPER(SUBSTITUTE('Start here'!$B$6," ",""))=""),"",MID(UPPER(SUBSTITUTE('Start here'!$B$6," ","")),MOD(DATE(2026,6,16)-'Start here'!$B$5,LEN(UPPER(SUBSTITUTE('Start here'!$B$6," ",""))))+1,1)) | T27: =IF(OR('Start here'!$B$5="",UPPER(SUBSTITUTE('Start here'!$B$6," ",""))=""),"",MID(UPPER(SUBSTITUTE('Start here'!$B$6," ","")),MOD(DATE(2026,6,17)-'Start here'!$B$5,LEN(UPPER(SUBSTITUTE('Start here'!$B$6," ",""))))+1,1)) | U27: =IF(OR('Start here'!$B$5="",UPPER(SUBSTITUTE('Start here'!$B$6," ",""))=""),"",MID(UPPER(SUBSTITUTE('Start here'!$B$6," ","")),MOD(DATE(2026,6,18)-'Start here'!$B$5,LEN(UPPER(SUBSTITUTE('Start here'!$B$6," ",""))))+1,1)) | V27: =IF(OR('Start here'!$B$5="",UPPER(SUBSTITUTE('Start here'!$B$6," ",""))=""),"",MID(UPPER(SUBSTITUTE('Start here'!$B$6," ","")),MOD(DATE(2026,6,19)-'Start here'!$B$5,LEN(UPPER(SUBSTITUTE('Start here'!$B$6," ",""))))+1,1)) | W27: =IF(OR('Start here'!$B$5="",UPPER(SUBSTITUTE('Start here'!$B$6," ",""))=""),"",MID(UPPER(SUBSTITUTE('Start here'!$B$6," ","")),MOD(DATE(2026,6,20)-'Start here'!$B$5,LEN(UPPER(SUBSTITUTE('Start here'!$B$6," ",""))))+1,1))
A28: 19 | B28: 20 | C28: 21 | D28: 22 | E28: 23 | F28: 24 | G28: 25 | I28: 17 | J28: 18 | K28: 19 | L28: 20 | M28: 21 | N28: 22 | O28: 23 | Q28: 21 | R28: 22 | S28: 23 | T28: 24 | U28: 25 | V28: 26 | W28: 27
A29: =IF(OR('Start here'!$B$5="",UPPER(SUBSTITUTE('Start here'!$B$6," ",""))=""),"",MID(UPPER(SUBSTITUTE('Start here'!$B$6," ","")),MOD(DATE(2026,4,19)-'Start here'!$B$5,LEN(UPPER(SUBSTITUTE('Start here'!$B$6," ",""))))+1,1)) | B29: =IF(OR('Start here'!$B$5="",UPPER(SUBSTITUTE('Start here'!$B$6," ",""))=""),"",MID(UPPER(SUBSTITUTE('Start here'!$B$6," ","")),MOD(DATE(2026,4,20)-'Start here'!$B$5,LEN(UPPER(SUBSTITUTE('Start here'!$B$6," ",""))))+1,1)) | C29: =IF(OR('Start here'!$B$5="",UPPER(SUBSTITUTE('Start here'!$B$6," ",""))=""),"",MID(UPPER(SUBSTITUTE('Start here'!$B$6," ","")),MOD(DATE(2026,4,21)-'Start here'!$B$5,LEN(UPPER(SUBSTITUTE('Start here'!$B$6," ",""))))+1,1)) | D29: =IF(OR('Start here'!$B$5="",UPPER(SUBSTITUTE('Start here'!$B$6," ",""))=""),"",MID(UPPER(SUBSTITUTE('Start here'!$B$6," ","")),MOD(DATE(2026,4,22)-'Start here'!$B$5,LEN(UPPER(SUBSTITUTE('Start here'!$B$6," ",""))))+1,1)) | E29: =IF(OR('Start here'!$B$5="",UPPER(SUBSTITUTE('Start here'!$B$6," ",""))=""),"",MID(UPPER(SUBSTITUTE('Start here'!$B$6," ","")),MOD(DATE(2026,4,23)-'Start here'!$B$5,LEN(UPPER(SUBSTITUTE('Start here'!$B$6," ",""))))+1,1)) | F29: =IF(OR('Start here'!$B$5="",UPPER(SUBSTITUTE('Start here'!$B$6," ",""))=""),"",MID(UPPER(SUBSTITUTE('Start here'!$B$6," ","")),MOD(DATE(2026,4,24)-'Start here'!$B$5,LEN(UPPER(SUBSTITUTE('Start here'!$B$6," ",""))))+1,1)) | G29: =IF(OR('Start here'!$B$5="",UPPER(SUBSTITUTE('Start here'!$B$6," ",""))=""),"",MID(UPPER(SUBSTITUTE('Start here'!$B$6," ","")),MOD(DATE(2026,4,25)-'Start here'!$B$5,LEN(UPPER(SUBSTITUTE('Start here'!$B$6," ",""))))+1,1)) | I29: =IF(OR('Start here'!$B$5="",UPPER(SUBSTITUTE('Start here'!$B$6," ",""))=""),"",MID(UPPER(SUBSTITUTE('Start here'!$B$6," ","")),MOD(DATE(2026,5,17)-'Start here'!$B$5,LEN(UPPER(SUBSTITUTE('Start here'!$B$6," ",""))))+1,1)) | J29: =IF(OR('Start here'!$B$5="",UPPER(SUBSTITUTE('Start here'!$B$6," ",""))=""),"",MID(UPPER(SUBSTITUTE('Start here'!$B$6," ","")),MOD(DATE(2026,5,18)-'Start here'!$B$5,LEN(UPPER(SUBSTITUTE('Start here'!$B$6," ",""))))+1,1)) | K29: =IF(OR('Start here'!$B$5="",UPPER(SUBSTITUTE('Start here'!$B$6," ",""))=""),"",MID(UPPER(SUBSTITUTE('Start here'!$B$6," ","")),MOD(DATE(2026,5,19)-'Start here'!$B$5,LEN(UPPER(SUBSTITUTE('Start here'!$B$6," ",""))))+1,1)) | L29: =IF(OR('Start here'!$B$5="",UPPER(SUBSTITUTE('Start here'!$B$6," ",""))=""),"",MID(UPPER(SUBSTITUTE('Start here'!$B$6," ","")),MOD(DATE(2026,5,20)-'Start here'!$B$5,LEN(UPPER(SUBSTITUTE('Start here'!$B$6," ",""))))+1,1)) | M29: =IF(OR('Start here'!$B$5="",UPPER(SUBSTITUTE('Start here'!$B$6," ",""))=""),"",MID(UPPER(SUBSTITUTE('Start here'!$B$6," ","")),MOD(DATE(2026,5,21)-'Start here'!$B$5,LEN(UPPER(SUBSTITUTE('Start here'!$B$6," ",""))))+1,1)) | N29: =IF(OR('Start here'!$B$5="",UPPER(SUBSTITUTE('Start here'!$B$6," ",""))=""),"",MID(UPPER(SUBSTITUTE('Start here'!$B$6," ","")),MOD(DATE(2026,5,22)-'Start here'!$B$5,LEN(UPPER(SUBSTITUTE('Start here'!$B$6," ",""))))+1,1)) | O29: =IF(OR('Start here'!$B$5="",UPPER(SUBSTITUTE('Start here'!$B$6," ",""))=""),"",MID(UPPER(SUBSTITUTE('Start here'!$B$6," ","")),MOD(DATE(2026,5,23)-'Start here'!$B$5,LEN(UPPER(SUBSTITUTE('Start here'!$B$6," ",""))))+1,1)) | Q29: =IF(OR('Start here'!$B$5="",UPPER(SUBSTITUTE('Start here'!$B$6," ",""))=""),"",MID(UPPER(SUBSTITUTE('Start here'!$B$6," ","")),MOD(DATE(2026,6,21)-'Start here'!$B$5,LEN(UPPER(SUBSTITUTE('Start here'!$B$6," ",""))))+1,1)) | R29: =IF(OR('Start here'!$B$5="",UPPER(SUBSTITUTE('Start here'!$B$6," ",""))=""),"",MID(UPPER(SUBSTITUTE('Start here'!$B$6," ","")),MOD(DATE(2026,6,22)-'Start here'!$B$5,LEN(UPPER(SUBSTITUTE('Start here'!$B$6," ",""))))+1,1)) | S29: =IF(OR('Start here'!$B$5="",UPPER(SUBSTITUTE('Start here'!$B$6," ",""))=""),"",MID(UPPER(SUBSTITUTE('Start here'!$B$6," ","")),MOD(DATE(2026,6,23)-'Start here'!$B$5,LEN(UPPER(SUBSTITUTE('Start here'!$B$6," ",""))))+1,1)) | T29: =IF(OR('Start here'!$B$5="",UPPER(SUBSTITUTE('Start here'!$B$6," ",""))=""),"",MID(UPPER(SUBSTITUTE('Start here'!$B$6," ","")),MOD(DATE(2026,6,24)-'Start here'!$B$5,LEN(UPPER(SUBSTITUTE('Start here'!$B$6," ",""))))+1,1)) | U29: =IF(OR('Start here'!$B$5="",UPPER(SUBSTITUTE('Start here'!$B$6," ",""))=""),"",MID(UPPER(SUBSTITUTE('Start here'!$B$6," ","")),MOD(DATE(2026,6,25)-'Start here'!$B$5,LEN(UPPER(SUBSTITUTE('Start here'!$B$6," ",""))))+1,1)) | V29: =IF(OR('Start here'!$B$5="",UPPER(SUBSTITUTE('Start here'!$B$6," ",""))=""),"",MID(UPPER(SUBSTITUTE('Start here'!$B$6," ","")),MOD(DATE(2026,6,26)-'Start here'!$B$5,LEN(UPPER(SUBSTITUTE('Start here'!$B$6," ",""))))+1,1)) | W29: =IF(OR('Start here'!$B$5="",UPPER(SUBSTITUTE('Start here'!$B$6," ",""))=""),"",MID(UPPER(SUBSTITUTE('Start here'!$B$6," ","")),MOD(DATE(2026,6,27)-'Start here'!$B$5,LEN(UPPER(SUBSTITUTE('Start here'!$B$6," ",""))))+1,1))
A30: 26 | B30: 27 | C30: 28 | D30: 29 | E30: 30 | I30: 24 | J30: 25 | K30: 26 | L30: 27 | M30: 28 | N30: 29 | O30: 30 | Q30: 28 | R30: 29 | S30: 30
A31: =IF(OR('Start here'!$B$5="",UPPER(SUBSTITUTE('Start here'!$B$6," ",""))=""),"",MID(UPPER(SUBSTITUTE('Start here'!$B$6," ","")),MOD(DATE(2026,4,26)-'Start here'!$B$5,LEN(UPPER(SUBSTITUTE('Start here'!$B$6," ",""))))+1,1)) | B31: =IF(OR('Start here'!$B$5="",UPPER(SUBSTITUTE('Start here'!$B$6," ",""))=""),"",MID(UPPER(SUBSTITUTE('Start here'!$B$6," ","")),MOD(DATE(2026,4,27)-'Start here'!$B$5,LEN(UPPER(SUBSTITUTE('Start here'!$B$6," ",""))))+1,1)) | C31: =IF(OR('Start here'!$B$5="",UPPER(SUBSTITUTE('Start here'!$B$6," ",""))=""),"",MID(UPPER(SUBSTITUTE('Start here'!$B$6," ","")),MOD(DATE(2026,4,28)-'Start here'!$B$5,LEN(UPPER(SUBSTITUTE('Start here'!$B$6," ",""))))+1,1)) | D31: =IF(OR('Start here'!$B$5="",UPPER(SUBSTITUTE('Start here'!$B$6," ",""))=""),"",MID(UPPER(SUBSTITUTE('Start here'!$B$6," ","")),MOD(DATE(2026,4,29)-'Start here'!$B$5,LEN(UPPER(SUBSTITUTE('Start here'!$B$6," ",""))))+1,1)) | E31: =IF(OR('Start here'!$B$5="",UPPER(SUBSTITUTE('Start here'!$B$6," ",""))=""),"",MID(UPPER(SUBSTITUTE('Start here'!$B$6," ","")),MOD(DATE(2026,4,30)-'Start here'!$B$5,LEN(UPPER(SUBSTITUTE('Start here'!$B$6," ",""))))+1,1)) | I31: =IF(OR('Start here'!$B$5="",UPPER(SUBSTITUTE('Start here'!$B$6," ",""))=""),"",MID(UPPER(SUBSTITUTE('Start here'!$B$6," ","")),MOD(DATE(2026,5,24)-'Start here'!$B$5,LEN(UPPER(SUBSTITUTE('Start here'!$B$6," ",""))))+1,1)) | J31: =IF(OR('Start here'!$B$5="",UPPER(SUBSTITUTE('Start here'!$B$6," ",""))=""),"",MID(UPPER(SUBSTITUTE('Start here'!$B$6," ","")),MOD(DATE(2026,5,25)-'Start here'!$B$5,LEN(UPPER(SUBSTITUTE('Start here'!$B$6," ",""))))+1,1)) | K31: =IF(OR('Start here'!$B$5="",UPPER(SUBSTITUTE('Start here'!$B$6," ",""))=""),"",MID(UPPER(SUBSTITUTE('Start here'!$B$6," ","")),MOD(DATE(2026,5,26)-'Start here'!$B$5,LEN(UPPER(SUBSTITUTE('Start here'!$B$6," ",""))))+1,1)) | L31: =IF(OR('Start here'!$B$5="",UPPER(SUBSTITUTE('Start here'!$B$6," ",""))=""),"",MID(UPPER(SUBSTITUTE('Start here'!$B$6," ","")),MOD(DATE(2026,5,27)-'Start here'!$B$5,LEN(UPPER(SUBSTITUTE('Start here'!$B$6," ",""))))+1,1)) | M31: =IF(OR('Start here'!$B$5="",UPPER(SUBSTITUTE('Start here'!$B$6," ",""))=""),"",MID(UPPER(SUBSTITUTE('Start here'!$B$6," ","")),MOD(DATE(2026,5,28)-'Start here'!$B$5,LEN(UPPER(SUBSTITUTE('Start here'!$B$6," ",""))))+1,1)) | N31: =IF(OR('Start here'!$B$5="",UPPER(SUBSTITUTE('Start here'!$B$6," ",""))=""),"",MID(UPPER(SUBSTITUTE('Start here'!$B$6," ","")),MOD(DATE(2026,5,29)-'Start here'!$B$5,LEN(UPPER(SUBSTITUTE('Start here'!$B$6," ",""))))+1,1)) | O31: =IF(OR('Start here'!$B$5="",UPPER(SUBSTITUTE('Start here'!$B$6," ",""))=""),"",MID(UPPER(SUBSTITUTE('Start here'!$B$6," ","")),MOD(DATE(2026,5,30)-'Start here'!$B$5,LEN(UPPER(SUBSTITUTE('Start here'!$B$6," ",""))))+1,1)) | Q31: =IF(OR('Start here'!$B$5="",UPPER(SUBSTITUTE('Start here'!$B$6," ",""))=""),"",MID(UPPER(SUBSTITUTE('Start here'!$B$6," ","")),MOD(DATE(2026,6,28)-'Start here'!$B$5,LEN(UPPER(SUBSTITUTE('Start here'!$B$6," ",""))))+1,1)) | R31: =IF(OR('Start here'!$B$5="",UPPER(SUBSTITUTE('Start here'!$B$6," ",""))=""),"",MID(UPPER(SUBSTITUTE('Start here'!$B$6," ","")),MOD(DATE(2026,6,29)-'Start here'!$B$5,LEN(UPPER(SUBSTITUTE('Start here'!$B$6," ",""))))+1,1)) | S31: =IF(OR('Start here'!$B$5="",UPPER(SUBSTITUTE('Start here'!$B$6," ",""))=""),"",MID(UPPER(SUBSTITUTE('Start here'!$B$6," ","")),MOD(DATE(2026,6,30)-'Start here'!$B$5,LEN(UPPER(SUBSTITUTE('Start here'!$B$6," ",""))))+1,1))
I32: 31
I33: =IF(OR('Start here'!$B$5="",UPPER(SUBSTITUTE('Start here'!$B$6," ",""))=""),"",MID(UPPER(SUBSTITUTE('Start here'!$B$6," ","")),MOD(DATE(2026,5,31)-'Start here'!$B$5,LEN(UPPER(SUBSTITUTE('Start here'!$B$6," ",""))))+1,1))
A34: Nights A | C34: =COUNTIF(A23:G33,"A") | E34: B | F34: =COUNTIF(A23:G33,"B") | I34: Nights A | K34: =COUNTIF(I23:O33,"A") | M34: B | N34: =COUNTIF(I23:O33,"B") | Q34: Nights A | S34: =COUNTIF(Q23:W33,"A") | U34: B | V34: =COUNTIF(Q23:W33,"B")
A36: July 2026 | I36: August 2026 | Q36: September 2026
A37: S | B37: M | C37: T | D37: W | E37: T | F37: F | G37: S | I37: S | J37: M | K37: T | L37: W | M37: T | N37: F | O37: S | Q37: S | R37: M | S37: T | T37: W | U37: T | V37: F | W37: S
D38: 1 | E38: 2 | F38: 3 | G38: 4 | O38: 1 | S38: 1 | T38: 2 | U38: 3 | V38: 4 | W38: 5
D39: =IF(OR('Start here'!$B$5="",UPPER(SUBSTITUTE('Start here'!$B$6," ",""))=""),"",MID(UPPER(SUBSTITUTE('Start here'!$B$6," ","")),MOD(DATE(2026,7,1)-'Start here'!$B$5,LEN(UPPER(SUBSTITUTE('Start here'!$B$6," ",""))))+1,1)) | E39: =IF(OR('Start here'!$B$5="",UPPER(SUBSTITUTE('Start here'!$B$6," ",""))=""),"",MID(UPPER(SUBSTITUTE('Start here'!$B$6," ","")),MOD(DATE(2026,7,2)-'Start here'!$B$5,LEN(UPPER(SUBSTITUTE('Start here'!$B$6," ",""))))+1,1)) | F39: =IF(OR('Start here'!$B$5="",UPPER(SUBSTITUTE('Start here'!$B$6," ",""))=""),"",MID(UPPER(SUBSTITUTE('Start here'!$B$6," ","")),MOD(DATE(2026,7,3)-'Start here'!$B$5,LEN(UPPER(SUBSTITUTE('Start here'!$B$6," ",""))))+1,1)) | G39: =IF(OR('Start here'!$B$5="",UPPER(SUBSTITUTE('Start here'!$B$6," ",""))=""),"",MID(UPPER(SUBSTITUTE('Start here'!$B$6," ","")),MOD(DATE(2026,7,4)-'Start here'!$B$5,LEN(UPPER(SUBSTITUTE('Start here'!$B$6," ",""))))+1,1)) | O39: =IF(OR('Start here'!$B$5="",UPPER(SUBSTITUTE('Start here'!$B$6," ",""))=""),"",MID(UPPER(SUBSTITUTE('Start here'!$B$6," ","")),MOD(DATE(2026,8,1)-'Start here'!$B$5,LEN(UPPER(SUBSTITUTE('Start here'!$B$6," ",""))))+1,1)) | S39: =IF(OR('Start here'!$B$5="",UPPER(SUBSTITUTE('Start here'!$B$6," ",""))=""),"",MID(UPPER(SUBSTITUTE('Start here'!$B$6," ","")),MOD(DATE(2026,9,1)-'Start here'!$B$5,LEN(UPPER(SUBSTITUTE('Start here'!$B$6," ",""))))+1,1)) | T39: =IF(OR('Start here'!$B$5="",UPPER(SUBSTITUTE('Start here'!$B$6," ",""))=""),"",MID(UPPER(SUBSTITUTE('Start here'!$B$6," ","")),MOD(DATE(2026,9,2)-'Start here'!$B$5,LEN(UPPER(SUBSTITUTE('Start here'!$B$6," ",""))))+1,1)) | U39: =IF(OR('Start here'!$B$5="",UPPER(SUBSTITUTE('Start here'!$B$6," ",""))=""),"",MID(UPPER(SUBSTITUTE('Start here'!$B$6," ","")),MOD(DATE(2026,9,3)-'Start here'!$B$5,LEN(UPPER(SUBSTITUTE('Start here'!$B$6," ",""))))+1,1)) | V39: =IF(OR('Start here'!$B$5="",UPPER(SUBSTITUTE('Start here'!$B$6," ",""))=""),"",MID(UPPER(SUBSTITUTE('Start here'!$B$6," ","")),MOD(DATE(2026,9,4)-'Start here'!$B$5,LEN(UPPER(SUBSTITUTE('Start here'!$B$6," ",""))))+1,1)) | W39: =IF(OR('Start here'!$B$5="",UPPER(SUBSTITUTE('Start here'!$B$6," ",""))=""),"",MID(UPPER(SUBSTITUTE('Start here'!$B$6," ","")),MOD(DATE(2026,9,5)-'Start here'!$B$5,LEN(UPPER(SUBSTITUTE('Start here'!$B$6," ",""))))+1,1))
A40: 5 | B40: 6 | C40: 7 | D40: 8 | E40: 9 | F40: 10 | G40: 11 | I40: 2 | J40: 3 | K40: 4 | L40: 5 | M40: 6 | N40: 7 | O40: 8 | Q40: 6 | R40: 7 | S40: 8 | T40: 9 | U40: 10 | V40: 11 | W40: 12
A41: =IF(OR('Start here'!$B$5="",UPPER(SUBSTITUTE('Start here'!$B$6," ",""))=""),"",MID(UPPER(SUBSTITUTE('Start here'!$B$6," ","")),MOD(DATE(2026,7,5)-'Start here'!$B$5,LEN(UPPER(SUBSTITUTE('Start here'!$B$6," ",""))))+1,1)) | B41: =IF(OR('Start here'!$B$5="",UPPER(SUBSTITUTE('Start here'!$B$6," ",""))=""),"",MID(UPPER(SUBSTITUTE('Start here'!$B$6," ","")),MOD(DATE(2026,7,6)-'Start here'!$B$5,LEN(UPPER(SUBSTITUTE('Start here'!$B$6," ",""))))+1,1)) | C41: =IF(OR('Start here'!$B$5="",UPPER(SUBSTITUTE('Start here'!$B$6," ",""))=""),"",MID(UPPER(SUBSTITUTE('Start here'!$B$6," ","")),MOD(DATE(2026,7,7)-'Start here'!$B$5,LEN(UPPER(SUBSTITUTE('Start here'!$B$6," ",""))))+1,1)) | D41: =IF(OR('Start here'!$B$5="",UPPER(SUBSTITUTE('Start here'!$B$6," ",""))=""),"",MID(UPPER(SUBSTITUTE('Start here'!$B$6," ","")),MOD(DATE(2026,7,8)-'Start here'!$B$5,LEN(UPPER(SUBSTITUTE('Start here'!$B$6," ",""))))+1,1)) | E41: =IF(OR('Start here'!$B$5="",UPPER(SUBSTITUTE('Start here'!$B$6," ",""))=""),"",MID(UPPER(SUBSTITUTE('Start here'!$B$6," ","")),MOD(DATE(2026,7,9)-'Start here'!$B$5,LEN(UPPER(SUBSTITUTE('Start here'!$B$6," ",""))))+1,1)) | F41: =IF(OR('Start here'!$B$5="",UPPER(SUBSTITUTE('Start here'!$B$6," ",""))=""),"",MID(UPPER(SUBSTITUTE('Start here'!$B$6," ","")),MOD(DATE(2026,7,10)-'Start here'!$B$5,LEN(UPPER(SUBSTITUTE('Start here'!$B$6," ",""))))+1,1)) | G41: =IF(OR('Start here'!$B$5="",UPPER(SUBSTITUTE('Start here'!$B$6," ",""))=""),"",MID(UPPER(SUBSTITUTE('Start here'!$B$6," ","")),MOD(DATE(2026,7,11)-'Start here'!$B$5,LEN(UPPER(SUBSTITUTE('Start here'!$B$6," ",""))))+1,1)) | I41: =IF(OR('Start here'!$B$5="",UPPER(SUBSTITUTE('Start here'!$B$6," ",""))=""),"",MID(UPPER(SUBSTITUTE('Start here'!$B$6," ","")),MOD(DATE(2026,8,2)-'Start here'!$B$5,LEN(UPPER(SUBSTITUTE('Start here'!$B$6," ",""))))+1,1)) | J41: =IF(OR('Start here'!$B$5="",UPPER(SUBSTITUTE('Start here'!$B$6," ",""))=""),"",MID(UPPER(SUBSTITUTE('Start here'!$B$6," ","")),MOD(DATE(2026,8,3)-'Start here'!$B$5,LEN(UPPER(SUBSTITUTE('Start here'!$B$6," ",""))))+1,1)) | K41: =IF(OR('Start here'!$B$5="",UPPER(SUBSTITUTE('Start here'!$B$6," ",""))=""),"",MID(UPPER(SUBSTITUTE('Start here'!$B$6," ","")),MOD(DATE(2026,8,4)-'Start here'!$B$5,LEN(UPPER(SUBSTITUTE('Start here'!$B$6," ",""))))+1,1)) | L41: =IF(OR('Start here'!$B$5="",UPPER(SUBSTITUTE('Start here'!$B$6," ",""))=""),"",MID(UPPER(SUBSTITUTE('Start here'!$B$6," ","")),MOD(DATE(2026,8,5)-'Start here'!$B$5,LEN(UPPER(SUBSTITUTE('Start here'!$B$6," ",""))))+1,1)) | M41: =IF(OR('Start here'!$B$5="",UPPER(SUBSTITUTE('Start here'!$B$6," ",""))=""),"",MID(UPPER(SUBSTITUTE('Start here'!$B$6," ","")),MOD(DATE(2026,8,6)-'Start here'!$B$5,LEN(UPPER(SUBSTITUTE('Start here'!$B$6," ",""))))+1,1)) | N41: =IF(OR('Start here'!$B$5="",UPPER(SUBSTITUTE('Start here'!$B$6," ",""))=""),"",MID(UPPER(SUBSTITUTE('Start here'!$B$6," ","")),MOD(DATE(2026,8,7)-'Start here'!$B$5,LEN(UPPER(SUBSTITUTE('Start here'!$B$6," ",""))))+1,1)) | O41: =IF(OR('Start here'!$B$5="",UPPER(SUBSTITUTE('Start here'!$B$6," ",""))=""),"",MID(UPPER(SUBSTITUTE('Start here'!$B$6," ","")),MOD(DATE(2026,8,8)-'Start here'!$B$5,LEN(UPPER(SUBSTITUTE('Start here'!$B$6," ",""))))+1,1)) | Q41: =IF(OR('Start here'!$B$5="",UPPER(SUBSTITUTE('Start here'!$B$6," ",""))=""),"",MID(UPPER(SUBSTITUTE('Start here'!$B$6," ","")),MOD(DATE(2026,9,6)-'Start here'!$B$5,LEN(UPPER(SUBSTITUTE('Start here'!$B$6," ",""))))+1,1)) | R41: =IF(OR('Start here'!$B$5="",UPPER(SUBSTITUTE('Start here'!$B$6," ",""))=""),"",MID(UPPER(SUBSTITUTE('Start here'!$B$6," ","")),MOD(DATE(2026,9,7)-'Start here'!$B$5,LEN(UPPER(SUBSTITUTE('Start here'!$B$6," ",""))))+1,1)) | S41: =IF(OR('Start here'!$B$5="",UPPER(SUBSTITUTE('Start here'!$B$6," ",""))=""),"",MID(UPPER(SUBSTITUTE('Start here'!$B$6," ","")),MOD(DATE(2026,9,8)-'Start here'!$B$5,LEN(UPPER(SUBSTITUTE('Start here'!$B$6," ",""))))+1,1)) | T41: =IF(OR('Start here'!$B$5="",UPPER(SUBSTITUTE('Start here'!$B$6," ",""))=""),"",MID(UPPER(SUBSTITUTE('Start here'!$B$6," ","")),MOD(DATE(2026,9,9)-'Start here'!$B$5,LEN(UPPER(SUBSTITUTE('Start here'!$B$6," ",""))))+1,1)) | U41: =IF(OR('Start here'!$B$5="",UPPER(SUBSTITUTE('Start here'!$B$6," ",""))=""),"",MID(UPPER(SUBSTITUTE('Start here'!$B$6," ","")),MOD(DATE(2026,9,10)-'Start here'!$B$5,LEN(UPPER(SUBSTITUTE('Start here'!$B$6," ",""))))+1,1)) | V41: =IF(OR('Start here'!$B$5="",UPPER(SUBSTITUTE('Start here'!$B$6," ",""))=""),"",MID(UPPER(SUBSTITUTE('Start here'!$B$6," ","")),MOD(DATE(2026,9,11)-'Start here'!$B$5,LEN(UPPER(SUBSTITUTE('Start here'!$B$6," ",""))))+1,1)) | W41: =IF(OR('Start here'!$B$5="",UPPER(SUBSTITUTE('Start here'!$B$6," ",""))=""),"",MID(UPPER(SUBSTITUTE('Start here'!$B$6," ","")),MOD(DATE(2026,9,12)-'Start here'!$B$5,LEN(UPPER(SUBSTITUTE('Start here'!$B$6," ",""))))+1,1))
A42: 12 | B42: 13 | C42: 14 | D42: 15 | E42: 16 | F42: 17 | G42: 18 | I42: 9 | J42: 10 | K42: 11 | L42: 12 | M42: 13 | N42: 14 | O42: 15 | Q42: 13 | R42: 14 | S42: 15 | T42: 16 | U42: 17 | V42: 18 | W42: 19
