Workbook

Sheet Start here
A1: Every Other Weekend Custody Calendar 2026–2027
A2: An every other weekend custody calendar for 2026 and 2027, already filled in from an example start date. Each letter is the parent the child sleeps at that night. Set your own start date, the nights that make up a weekend, and who is A or B in the spreadsheet, and follow your own order or agreement.
A3: A 14-night cycle where B has Friday and Saturday night every second weekend and A has the other 12 nights. If a weekend in your order includes Sunday night, change the pattern to AAAABBBAAAAAAA in the spreadsheet; add any midweek overnights the same way.
A5: Cycle start date (night 1) | B5: 46027 | C5: Example date. Type your own (a real date, e.g. 3/2/2026).
A6: Pattern (one letter per night) | B6: AAAABBAAAAAAAA | C6: A or B for each night from the start date; it repeats. Spaces are ignored.
A7: A = | C7: Type the parent’s name (orange)
A8: B = | C8: Type the parent’s name (blue)
A9: Exchange day, time and place
A10: Holidays and school breaks
A11: Agreed swaps (date agreed)
A13: First 14 nights from the start date
A14: =IF($B$5="","",TEXT($B$5+0,"ddd mmm d")) | B14: =IF($B$5="","",TEXT($B$5+1,"ddd mmm d")) | C14: =IF($B$5="","",TEXT($B$5+2,"ddd mmm d")) | D14: =IF($B$5="","",TEXT($B$5+3,"ddd mmm d")) | E14: =IF($B$5="","",TEXT($B$5+4,"ddd mmm d")) | F14: =IF($B$5="","",TEXT($B$5+5,"ddd mmm d")) | G14: =IF($B$5="","",TEXT($B$5+6,"ddd mmm d"))
A15: =IF(OR($B$5="",UPPER(SUBSTITUTE($B$6," ",""))=""),"",MID(UPPER(SUBSTITUTE($B$6," ","")),MOD(0,LEN(UPPER(SUBSTITUTE($B$6," ",""))))+1,1)) | B15: =IF(OR($B$5="",UPPER(SUBSTITUTE($B$6," ",""))=""),"",MID(UPPER(SUBSTITUTE($B$6," ","")),MOD(1,LEN(UPPER(SUBSTITUTE($B$6," ",""))))+1,1)) | C15: =IF(OR($B$5="",UPPER(SUBSTITUTE($B$6," ",""))=""),"",MID(UPPER(SUBSTITUTE($B$6," ","")),MOD(2,LEN(UPPER(SUBSTITUTE($B$6," ",""))))+1,1)) | D15: =IF(OR($B$5="",UPPER(SUBSTITUTE($B$6," ",""))=""),"",MID(UPPER(SUBSTITUTE($B$6," ","")),MOD(3,LEN(UPPER(SUBSTITUTE($B$6," ",""))))+1,1)) | E15: =IF(OR($B$5="",UPPER(SUBSTITUTE($B$6," ",""))=""),"",MID(UPPER(SUBSTITUTE($B$6," ","")),MOD(4,LEN(UPPER(SUBSTITUTE($B$6," ",""))))+1,1)) | F15: =IF(OR($B$5="",UPPER(SUBSTITUTE($B$6," ",""))=""),"",MID(UPPER(SUBSTITUTE($B$6," ","")),MOD(5,LEN(UPPER(SUBSTITUTE($B$6," ",""))))+1,1)) | G15: =IF(OR($B$5="",UPPER(SUBSTITUTE($B$6," ",""))=""),"",MID(UPPER(SUBSTITUTE($B$6," ","")),MOD(6,LEN(UPPER(SUBSTITUTE($B$6," ",""))))+1,1))
A16: =IF($B$5="","",TEXT($B$5+7,"ddd mmm d")) | B16: =IF($B$5="","",TEXT($B$5+8,"ddd mmm d")) | C16: =IF($B$5="","",TEXT($B$5+9,"ddd mmm d")) | D16: =IF($B$5="","",TEXT($B$5+10,"ddd mmm d")) | E16: =IF($B$5="","",TEXT($B$5+11,"ddd mmm d")) | F16: =IF($B$5="","",TEXT($B$5+12,"ddd mmm d")) | G16: =IF($B$5="","",TEXT($B$5+13,"ddd mmm d"))
A17: =IF(OR($B$5="",UPPER(SUBSTITUTE($B$6," ",""))=""),"",MID(UPPER(SUBSTITUTE($B$6," ","")),MOD(7,LEN(UPPER(SUBSTITUTE($B$6," ",""))))+1,1)) | B17: =IF(OR($B$5="",UPPER(SUBSTITUTE($B$6," ",""))=""),"",MID(UPPER(SUBSTITUTE($B$6," ","")),MOD(8,LEN(UPPER(SUBSTITUTE($B$6," ",""))))+1,1)) | C17: =IF(OR($B$5="",UPPER(SUBSTITUTE($B$6," ",""))=""),"",MID(UPPER(SUBSTITUTE($B$6," ","")),MOD(9,LEN(UPPER(SUBSTITUTE($B$6," ",""))))+1,1)) | D17: =IF(OR($B$5="",UPPER(SUBSTITUTE($B$6," ",""))=""),"",MID(UPPER(SUBSTITUTE($B$6," ","")),MOD(10,LEN(UPPER(SUBSTITUTE($B$6," ",""))))+1,1)) | E17: =IF(OR($B$5="",UPPER(SUBSTITUTE($B$6," ",""))=""),"",MID(UPPER(SUBSTITUTE($B$6," ","")),MOD(11,LEN(UPPER(SUBSTITUTE($B$6," ",""))))+1,1)) | F17: =IF(OR($B$5="",UPPER(SUBSTITUTE($B$6," ",""))=""),"",MID(UPPER(SUBSTITUTE($B$6," ","")),MOD(12,LEN(UPPER(SUBSTITUTE($B$6," ",""))))+1,1)) | G17: =IF(OR($B$5="",UPPER(SUBSTITUTE($B$6," ",""))=""),"",MID(UPPER(SUBSTITUTE($B$6," ","")),MOD(13,LEN(UPPER(SUBSTITUTE($B$6," ",""))))+1,1))
A19: Other patterns you can paste into the pattern cell (examples of how the letters work, not suggestions)
A20: 2-2-3 (cycle starts on a Monday) | B20: AABBAAABBAABBB
A21: Alternating weeks (7 and 7) | B21: AAAAAAABBBBBBB
A22: Every other weekend, Friday and Saturday nights (cycle starts on a Monday) | B22: AAAABBAAAAAAAA
A23: Every other weekend, Friday to Sunday nights (cycle starts on a Monday) | B23: AAAABBBAAAAAAA
A25: Read this first
A26: • This is an example. The letters start from the example start date shown on the key page. If your rotation starts on another date, or the other parent has the first stretch, use the spreadsheet: change the start date or swap the letters and every night re-fills.
A27: • Mark nights, not days: each letter is the parent the child sleeps at that night. How overnights are counted can differ by order or court.
A28: • Holidays, school breaks and agreed swaps usually change some nights. Write them on the key page or over the letter in the spreadsheet.
A29: • Your order, parenting plan or local rules control. This calendar doesn’t say which schedule to choose or how a court decides.
A31: General template for organizing your own information. It is not legal advice and not a court-approved form. Court rules and required forms vary by state and county, so check your court's local rules and self-help center.
A32: Blank version, other years and the free parenting time calculator: custodycommander.com/templates/custody-calendar-template/ and custodycommander.com/tools/parenting-time-calculator/.

Sheet 2026
A1: 2026 every other weekend custody calendar | Q1: 2026 nights A | S1: =C18+K18+S18+C34+K34+S34+C50+K50+S50+C66+K66+S66 | U1: Share A | W1: =IF(S1+S2=0,"",S1/(S1+S2))
A2: Filled in from the start date and pattern on the Start here sheet. To record a swap, type A or B over a night (that cell stops following the pattern). | Q2: 2026 nights B | S2: =F18+N18+V18+F34+N34+V34+F50+N50+V50+F66+N66+V66 | U2: Share B | W2: =IF(S1+S2=0,"",S2/(S1+S2))
A4: January 2026 | I4: February 2026 | Q4: March 2026
A5: S | B5: M | C5: T | D5: W | E5: T | F5: F | G5: S | I5: S | J5: M | K5: T | L5: W | M5: T | N5: F | O5: S | Q5: S | R5: M | S5: T | T5: W | U5: T | V5: F | W5: S
E6: 1 | F6: 2 | G6: 3 | I6: 1 | J6: 2 | K6: 3 | L6: 4 | M6: 5 | N6: 6 | O6: 7 | Q6: 1 | R6: 2 | S6: 3 | T6: 4 | U6: 5 | V6: 6 | W6: 7
E7: =IF(OR('Start here'!$B$5="",UPPER(SUBSTITUTE('Start here'!$B$6," ",""))=""),"",MID(UPPER(SUBSTITUTE('Start here'!$B$6," ","")),MOD(DATE(2026,1,1)-'Start here'!$B$5,LEN(UPPER(SUBSTITUTE('Start here'!$B$6," ",""))))+1,1)) | F7: =IF(OR('Start here'!$B$5="",UPPER(SUBSTITUTE('Start here'!$B$6," ",""))=""),"",MID(UPPER(SUBSTITUTE('Start here'!$B$6," ","")),MOD(DATE(2026,1,2)-'Start here'!$B$5,LEN(UPPER(SUBSTITUTE('Start here'!$B$6," ",""))))+1,1)) | G7: =IF(OR('Start here'!$B$5="",UPPER(SUBSTITUTE('Start here'!$B$6," ",""))=""),"",MID(UPPER(SUBSTITUTE('Start here'!$B$6," ","")),MOD(DATE(2026,1,3)-'Start here'!$B$5,LEN(UPPER(SUBSTITUTE('Start here'!$B$6," ",""))))+1,1)) | I7: =IF(OR('Start here'!$B$5="",UPPER(SUBSTITUTE('Start here'!$B$6," ",""))=""),"",MID(UPPER(SUBSTITUTE('Start here'!$B$6," ","")),MOD(DATE(2026,2,1)-'Start here'!$B$5,LEN(UPPER(SUBSTITUTE('Start here'!$B$6," ",""))))+1,1)) | J7: =IF(OR('Start here'!$B$5="",UPPER(SUBSTITUTE('Start here'!$B$6," ",""))=""),"",MID(UPPER(SUBSTITUTE('Start here'!$B$6," ","")),MOD(DATE(2026,2,2)-'Start here'!$B$5,LEN(UPPER(SUBSTITUTE('Start here'!$B$6," ",""))))+1,1)) | K7: =IF(OR('Start here'!$B$5="",UPPER(SUBSTITUTE('Start here'!$B$6," ",""))=""),"",MID(UPPER(SUBSTITUTE('Start here'!$B$6," ","")),MOD(DATE(2026,2,3)-'Start here'!$B$5,LEN(UPPER(SUBSTITUTE('Start here'!$B$6," ",""))))+1,1)) | L7: =IF(OR('Start here'!$B$5="",UPPER(SUBSTITUTE('Start here'!$B$6," ",""))=""),"",MID(UPPER(SUBSTITUTE('Start here'!$B$6," ","")),MOD(DATE(2026,2,4)-'Start here'!$B$5,LEN(UPPER(SUBSTITUTE('Start here'!$B$6," ",""))))+1,1)) | M7: =IF(OR('Start here'!$B$5="",UPPER(SUBSTITUTE('Start here'!$B$6," ",""))=""),"",MID(UPPER(SUBSTITUTE('Start here'!$B$6," ","")),MOD(DATE(2026,2,5)-'Start here'!$B$5,LEN(UPPER(SUBSTITUTE('Start here'!$B$6," ",""))))+1,1)) | N7: =IF(OR('Start here'!$B$5="",UPPER(SUBSTITUTE('Start here'!$B$6," ",""))=""),"",MID(UPPER(SUBSTITUTE('Start here'!$B$6," ","")),MOD(DATE(2026,2,6)-'Start here'!$B$5,LEN(UPPER(SUBSTITUTE('Start here'!$B$6," ",""))))+1,1)) | O7: =IF(OR('Start here'!$B$5="",UPPER(SUBSTITUTE('Start here'!$B$6," ",""))=""),"",MID(UPPER(SUBSTITUTE('Start here'!$B$6," ","")),MOD(DATE(2026,2,7)-'Start here'!$B$5,LEN(UPPER(SUBSTITUTE('Start here'!$B$6," ",""))))+1,1)) | Q7: =IF(OR('Start here'!$B$5="",UPPER(SUBSTITUTE('Start here'!$B$6," ",""))=""),"",MID(UPPER(SUBSTITUTE('Start here'!$B$6," ","")),MOD(DATE(2026,3,1)-'Start here'!$B$5,LEN(UPPER(SUBSTITUTE('Start here'!$B$6," ",""))))+1,1)) | R7: =IF(OR('Start here'!$B$5="",UPPER(SUBSTITUTE('Start here'!$B$6," ",""))=""),"",MID(UPPER(SUBSTITUTE('Start here'!$B$6," ","")),MOD(DATE(2026,3,2)-'Start here'!$B$5,LEN(UPPER(SUBSTITUTE('Start here'!$B$6," ",""))))+1,1)) | S7: =IF(OR('Start here'!$B$5="",UPPER(SUBSTITUTE('Start here'!$B$6," ",""))=""),"",MID(UPPER(SUBSTITUTE('Start here'!$B$6," ","")),MOD(DATE(2026,3,3)-'Start here'!$B$5,LEN(UPPER(SUBSTITUTE('Start here'!$B$6," ",""))))+1,1)) | T7: =IF(OR('Start here'!$B$5="",UPPER(SUBSTITUTE('Start here'!$B$6," ",""))=""),"",MID(UPPER(SUBSTITUTE('Start here'!$B$6," ","")),MOD(DATE(2026,3,4)-'Start here'!$B$5,LEN(UPPER(SUBSTITUTE('Start here'!$B$6," ",""))))+1,1)) | U7: =IF(OR('Start here'!$B$5="",UPPER(SUBSTITUTE('Start here'!$B$6," ",""))=""),"",MID(UPPER(SUBSTITUTE('Start here'!$B$6," ","")),MOD(DATE(2026,3,5)-'Start here'!$B$5,LEN(UPPER(SUBSTITUTE('Start here'!$B$6," ",""))))+1,1)) | V7: =IF(OR('Start here'!$B$5="",UPPER(SUBSTITUTE('Start here'!$B$6," ",""))=""),"",MID(UPPER(SUBSTITUTE('Start here'!$B$6," ","")),MOD(DATE(2026,3,6)-'Start here'!$B$5,LEN(UPPER(SUBSTITUTE('Start here'!$B$6," ",""))))+1,1)) | W7: =IF(OR('Start here'!$B$5="",UPPER(SUBSTITUTE('Start here'!$B$6," ",""))=""),"",MID(UPPER(SUBSTITUTE('Start here'!$B$6," ","")),MOD(DATE(2026,3,7)-'Start here'!$B$5,LEN(UPPER(SUBSTITUTE('Start here'!$B$6," ",""))))+1,1))
A8: 4 | B8: 5 | C8: 6 | D8: 7 | E8: 8 | F8: 9 | G8: 10 | I8: 8 | J8: 9 | K8: 10 | L8: 11 | M8: 12 | N8: 13 | O8: 14 | Q8: 8 | R8: 9 | S8: 10 | T8: 11 | U8: 12 | V8: 13 | W8: 14
A9: =IF(OR('Start here'!$B$5="",UPPER(SUBSTITUTE('Start here'!$B$6," ",""))=""),"",MID(UPPER(SUBSTITUTE('Start here'!$B$6," ","")),MOD(DATE(2026,1,4)-'Start here'!$B$5,LEN(UPPER(SUBSTITUTE('Start here'!$B$6," ",""))))+1,1)) | B9: =IF(OR('Start here'!$B$5="",UPPER(SUBSTITUTE('Start here'!$B$6," ",""))=""),"",MID(UPPER(SUBSTITUTE('Start here'!$B$6," ","")),MOD(DATE(2026,1,5)-'Start here'!$B$5,LEN(UPPER(SUBSTITUTE('Start here'!$B$6," ",""))))+1,1)) | C9: =IF(OR('Start here'!$B$5="",UPPER(SUBSTITUTE('Start here'!$B$6," ",""))=""),"",MID(UPPER(SUBSTITUTE('Start here'!$B$6," ","")),MOD(DATE(2026,1,6)-'Start here'!$B$5,LEN(UPPER(SUBSTITUTE('Start here'!$B$6," ",""))))+1,1)) | D9: =IF(OR('Start here'!$B$5="",UPPER(SUBSTITUTE('Start here'!$B$6," ",""))=""),"",MID(UPPER(SUBSTITUTE('Start here'!$B$6," ","")),MOD(DATE(2026,1,7)-'Start here'!$B$5,LEN(UPPER(SUBSTITUTE('Start here'!$B$6," ",""))))+1,1)) | E9: =IF(OR('Start here'!$B$5="",UPPER(SUBSTITUTE('Start here'!$B$6," ",""))=""),"",MID(UPPER(SUBSTITUTE('Start here'!$B$6," ","")),MOD(DATE(2026,1,8)-'Start here'!$B$5,LEN(UPPER(SUBSTITUTE('Start here'!$B$6," ",""))))+1,1)) | F9: =IF(OR('Start here'!$B$5="",UPPER(SUBSTITUTE('Start here'!$B$6," ",""))=""),"",MID(UPPER(SUBSTITUTE('Start here'!$B$6," ","")),MOD(DATE(2026,1,9)-'Start here'!$B$5,LEN(UPPER(SUBSTITUTE('Start here'!$B$6," ",""))))+1,1)) | G9: =IF(OR('Start here'!$B$5="",UPPER(SUBSTITUTE('Start here'!$B$6," ",""))=""),"",MID(UPPER(SUBSTITUTE('Start here'!$B$6," ","")),MOD(DATE(2026,1,10)-'Start here'!$B$5,LEN(UPPER(SUBSTITUTE('Start here'!$B$6," ",""))))+1,1)) | I9: =IF(OR('Start here'!$B$5="",UPPER(SUBSTITUTE('Start here'!$B$6," ",""))=""),"",MID(UPPER(SUBSTITUTE('Start here'!$B$6," ","")),MOD(DATE(2026,2,8)-'Start here'!$B$5,LEN(UPPER(SUBSTITUTE('Start here'!$B$6," ",""))))+1,1)) | J9: =IF(OR('Start here'!$B$5="",UPPER(SUBSTITUTE('Start here'!$B$6," ",""))=""),"",MID(UPPER(SUBSTITUTE('Start here'!$B$6," ","")),MOD(DATE(2026,2,9)-'Start here'!$B$5,LEN(UPPER(SUBSTITUTE('Start here'!$B$6," ",""))))+1,1)) | K9: =IF(OR('Start here'!$B$5="",UPPER(SUBSTITUTE('Start here'!$B$6," ",""))=""),"",MID(UPPER(SUBSTITUTE('Start here'!$B$6," ","")),MOD(DATE(2026,2,10)-'Start here'!$B$5,LEN(UPPER(SUBSTITUTE('Start here'!$B$6," ",""))))+1,1)) | L9: =IF(OR('Start here'!$B$5="",UPPER(SUBSTITUTE('Start here'!$B$6," ",""))=""),"",MID(UPPER(SUBSTITUTE('Start here'!$B$6," ","")),MOD(DATE(2026,2,11)-'Start here'!$B$5,LEN(UPPER(SUBSTITUTE('Start here'!$B$6," ",""))))+1,1)) | M9: =IF(OR('Start here'!$B$5="",UPPER(SUBSTITUTE('Start here'!$B$6," ",""))=""),"",MID(UPPER(SUBSTITUTE('Start here'!$B$6," ","")),MOD(DATE(2026,2,12)-'Start here'!$B$5,LEN(UPPER(SUBSTITUTE('Start here'!$B$6," ",""))))+1,1)) | N9: =IF(OR('Start here'!$B$5="",UPPER(SUBSTITUTE('Start here'!$B$6," ",""))=""),"",MID(UPPER(SUBSTITUTE('Start here'!$B$6," ","")),MOD(DATE(2026,2,13)-'Start here'!$B$5,LEN(UPPER(SUBSTITUTE('Start here'!$B$6," ",""))))+1,1)) | O9: =IF(OR('Start here'!$B$5="",UPPER(SUBSTITUTE('Start here'!$B$6," ",""))=""),"",MID(UPPER(SUBSTITUTE('Start here'!$B$6," ","")),MOD(DATE(2026,2,14)-'Start here'!$B$5,LEN(UPPER(SUBSTITUTE('Start here'!$B$6," ",""))))+1,1)) | Q9: =IF(OR('Start here'!$B$5="",UPPER(SUBSTITUTE('Start here'!$B$6," ",""))=""),"",MID(UPPER(SUBSTITUTE('Start here'!$B$6," ","")),MOD(DATE(2026,3,8)-'Start here'!$B$5,LEN(UPPER(SUBSTITUTE('Start here'!$B$6," ",""))))+1,1)) | R9: =IF(OR('Start here'!$B$5="",UPPER(SUBSTITUTE('Start here'!$B$6," ",""))=""),"",MID(UPPER(SUBSTITUTE('Start here'!$B$6," ","")),MOD(DATE(2026,3,9)-'Start here'!$B$5,LEN(UPPER(SUBSTITUTE('Start here'!$B$6," ",""))))+1,1)) | S9: =IF(OR('Start here'!$B$5="",UPPER(SUBSTITUTE('Start here'!$B$6," ",""))=""),"",MID(UPPER(SUBSTITUTE('Start here'!$B$6," ","")),MOD(DATE(2026,3,10)-'Start here'!$B$5,LEN(UPPER(SUBSTITUTE('Start here'!$B$6," ",""))))+1,1)) | T9: =IF(OR('Start here'!$B$5="",UPPER(SUBSTITUTE('Start here'!$B$6," ",""))=""),"",MID(UPPER(SUBSTITUTE('Start here'!$B$6," ","")),MOD(DATE(2026,3,11)-'Start here'!$B$5,LEN(UPPER(SUBSTITUTE('Start here'!$B$6," ",""))))+1,1)) | U9: =IF(OR('Start here'!$B$5="",UPPER(SUBSTITUTE('Start here'!$B$6," ",""))=""),"",MID(UPPER(SUBSTITUTE('Start here'!$B$6," ","")),MOD(DATE(2026,3,12)-'Start here'!$B$5,LEN(UPPER(SUBSTITUTE('Start here'!$B$6," ",""))))+1,1)) | V9: =IF(OR('Start here'!$B$5="",UPPER(SUBSTITUTE('Start here'!$B$6," ",""))=""),"",MID(UPPER(SUBSTITUTE('Start here'!$B$6," ","")),MOD(DATE(2026,3,13)-'Start here'!$B$5,LEN(UPPER(SUBSTITUTE('Start here'!$B$6," ",""))))+1,1)) | W9: =IF(OR('Start here'!$B$5="",UPPER(SUBSTITUTE('Start here'!$B$6," ",""))=""),"",MID(UPPER(SUBSTITUTE('Start here'!$B$6," ","")),MOD(DATE(2026,3,14)-'Start here'!$B$5,LEN(UPPER(SUBSTITUTE('Start here'!$B$6," ",""))))+1,1))
A10: 11 | B10: 12 | C10: 13 | D10: 14 | E10: 15 | F10: 16 | G10: 17 | I10: 15 | J10: 16 | K10: 17 | L10: 18 | M10: 19 | N10: 20 | O10: 21 | Q10: 15 | R10: 16 | S10: 17 | T10: 18 | U10: 19 | V10: 20 | W10: 21
A11: =IF(OR('Start here'!$B$5="",UPPER(SUBSTITUTE('Start here'!$B$6," ",""))=""),"",MID(UPPER(SUBSTITUTE('Start here'!$B$6," ","")),MOD(DATE(2026,1,11)-'Start here'!$B$5,LEN(UPPER(SUBSTITUTE('Start here'!$B$6," ",""))))+1,1)) | B11: =IF(OR('Start here'!$B$5="",UPPER(SUBSTITUTE('Start here'!$B$6," ",""))=""),"",MID(UPPER(SUBSTITUTE('Start here'!$B$6," ","")),MOD(DATE(2026,1,12)-'Start here'!$B$5,LEN(UPPER(SUBSTITUTE('Start here'!$B$6," ",""))))+1,1)) | C11: =IF(OR('Start here'!$B$5="",UPPER(SUBSTITUTE('Start here'!$B$6," ",""))=""),"",MID(UPPER(SUBSTITUTE('Start here'!$B$6," ","")),MOD(DATE(2026,1,13)-'Start here'!$B$5,LEN(UPPER(SUBSTITUTE('Start here'!$B$6," ",""))))+1,1)) | D11: =IF(OR('Start here'!$B$5="",UPPER(SUBSTITUTE('Start here'!$B$6," ",""))=""),"",MID(UPPER(SUBSTITUTE('Start here'!$B$6," ","")),MOD(DATE(2026,1,14)-'Start here'!$B$5,LEN(UPPER(SUBSTITUTE('Start here'!$B$6," ",""))))+1,1)) | E11: =IF(OR('Start here'!$B$5="",UPPER(SUBSTITUTE('Start here'!$B$6," ",""))=""),"",MID(UPPER(SUBSTITUTE('Start here'!$B$6," ","")),MOD(DATE(2026,1,15)-'Start here'!$B$5,LEN(UPPER(SUBSTITUTE('Start here'!$B$6," ",""))))+1,1)) | F11: =IF(OR('Start here'!$B$5="",UPPER(SUBSTITUTE('Start here'!$B$6," ",""))=""),"",MID(UPPER(SUBSTITUTE('Start here'!$B$6," ","")),MOD(DATE(2026,1,16)-'Start here'!$B$5,LEN(UPPER(SUBSTITUTE('Start here'!$B$6," ",""))))+1,1)) | G11: =IF(OR('Start here'!$B$5="",UPPER(SUBSTITUTE('Start here'!$B$6," ",""))=""),"",MID(UPPER(SUBSTITUTE('Start here'!$B$6," ","")),MOD(DATE(2026,1,17)-'Start here'!$B$5,LEN(UPPER(SUBSTITUTE('Start here'!$B$6," ",""))))+1,1)) | I11: =IF(OR('Start here'!$B$5="",UPPER(SUBSTITUTE('Start here'!$B$6," ",""))=""),"",MID(UPPER(SUBSTITUTE('Start here'!$B$6," ","")),MOD(DATE(2026,2,15)-'Start here'!$B$5,LEN(UPPER(SUBSTITUTE('Start here'!$B$6," ",""))))+1,1)) | J11: =IF(OR('Start here'!$B$5="",UPPER(SUBSTITUTE('Start here'!$B$6," ",""))=""),"",MID(UPPER(SUBSTITUTE('Start here'!$B$6," ","")),MOD(DATE(2026,2,16)-'Start here'!$B$5,LEN(UPPER(SUBSTITUTE('Start here'!$B$6," ",""))))+1,1)) | K11: =IF(OR('Start here'!$B$5="",UPPER(SUBSTITUTE('Start here'!$B$6," ",""))=""),"",MID(UPPER(SUBSTITUTE('Start here'!$B$6," ","")),MOD(DATE(2026,2,17)-'Start here'!$B$5,LEN(UPPER(SUBSTITUTE('Start here'!$B$6," ",""))))+1,1)) | L11: =IF(OR('Start here'!$B$5="",UPPER(SUBSTITUTE('Start here'!$B$6," ",""))=""),"",MID(UPPER(SUBSTITUTE('Start here'!$B$6," ","")),MOD(DATE(2026,2,18)-'Start here'!$B$5,LEN(UPPER(SUBSTITUTE('Start here'!$B$6," ",""))))+1,1)) | M11: =IF(OR('Start here'!$B$5="",UPPER(SUBSTITUTE('Start here'!$B$6," ",""))=""),"",MID(UPPER(SUBSTITUTE('Start here'!$B$6," ","")),MOD(DATE(2026,2,19)-'Start here'!$B$5,LEN(UPPER(SUBSTITUTE('Start here'!$B$6," ",""))))+1,1)) | N11: =IF(OR('Start here'!$B$5="",UPPER(SUBSTITUTE('Start here'!$B$6," ",""))=""),"",MID(UPPER(SUBSTITUTE('Start here'!$B$6," ","")),MOD(DATE(2026,2,20)-'Start here'!$B$5,LEN(UPPER(SUBSTITUTE('Start here'!$B$6," ",""))))+1,1)) | O11: =IF(OR('Start here'!$B$5="",UPPER(SUBSTITUTE('Start here'!$B$6," ",""))=""),"",MID(UPPER(SUBSTITUTE('Start here'!$B$6," ","")),MOD(DATE(2026,2,21)-'Start here'!$B$5,LEN(UPPER(SUBSTITUTE('Start here'!$B$6," ",""))))+1,1)) | Q11: =IF(OR('Start here'!$B$5="",UPPER(SUBSTITUTE('Start here'!$B$6," ",""))=""),"",MID(UPPER(SUBSTITUTE('Start here'!$B$6," ","")),MOD(DATE(2026,3,15)-'Start here'!$B$5,LEN(UPPER(SUBSTITUTE('Start here'!$B$6," ",""))))+1,1)) | R11: =IF(OR('Start here'!$B$5="",UPPER(SUBSTITUTE('Start here'!$B$6," ",""))=""),"",MID(UPPER(SUBSTITUTE('Start here'!$B$6," ","")),MOD(DATE(2026,3,16)-'Start here'!$B$5,LEN(UPPER(SUBSTITUTE('Start here'!$B$6," ",""))))+1,1)) | S11: =IF(OR('Start here'!$B$5="",UPPER(SUBSTITUTE('Start here'!$B$6," ",""))=""),"",MID(UPPER(SUBSTITUTE('Start here'!$B$6," ","")),MOD(DATE(2026,3,17)-'Start here'!$B$5,LEN(UPPER(SUBSTITUTE('Start here'!$B$6," ",""))))+1,1)) | T11: =IF(OR('Start here'!$B$5="",UPPER(SUBSTITUTE('Start here'!$B$6," ",""))=""),"",MID(UPPER(SUBSTITUTE('Start here'!$B$6," ","")),MOD(DATE(2026,3,18)-'Start here'!$B$5,LEN(UPPER(SUBSTITUTE('Start here'!$B$6," ",""))))+1,1)) | U11: =IF(OR('Start here'!$B$5="",UPPER(SUBSTITUTE('Start here'!$B$6," ",""))=""),"",MID(UPPER(SUBSTITUTE('Start here'!$B$6," ","")),MOD(DATE(2026,3,19)-'Start here'!$B$5,LEN(UPPER(SUBSTITUTE('Start here'!$B$6," ",""))))+1,1)) | V11: =IF(OR('Start here'!$B$5="",UPPER(SUBSTITUTE('Start here'!$B$6," ",""))=""),"",MID(UPPER(SUBSTITUTE('Start here'!$B$6," ","")),MOD(DATE(2026,3,20)-'Start here'!$B$5,LEN(UPPER(SUBSTITUTE('Start here'!$B$6," ",""))))+1,1)) | W11: =IF(OR('Start here'!$B$5="",UPPER(SUBSTITUTE('Start here'!$B$6," ",""))=""),"",MID(UPPER(SUBSTITUTE('Start here'!$B$6," ","")),MOD(DATE(2026,3,21)-'Start here'!$B$5,LEN(UPPER(SUBSTITUTE('Start here'!$B$6," ",""))))+1,1))
A12: 18 | B12: 19 | C12: 20 | D12: 21 | E12: 22 | F12: 23 | G12: 24 | I12: 22 | J12: 23 | K12: 24 | L12: 25 | M12: 26 | N12: 27 | O12: 28 | Q12: 22 | R12: 23 | S12: 24 | T12: 25 | U12: 26 | V12: 27 | W12: 28
A13: =IF(OR('Start here'!$B$5="",UPPER(SUBSTITUTE('Start here'!$B$6," ",""))=""),"",MID(UPPER(SUBSTITUTE('Start here'!$B$6," ","")),MOD(DATE(2026,1,18)-'Start here'!$B$5,LEN(UPPER(SUBSTITUTE('Start here'!$B$6," ",""))))+1,1)) | B13: =IF(OR('Start here'!$B$5="",UPPER(SUBSTITUTE('Start here'!$B$6," ",""))=""),"",MID(UPPER(SUBSTITUTE('Start here'!$B$6," ","")),MOD(DATE(2026,1,19)-'Start here'!$B$5,LEN(UPPER(SUBSTITUTE('Start here'!$B$6," ",""))))+1,1)) | C13: =IF(OR('Start here'!$B$5="",UPPER(SUBSTITUTE('Start here'!$B$6," ",""))=""),"",MID(UPPER(SUBSTITUTE('Start here'!$B$6," ","")),MOD(DATE(2026,1,20)-'Start here'!$B$5,LEN(UPPER(SUBSTITUTE('Start here'!$B$6," ",""))))+1,1)) | D13: =IF(OR('Start here'!$B$5="",UPPER(SUBSTITUTE('Start here'!$B$6," ",""))=""),"",MID(UPPER(SUBSTITUTE('Start here'!$B$6," ","")),MOD(DATE(2026,1,21)-'Start here'!$B$5,LEN(UPPER(SUBSTITUTE('Start here'!$B$6," ",""))))+1,1)) | E13: =IF(OR('Start here'!$B$5="",UPPER(SUBSTITUTE('Start here'!$B$6," ",""))=""),"",MID(UPPER(SUBSTITUTE('Start here'!$B$6," ","")),MOD(DATE(2026,1,22)-'Start here'!$B$5,LEN(UPPER(SUBSTITUTE('Start here'!$B$6," ",""))))+1,1)) | F13: =IF(OR('Start here'!$B$5="",UPPER(SUBSTITUTE('Start here'!$B$6," ",""))=""),"",MID(UPPER(SUBSTITUTE('Start here'!$B$6," ","")),MOD(DATE(2026,1,23)-'Start here'!$B$5,LEN(UPPER(SUBSTITUTE('Start here'!$B$6," ",""))))+1,1)) | G13: =IF(OR('Start here'!$B$5="",UPPER(SUBSTITUTE('Start here'!$B$6," ",""))=""),"",MID(UPPER(SUBSTITUTE('Start here'!$B$6," ","")),MOD(DATE(2026,1,24)-'Start here'!$B$5,LEN(UPPER(SUBSTITUTE('Start here'!$B$6," ",""))))+1,1)) | I13: =IF(OR('Start here'!$B$5="",UPPER(SUBSTITUTE('Start here'!$B$6," ",""))=""),"",MID(UPPER(SUBSTITUTE('Start here'!$B$6," ","")),MOD(DATE(2026,2,22)-'Start here'!$B$5,LEN(UPPER(SUBSTITUTE('Start here'!$B$6," ",""))))+1,1)) | J13: =IF(OR('Start here'!$B$5="",UPPER(SUBSTITUTE('Start here'!$B$6," ",""))=""),"",MID(UPPER(SUBSTITUTE('Start here'!$B$6," ","")),MOD(DATE(2026,2,23)-'Start here'!$B$5,LEN(UPPER(SUBSTITUTE('Start here'!$B$6," ",""))))+1,1)) | K13: =IF(OR('Start here'!$B$5="",UPPER(SUBSTITUTE('Start here'!$B$6," ",""))=""),"",MID(UPPER(SUBSTITUTE('Start here'!$B$6," ","")),MOD(DATE(2026,2,24)-'Start here'!$B$5,LEN(UPPER(SUBSTITUTE('Start here'!$B$6," ",""))))+1,1)) | L13: =IF(OR('Start here'!$B$5="",UPPER(SUBSTITUTE('Start here'!$B$6," ",""))=""),"",MID(UPPER(SUBSTITUTE('Start here'!$B$6," ","")),MOD(DATE(2026,2,25)-'Start here'!$B$5,LEN(UPPER(SUBSTITUTE('Start here'!$B$6," ",""))))+1,1)) | M13: =IF(OR('Start here'!$B$5="",UPPER(SUBSTITUTE('Start here'!$B$6," ",""))=""),"",MID(UPPER(SUBSTITUTE('Start here'!$B$6," ","")),MOD(DATE(2026,2,26)-'Start here'!$B$5,LEN(UPPER(SUBSTITUTE('Start here'!$B$6," ",""))))+1,1)) | N13: =IF(OR('Start here'!$B$5="",UPPER(SUBSTITUTE('Start here'!$B$6," ",""))=""),"",MID(UPPER(SUBSTITUTE('Start here'!$B$6," ","")),MOD(DATE(2026,2,27)-'Start here'!$B$5,LEN(UPPER(SUBSTITUTE('Start here'!$B$6," ",""))))+1,1)) | O13: =IF(OR('Start here'!$B$5="",UPPER(SUBSTITUTE('Start here'!$B$6," ",""))=""),"",MID(UPPER(SUBSTITUTE('Start here'!$B$6," ","")),MOD(DATE(2026,2,28)-'Start here'!$B$5,LEN(UPPER(SUBSTITUTE('Start here'!$B$6," ",""))))+1,1)) | Q13: =IF(OR('Start here'!$B$5="",UPPER(SUBSTITUTE('Start here'!$B$6," ",""))=""),"",MID(UPPER(SUBSTITUTE('Start here'!$B$6," ","")),MOD(DATE(2026,3,22)-'Start here'!$B$5,LEN(UPPER(SUBSTITUTE('Start here'!$B$6," ",""))))+1,1)) | R13: =IF(OR('Start here'!$B$5="",UPPER(SUBSTITUTE('Start here'!$B$6," ",""))=""),"",MID(UPPER(SUBSTITUTE('Start here'!$B$6," ","")),MOD(DATE(2026,3,23)-'Start here'!$B$5,LEN(UPPER(SUBSTITUTE('Start here'!$B$6," ",""))))+1,1)) | S13: =IF(OR('Start here'!$B$5="",UPPER(SUBSTITUTE('Start here'!$B$6," ",""))=""),"",MID(UPPER(SUBSTITUTE('Start here'!$B$6," ","")),MOD(DATE(2026,3,24)-'Start here'!$B$5,LEN(UPPER(SUBSTITUTE('Start here'!$B$6," ",""))))+1,1)) | T13: =IF(OR('Start here'!$B$5="",UPPER(SUBSTITUTE('Start here'!$B$6," ",""))=""),"",MID(UPPER(SUBSTITUTE('Start here'!$B$6," ","")),MOD(DATE(2026,3,25)-'Start here'!$B$5,LEN(UPPER(SUBSTITUTE('Start here'!$B$6," ",""))))+1,1)) | U13: =IF(OR('Start here'!$B$5="",UPPER(SUBSTITUTE('Start here'!$B$6," ",""))=""),"",MID(UPPER(SUBSTITUTE('Start here'!$B$6," ","")),MOD(DATE(2026,3,26)-'Start here'!$B$5,LEN(UPPER(SUBSTITUTE('Start here'!$B$6," ",""))))+1,1)) | V13: =IF(OR('Start here'!$B$5="",UPPER(SUBSTITUTE('Start here'!$B$6," ",""))=""),"",MID(UPPER(SUBSTITUTE('Start here'!$B$6," ","")),MOD(DATE(2026,3,27)-'Start here'!$B$5,LEN(UPPER(SUBSTITUTE('Start here'!$B$6," ",""))))+1,1)) | W13: =IF(OR('Start here'!$B$5="",UPPER(SUBSTITUTE('Start here'!$B$6," ",""))=""),"",MID(UPPER(SUBSTITUTE('Start here'!$B$6," ","")),MOD(DATE(2026,3,28)-'Start here'!$B$5,LEN(UPPER(SUBSTITUTE('Start here'!$B$6," ",""))))+1,1))
A14: 25 | B14: 26 | C14: 27 | D14: 28 | E14: 29 | F14: 30 | G14: 31 | Q14: 29 | R14: 30 | S14: 31
A15: =IF(OR('Start here'!$B$5="",UPPER(SUBSTITUTE('Start here'!$B$6," ",""))=""),"",MID(UPPER(SUBSTITUTE('Start here'!$B$6," ","")),MOD(DATE(2026,1,25)-'Start here'!$B$5,LEN(UPPER(SUBSTITUTE('Start here'!$B$6," ",""))))+1,1)) | B15: =IF(OR('Start here'!$B$5="",UPPER(SUBSTITUTE('Start here'!$B$6," ",""))=""),"",MID(UPPER(SUBSTITUTE('Start here'!$B$6," ","")),MOD(DATE(2026,1,26)-'Start here'!$B$5,LEN(UPPER(SUBSTITUTE('Start here'!$B$6," ",""))))+1,1)) | C15: =IF(OR('Start here'!$B$5="",UPPER(SUBSTITUTE('Start here'!$B$6," ",""))=""),"",MID(UPPER(SUBSTITUTE('Start here'!$B$6," ","")),MOD(DATE(2026,1,27)-'Start here'!$B$5,LEN(UPPER(SUBSTITUTE('Start here'!$B$6," ",""))))+1,1)) | D15: =IF(OR('Start here'!$B$5="",UPPER(SUBSTITUTE('Start here'!$B$6," ",""))=""),"",MID(UPPER(SUBSTITUTE('Start here'!$B$6," ","")),MOD(DATE(2026,1,28)-'Start here'!$B$5,LEN(UPPER(SUBSTITUTE('Start here'!$B$6," ",""))))+1,1)) | E15: =IF(OR('Start here'!$B$5="",UPPER(SUBSTITUTE('Start here'!$B$6," ",""))=""),"",MID(UPPER(SUBSTITUTE('Start here'!$B$6," ","")),MOD(DATE(2026,1,29)-'Start here'!$B$5,LEN(UPPER(SUBSTITUTE('Start here'!$B$6," ",""))))+1,1)) | F15: =IF(OR('Start here'!$B$5="",UPPER(SUBSTITUTE('Start here'!$B$6," ",""))=""),"",MID(UPPER(SUBSTITUTE('Start here'!$B$6," ","")),MOD(DATE(2026,1,30)-'Start here'!$B$5,LEN(UPPER(SUBSTITUTE('Start here'!$B$6," ",""))))+1,1)) | G15: =IF(OR('Start here'!$B$5="",UPPER(SUBSTITUTE('Start here'!$B$6," ",""))=""),"",MID(UPPER(SUBSTITUTE('Start here'!$B$6," ","")),MOD(DATE(2026,1,31)-'Start here'!$B$5,LEN(UPPER(SUBSTITUTE('Start here'!$B$6," ",""))))+1,1)) | Q15: =IF(OR('Start here'!$B$5="",UPPER(SUBSTITUTE('Start here'!$B$6," ",""))=""),"",MID(UPPER(SUBSTITUTE('Start here'!$B$6," ","")),MOD(DATE(2026,3,29)-'Start here'!$B$5,LEN(UPPER(SUBSTITUTE('Start here'!$B$6," ",""))))+1,1)) | R15: =IF(OR('Start here'!$B$5="",UPPER(SUBSTITUTE('Start here'!$B$6," ",""))=""),"",MID(UPPER(SUBSTITUTE('Start here'!$B$6," ","")),MOD(DATE(2026,3,30)-'Start here'!$B$5,LEN(UPPER(SUBSTITUTE('Start here'!$B$6," ",""))))+1,1)) | S15: =IF(OR('Start here'!$B$5="",UPPER(SUBSTITUTE('Start here'!$B$6," ",""))=""),"",MID(UPPER(SUBSTITUTE('Start here'!$B$6," ","")),MOD(DATE(2026,3,31)-'Start here'!$B$5,LEN(UPPER(SUBSTITUTE('Start here'!$B$6," ",""))))+1,1))
A18: Nights A | C18: =COUNTIF(A7:G17,"A") | E18: B | F18: =COUNTIF(A7:G17,"B") | I18: Nights A | K18: =COUNTIF(I7:O17,"A") | M18: B | N18: =COUNTIF(I7:O17,"B") | Q18: Nights A | S18: =COUNTIF(Q7:W17,"A") | U18: B | V18: =COUNTIF(Q7:W17,"B")
A20: April 2026 | I20: May 2026 | Q20: June 2026
A21: S | B21: M | C21: T | D21: W | E21: T | F21: F | G21: S | I21: S | J21: M | K21: T | L21: W | M21: T | N21: F | O21: S | Q21: S | R21: M | S21: T | T21: W | U21: T | V21: F | W21: S
D22: 1 | E22: 2 | F22: 3 | G22: 4 | N22: 1 | O22: 2 | R22: 1 | S22: 2 | T22: 3 | U22: 4 | V22: 5 | W22: 6
D23: =IF(OR('Start here'!$B$5="",UPPER(SUBSTITUTE('Start here'!$B$6," ",""))=""),"",MID(UPPER(SUBSTITUTE('Start here'!$B$6," ","")),MOD(DATE(2026,4,1)-'Start here'!$B$5,LEN(UPPER(SUBSTITUTE('Start here'!$B$6," ",""))))+1,1)) | E23: =IF(OR('Start here'!$B$5="",UPPER(SUBSTITUTE('Start here'!$B$6," ",""))=""),"",MID(UPPER(SUBSTITUTE('Start here'!$B$6," ","")),MOD(DATE(2026,4,2)-'Start here'!$B$5,LEN(UPPER(SUBSTITUTE('Start here'!$B$6," ",""))))+1,1)) | F23: =IF(OR('Start here'!$B$5="",UPPER(SUBSTITUTE('Start here'!$B$6," ",""))=""),"",MID(UPPER(SUBSTITUTE('Start here'!$B$6," ","")),MOD(DATE(2026,4,3)-'Start here'!$B$5,LEN(UPPER(SUBSTITUTE('Start here'!$B$6," ",""))))+1,1)) | G23: =IF(OR('Start here'!$B$5="",UPPER(SUBSTITUTE('Start here'!$B$6," ",""))=""),"",MID(UPPER(SUBSTITUTE('Start here'!$B$6," ","")),MOD(DATE(2026,4,4)-'Start here'!$B$5,LEN(UPPER(SUBSTITUTE('Start here'!$B$6," ",""))))+1,1)) | N23: =IF(OR('Start here'!$B$5="",UPPER(SUBSTITUTE('Start here'!$B$6," ",""))=""),"",MID(UPPER(SUBSTITUTE('Start here'!$B$6," ","")),MOD(DATE(2026,5,1)-'Start here'!$B$5,LEN(UPPER(SUBSTITUTE('Start here'!$B$6," ",""))))+1,1)) | O23: =IF(OR('Start here'!$B$5="",UPPER(SUBSTITUTE('Start here'!$B$6," ",""))=""),"",MID(UPPER(SUBSTITUTE('Start here'!$B$6," ","")),MOD(DATE(2026,5,2)-'Start here'!$B$5,LEN(UPPER(SUBSTITUTE('Start here'!$B$6," ",""))))+1,1)) | R23: =IF(OR('Start here'!$B$5="",UPPER(SUBSTITUTE('Start here'!$B$6," ",""))=""),"",MID(UPPER(SUBSTITUTE('Start here'!$B$6," ","")),MOD(DATE(2026,6,1)-'Start here'!$B$5,LEN(UPPER(SUBSTITUTE('Start here'!$B$6," ",""))))+1,1)) | S23: =IF(OR('Start here'!$B$5="",UPPER(SUBSTITUTE('Start here'!$B$6," ",""))=""),"",MID(UPPER(SUBSTITUTE('Start here'!$B$6," ","")),MOD(DATE(2026,6,2)-'Start here'!$B$5,LEN(UPPER(SUBSTITUTE('Start here'!$B$6," ",""))))+1,1)) | T23: =IF(OR('Start here'!$B$5="",UPPER(SUBSTITUTE('Start here'!$B$6," ",""))=""),"",MID(UPPER(SUBSTITUTE('Start here'!$B$6," ","")),MOD(DATE(2026,6,3)-'Start here'!$B$5,LEN(UPPER(SUBSTITUTE('Start here'!$B$6," ",""))))+1,1)) | U23: =IF(OR('Start here'!$B$5="",UPPER(SUBSTITUTE('Start here'!$B$6," ",""))=""),"",MID(UPPER(SUBSTITUTE('Start here'!$B$6," ","")),MOD(DATE(2026,6,4)-'Start here'!$B$5,LEN(UPPER(SUBSTITUTE('Start here'!$B$6," ",""))))+1,1)) | V23: =IF(OR('Start here'!$B$5="",UPPER(SUBSTITUTE('Start here'!$B$6," ",""))=""),"",MID(UPPER(SUBSTITUTE('Start here'!$B$6," ","")),MOD(DATE(2026,6,5)-'Start here'!$B$5,LEN(UPPER(SUBSTITUTE('Start here'!$B$6," ",""))))+1,1)) | W23: =IF(OR('Start here'!$B$5="",UPPER(SUBSTITUTE('Start here'!$B$6," ",""))=""),"",MID(UPPER(SUBSTITUTE('Start here'!$B$6," ","")),MOD(DATE(2026,6,6)-'Start here'!$B$5,LEN(UPPER(SUBSTITUTE('Start here'!$B$6," ",""))))+1,1))
A24: 5 | B24: 6 | C24: 7 | D24: 8 | E24: 9 | F24: 10 | G24: 11 | I24: 3 | J24: 4 | K24: 5 | L24: 6 | M24: 7 | N24: 8 | O24: 9 | Q24: 7 | R24: 8 | S24: 9 | T24: 10 | U24: 11 | V24: 12 | W24: 13
A25: =IF(OR('Start here'!$B$5="",UPPER(SUBSTITUTE('Start here'!$B$6," ",""))=""),"",MID(UPPER(SUBSTITUTE('Start here'!$B$6," ","")),MOD(DATE(2026,4,5)-'Start here'!$B$5,LEN(UPPER(SUBSTITUTE('Start here'!$B$6," ",""))))+1,1)) | B25: =IF(OR('Start here'!$B$5="",UPPER(SUBSTITUTE('Start here'!$B$6," ",""))=""),"",MID(UPPER(SUBSTITUTE('Start here'!$B$6," ","")),MOD(DATE(2026,4,6)-'Start here'!$B$5,LEN(UPPER(SUBSTITUTE('Start here'!$B$6," ",""))))+1,1)) | C25: =IF(OR('Start here'!$B$5="",UPPER(SUBSTITUTE('Start here'!$B$6," ",""))=""),"",MID(UPPER(SUBSTITUTE('Start here'!$B$6," ","")),MOD(DATE(2026,4,7)-'Start here'!$B$5,LEN(UPPER(SUBSTITUTE('Start here'!$B$6," ",""))))+1,1)) | D25: =IF(OR('Start here'!$B$5="",UPPER(SUBSTITUTE('Start here'!$B$6," ",""))=""),"",MID(UPPER(SUBSTITUTE('Start here'!$B$6," ","")),MOD(DATE(2026,4,8)-'Start here'!$B$5,LEN(UPPER(SUBSTITUTE('Start here'!$B$6," ",""))))+1,1)) | E25: =IF(OR('Start here'!$B$5="",UPPER(SUBSTITUTE('Start here'!$B$6," ",""))=""),"",MID(UPPER(SUBSTITUTE('Start here'!$B$6," ","")),MOD(DATE(2026,4,9)-'Start here'!$B$5,LEN(UPPER(SUBSTITUTE('Start here'!$B$6," ",""))))+1,1)) | F25: =IF(OR('Start here'!$B$5="",UPPER(SUBSTITUTE('Start here'!$B$6," ",""))=""),"",MID(UPPER(SUBSTITUTE('Start here'!$B$6," ","")),MOD(DATE(2026,4,10)-'Start here'!$B$5,LEN(UPPER(SUBSTITUTE('Start here'!$B$6," ",""))))+1,1)) | G25: =IF(OR('Start here'!$B$5="",UPPER(SUBSTITUTE('Start here'!$B$6," ",""))=""),"",MID(UPPER(SUBSTITUTE('Start here'!$B$6," ","")),MOD(DATE(2026,4,11)-'Start here'!$B$5,LEN(UPPER(SUBSTITUTE('Start here'!$B$6," ",""))))+1,1)) | I25: =IF(OR('Start here'!$B$5="",UPPER(SUBSTITUTE('Start here'!$B$6," ",""))=""),"",MID(UPPER(SUBSTITUTE('Start here'!$B$6," ","")),MOD(DATE(2026,5,3)-'Start here'!$B$5,LEN(UPPER(SUBSTITUTE('Start here'!$B$6," ",""))))+1,1)) | J25: =IF(OR('Start here'!$B$5="",UPPER(SUBSTITUTE('Start here'!$B$6," ",""))=""),"",MID(UPPER(SUBSTITUTE('Start here'!$B$6," ","")),MOD(DATE(2026,5,4)-'Start here'!$B$5,LEN(UPPER(SUBSTITUTE('Start here'!$B$6," ",""))))+1,1)) | K25: =IF(OR('Start here'!$B$5="",UPPER(SUBSTITUTE('Start here'!$B$6," ",""))=""),"",MID(UPPER(SUBSTITUTE('Start here'!$B$6," ","")),MOD(DATE(2026,5,5)-'Start here'!$B$5,LEN(UPPER(SUBSTITUTE('Start here'!$B$6," ",""))))+1,1)) | L25: =IF(OR('Start here'!$B$5="",UPPER(SUBSTITUTE('Start here'!$B$6," ",""))=""),"",MID(UPPER(SUBSTITUTE('Start here'!$B$6," ","")),MOD(DATE(2026,5,6)-'Start here'!$B$5,LEN(UPPER(SUBSTITUTE('Start here'!$B$6," ",""))))+1,1)) | M25: =IF(OR('Start here'!$B$5="",UPPER(SUBSTITUTE('Start here'!$B$6," ",""))=""),"",MID(UPPER(SUBSTITUTE('Start here'!$B$6," ","")),MOD(DATE(2026,5,7)-'Start here'!$B$5,LEN(UPPER(SUBSTITUTE('Start here'!$B$6," ",""))))+1,1)) | N25: =IF(OR('Start here'!$B$5="",UPPER(SUBSTITUTE('Start here'!$B$6," ",""))=""),"",MID(UPPER(SUBSTITUTE('Start here'!$B$6," ","")),MOD(DATE(2026,5,8)-'Start here'!$B$5,LEN(UPPER(SUBSTITUTE('Start here'!$B$6," ",""))))+1,1)) | O25: =IF(OR('Start here'!$B$5="",UPPER(SUBSTITUTE('Start here'!$B$6," ",""))=""),"",MID(UPPER(SUBSTITUTE('Start here'!$B$6," ","")),MOD(DATE(2026,5,9)-'Start here'!$B$5,LEN(UPPER(SUBSTITUTE('Start here'!$B$6," ",""))))+1,1)) | Q25: =IF(OR('Start here'!$B$5="",UPPER(SUBSTITUTE('Start here'!$B$6," ",""))=""),"",MID(UPPER(SUBSTITUTE('Start here'!$B$6," ","")),MOD(DATE(2026,6,7)-'Start here'!$B$5,LEN(UPPER(SUBSTITUTE('Start here'!$B$6," ",""))))+1,1)) | R25: =IF(OR('Start here'!$B$5="",UPPER(SUBSTITUTE('Start here'!$B$6," ",""))=""),"",MID(UPPER(SUBSTITUTE('Start here'!$B$6," ","")),MOD(DATE(2026,6,8)-'Start here'!$B$5,LEN(UPPER(SUBSTITUTE('Start here'!$B$6," ",""))))+1,1)) | S25: =IF(OR('Start here'!$B$5="",UPPER(SUBSTITUTE('Start here'!$B$6," ",""))=""),"",MID(UPPER(SUBSTITUTE('Start here'!$B$6," ","")),MOD(DATE(2026,6,9)-'Start here'!$B$5,LEN(UPPER(SUBSTITUTE('Start here'!$B$6," ",""))))+1,1)) | T25: =IF(OR('Start here'!$B$5="",UPPER(SUBSTITUTE('Start here'!$B$6," ",""))=""),"",MID(UPPER(SUBSTITUTE('Start here'!$B$6," ","")),MOD(DATE(2026,6,10)-'Start here'!$B$5,LEN(UPPER(SUBSTITUTE('Start here'!$B$6," ",""))))+1,1)) | U25: =IF(OR('Start here'!$B$5="",UPPER(SUBSTITUTE('Start here'!$B$6," ",""))=""),"",MID(UPPER(SUBSTITUTE('Start here'!$B$6," ","")),MOD(DATE(2026,6,11)-'Start here'!$B$5,LEN(UPPER(SUBSTITUTE('Start here'!$B$6," ",""))))+1,1)) | V25: =IF(OR('Start here'!$B$5="",UPPER(SUBSTITUTE('Start here'!$B$6," ",""))=""),"",MID(UPPER(SUBSTITUTE('Start here'!$B$6," ","")),MOD(DATE(2026,6,12)-'Start here'!$B$5,LEN(UPPER(SUBSTITUTE('Start here'!$B$6," ",""))))+1,1)) | W25: =IF(OR('Start here'!$B$5="",UPPER(SUBSTITUTE('Start here'!$B$6," ",""))=""),"",MID(UPPER(SUBSTITUTE('Start here'!$B$6," ","")),MOD(DATE(2026,6,13)-'Start here'!$B$5,LEN(UPPER(SUBSTITUTE('Start here'!$B$6," ",""))))+1,1))
A26: 12 | B26: 13 | C26: 14 | D26: 15 | E26: 16 | F26: 17 | G26: 18 | I26: 10 | J26: 11 | K26: 12 | L26: 13 | M26: 14 | N26: 15 | O26: 16 | Q26: 14 | R26: 15 | S26: 16 | T26: 17 | U26: 18 | V26: 19 | W26: 20
A27: =IF(OR('Start here'!$B$5="",UPPER(SUBSTITUTE('Start here'!$B$6," ",""))=""),"",MID(UPPER(SUBSTITUTE('Start here'!$B$6," ","")),MOD(DATE(2026,4,12)-'Start here'!$B$5,LEN(UPPER(SUBSTITUTE('Start here'!$B$6," ",""))))+1,1)) | B27: =IF(OR('Start here'!$B$5="",UPPER(SUBSTITUTE('Start here'!$B$6," ",""))=""),"",MID(UPPER(SUBSTITUTE('Start here'!$B$6," ","")),MOD(DATE(2026,4,13)-'Start here'!$B$5,LEN(UPPER(SUBSTITUTE('Start here'!$B$6," ",""))))+1,1)) | C27: =IF(OR('Start here'!$B$5="",UPPER(SUBSTITUTE('Start here'!$B$6," ",""))=""),"",MID(UPPER(SUBSTITUTE('Start here'!$B$6," ","")),MOD(DATE(2026,4,14)-'Start here'!$B$5,LEN(UPPER(SUBSTITUTE('Start here'!$B$6," ",""))))+1,1)) | D27: =IF(OR('Start here'!$B$5="",UPPER(SUBSTITUTE('Start here'!$B$6," ",""))=""),"",MID(UPPER(SUBSTITUTE('Start here'!$B$6," ","")),MOD(DATE(2026,4,15)-'Start here'!$B$5,LEN(UPPER(SUBSTITUTE('Start here'!$B$6," ",""))))+1,1)) | E27: =IF(OR('Start here'!$B$5="",UPPER(SUBSTITUTE('Start here'!$B$6," ",""))=""),"",MID(UPPER(SUBSTITUTE('Start here'!$B$6," ","")),MOD(DATE(2026,4,16)-'Start here'!$B$5,LEN(UPPER(SUBSTITUTE('Start here'!$B$6," ",""))))+1,1)) | F27: =IF(OR('Start here'!$B$5="",UPPER(SUBSTITUTE('Start here'!$B$6," ",""))=""),"",MID(UPPER(SUBSTITUTE('Start here'!$B$6," ","")),MOD(DATE(2026,4,17)-'Start here'!$B$5,LEN(UPPER(SUBSTITUTE('Start here'!$B$6," ",""))))+1,1)) | G27: =IF(OR('Start here'!$B$5="",UPPER(SUBSTITUTE('Start here'!$B$6," ",""))=""),"",MID(UPPER(SUBSTITUTE('Start here'!$B$6," ","")),MOD(DATE(2026,4,18)-'Start here'!$B$5,LEN(UPPER(SUBSTITUTE('Start here'!$B$6," ",""))))+1,1)) | I27: =IF(OR('Start here'!$B$5="",UPPER(SUBSTITUTE('Start here'!$B$6," ",""))=""),"",MID(UPPER(SUBSTITUTE('Start here'!$B$6," ","")),MOD(DATE(2026,5,10)-'Start here'!$B$5,LEN(UPPER(SUBSTITUTE('Start here'!$B$6," ",""))))+1,1)) | J27: =IF(OR('Start here'!$B$5="",UPPER(SUBSTITUTE('Start here'!$B$6," ",""))=""),"",MID(UPPER(SUBSTITUTE('Start here'!$B$6," ","")),MOD(DATE(2026,5,11)-'Start here'!$B$5,LEN(UPPER(SUBSTITUTE('Start here'!$B$6," ",""))))+1,1)) | K27: =IF(OR('Start here'!$B$5="",UPPER(SUBSTITUTE('Start here'!$B$6," ",""))=""),"",MID(UPPER(SUBSTITUTE('Start here'!$B$6," ","")),MOD(DATE(2026,5,12)-'Start here'!$B$5,LEN(UPPER(SUBSTITUTE('Start here'!$B$6," ",""))))+1,1)) | L27: =IF(OR('Start here'!$B$5="",UPPER(SUBSTITUTE('Start here'!$B$6," ",""))=""),"",MID(UPPER(SUBSTITUTE('Start here'!$B$6," ","")),MOD(DATE(2026,5,13)-'Start here'!$B$5,LEN(UPPER(SUBSTITUTE('Start here'!$B$6," ",""))))+1,1)) | M27: =IF(OR('Start here'!$B$5="",UPPER(SUBSTITUTE('Start here'!$B$6," ",""))=""),"",MID(UPPER(SUBSTITUTE('Start here'!$B$6," ","")),MOD(DATE(2026,5,14)-'Start here'!$B$5,LEN(UPPER(SUBSTITUTE('Start here'!$B$6," ",""))))+1,1)) | N27: =IF(OR('Start here'!$B$5="",UPPER(SUBSTITUTE('Start here'!$B$6," ",""))=""),"",MID(UPPER(SUBSTITUTE('Start here'!$B$6," ","")),MOD(DATE(2026,5,15)-'Start here'!$B$5,LEN(UPPER(SUBSTITUTE('Start here'!$B$6," ",""))))+1,1)) | O27: =IF(OR('Start here'!$B$5="",UPPER(SUBSTITUTE('Start here'!$B$6," ",""))=""),"",MID(UPPER(SUBSTITUTE('Start here'!$B$6," ","")),MOD(DATE(2026,5,16)-'Start here'!$B$5,LEN(UPPER(SUBSTITUTE('Start here'!$B$6," ",""))))+1,1)) | Q27: =IF(OR('Start here'!$B$5="",UPPER(SUBSTITUTE('Start here'!$B$6," ",""))=""),"",MID(UPPER(SUBSTITUTE('Start here'!$B$6," ","")),MOD(DATE(2026,6,14)-'Start here'!$B$5,LEN(UPPER(SUBSTITUTE('Start here'!$B$6," ",""))))+1,1)) | R27: =IF(OR('Start here'!$B$5="",UPPER(SUBSTITUTE('Start here'!$B$6," ",""))=""),"",MID(UPPER(SUBSTITUTE('Start here'!$B$6," ","")),MOD(DATE(2026,6,15)-'Start here'!$B$5,LEN(UPPER(SUBSTITUTE('Start here'!$B$6," ",""))))+1,1)) | S27: =IF(OR('Start here'!$B$5="",UPPER(SUBSTITUTE('Start here'!$B$6," ",""))=""),"",MID(UPPER(SUBSTITUTE('Start here'!$B$6," ","")),MOD(DATE(2026,6,16)-'Start here'!$B$5,LEN(UPPER(SUBSTITUTE('Start here'!$B$6," ",""))))+1,1)) | T27: =IF(OR('Start here'!$B$5="",UPPER(SUBSTITUTE('Start here'!$B$6," ",""))=""),"",MID(UPPER(SUBSTITUTE('Start here'!$B$6," ","")),MOD(DATE(2026,6,17)-'Start here'!$B$5,LEN(UPPER(SUBSTITUTE('Start here'!$B$6," ",""))))+1,1)) | U27: =IF(OR('Start here'!$B$5="",UPPER(SUBSTITUTE('Start here'!$B$6," ",""))=""),"",MID(UPPER(SUBSTITUTE('Start here'!$B$6," ","")),MOD(DATE(2026,6,18)-'Start here'!$B$5,LEN(UPPER(SUBSTITUTE('Start here'!$B$6," ",""))))+1,1)) | V27: =IF(OR('Start here'!$B$5="",UPPER(SUBSTITUTE('Start here'!$B$6," ",""))=""),"",MID(UPPER(SUBSTITUTE('Start here'!$B$6," ","")),MOD(DATE(2026,6,19)-'Start here'!$B$5,LEN(UPPER(SUBSTITUTE('Start here'!$B$6," ",""))))+1,1)) | W27: =IF(OR('Start here'!$B$5="",UPPER(SUBSTITUTE('Start here'!$B$6," ",""))=""),"",MID(UPPER(SUBSTITUTE('Start here'!$B$6," ","")),MOD(DATE(2026,6,20)-'Start here'!$B$5,LEN(UPPER(SUBSTITUTE('Start here'!$B$6," ",""))))+1,1))
A28: 19 | B28: 20 | C28: 21 | D28: 22 | E28: 23 | F28: 24 | G28: 25 | I28: 17 | J28: 18 | K28: 19 | L28: 20 | M28: 21 | N28: 22 | O28: 23 | Q28: 21 | R28: 22 | S28: 23 | T28: 24 | U28: 25 | V28: 26 | W28: 27
A29: =IF(OR('Start here'!$B$5="",UPPER(SUBSTITUTE('Start here'!$B$6," ",""))=""),"",MID(UPPER(SUBSTITUTE('Start here'!$B$6," ","")),MOD(DATE(2026,4,19)-'Start here'!$B$5,LEN(UPPER(SUBSTITUTE('Start here'!$B$6," ",""))))+1,1)) | B29: =IF(OR('Start here'!$B$5="",UPPER(SUBSTITUTE('Start here'!$B$6," ",""))=""),"",MID(UPPER(SUBSTITUTE('Start here'!$B$6," ","")),MOD(DATE(2026,4,20)-'Start here'!$B$5,LEN(UPPER(SUBSTITUTE('Start here'!$B$6," ",""))))+1,1)) | C29: =IF(OR('Start here'!$B$5="",UPPER(SUBSTITUTE('Start here'!$B$6," ",""))=""),"",MID(UPPER(SUBSTITUTE('Start here'!$B$6," ","")),MOD(DATE(2026,4,21)-'Start here'!$B$5,LEN(UPPER(SUBSTITUTE('Start here'!$B$6," ",""))))+1,1)) | D29: =IF(OR('Start here'!$B$5="",UPPER(SUBSTITUTE('Start here'!$B$6," ",""))=""),"",MID(UPPER(SUBSTITUTE('Start here'!$B$6," ","")),MOD(DATE(2026,4,22)-'Start here'!$B$5,LEN(UPPER(SUBSTITUTE('Start here'!$B$6," ",""))))+1,1)) | E29: =IF(OR('Start here'!$B$5="",UPPER(SUBSTITUTE('Start here'!$B$6," ",""))=""),"",MID(UPPER(SUBSTITUTE('Start here'!$B$6," ","")),MOD(DATE(2026,4,23)-'Start here'!$B$5,LEN(UPPER(SUBSTITUTE('Start here'!$B$6," ",""))))+1,1)) | F29: =IF(OR('Start here'!$B$5="",UPPER(SUBSTITUTE('Start here'!$B$6," ",""))=""),"",MID(UPPER(SUBSTITUTE('Start here'!$B$6," ","")),MOD(DATE(2026,4,24)-'Start here'!$B$5,LEN(UPPER(SUBSTITUTE('Start here'!$B$6," ",""))))+1,1)) | G29: =IF(OR('Start here'!$B$5="",UPPER(SUBSTITUTE('Start here'!$B$6," ",""))=""),"",MID(UPPER(SUBSTITUTE('Start here'!$B$6," ","")),MOD(DATE(2026,4,25)-'Start here'!$B$5,LEN(UPPER(SUBSTITUTE('Start here'!$B$6," ",""))))+1,1)) | I29: =IF(OR('Start here'!$B$5="",UPPER(SUBSTITUTE('Start here'!$B$6," ",""))=""),"",MID(UPPER(SUBSTITUTE('Start here'!$B$6," ","")),MOD(DATE(2026,5,17)-'Start here'!$B$5,LEN(UPPER(SUBSTITUTE('Start here'!$B$6," ",""))))+1,1)) | J29: =IF(OR('Start here'!$B$5="",UPPER(SUBSTITUTE('Start here'!$B$6," ",""))=""),"",MID(UPPER(SUBSTITUTE('Start here'!$B$6," ","")),MOD(DATE(2026,5,18)-'Start here'!$B$5,LEN(UPPER(SUBSTITUTE('Start here'!$B$6," ",""))))+1,1)) | K29: =IF(OR('Start here'!$B$5="",UPPER(SUBSTITUTE('Start here'!$B$6," ",""))=""),"",MID(UPPER(SUBSTITUTE('Start here'!$B$6," ","")),MOD(DATE(2026,5,19)-'Start here'!$B$5,LEN(UPPER(SUBSTITUTE('Start here'!$B$6," ",""))))+1,1)) | L29: =IF(OR('Start here'!$B$5="",UPPER(SUBSTITUTE('Start here'!$B$6," ",""))=""),"",MID(UPPER(SUBSTITUTE('Start here'!$B$6," ","")),MOD(DATE(2026,5,20)-'Start here'!$B$5,LEN(UPPER(SUBSTITUTE('Start here'!$B$6," ",""))))+1,1)) | M29: =IF(OR('Start here'!$B$5="",UPPER(SUBSTITUTE('Start here'!$B$6," ",""))=""),"",MID(UPPER(SUBSTITUTE('Start here'!$B$6," ","")),MOD(DATE(2026,5,21)-'Start here'!$B$5,LEN(UPPER(SUBSTITUTE('Start here'!$B$6," ",""))))+1,1)) | N29: =IF(OR('Start here'!$B$5="",UPPER(SUBSTITUTE('Start here'!$B$6," ",""))=""),"",MID(UPPER(SUBSTITUTE('Start here'!$B$6," ","")),MOD(DATE(2026,5,22)-'Start here'!$B$5,LEN(UPPER(SUBSTITUTE('Start here'!$B$6," ",""))))+1,1)) | O29: =IF(OR('Start here'!$B$5="",UPPER(SUBSTITUTE('Start here'!$B$6," ",""))=""),"",MID(UPPER(SUBSTITUTE('Start here'!$B$6," ","")),MOD(DATE(2026,5,23)-'Start here'!$B$5,LEN(UPPER(SUBSTITUTE('Start here'!$B$6," ",""))))+1,1)) | Q29: =IF(OR('Start here'!$B$5="",UPPER(SUBSTITUTE('Start here'!$B$6," ",""))=""),"",MID(UPPER(SUBSTITUTE('Start here'!$B$6," ","")),MOD(DATE(2026,6,21)-'Start here'!$B$5,LEN(UPPER(SUBSTITUTE('Start here'!$B$6," ",""))))+1,1)) | R29: =IF(OR('Start here'!$B$5="",UPPER(SUBSTITUTE('Start here'!$B$6," ",""))=""),"",MID(UPPER(SUBSTITUTE('Start here'!$B$6," ","")),MOD(DATE(2026,6,22)-'Start here'!$B$5,LEN(UPPER(SUBSTITUTE('Start here'!$B$6," ",""))))+1,1)) | S29: =IF(OR('Start here'!$B$5="",UPPER(SUBSTITUTE('Start here'!$B$6," ",""))=""),"",MID(UPPER(SUBSTITUTE('Start here'!$B$6," ","")),MOD(DATE(2026,6,23)-'Start here'!$B$5,LEN(UPPER(SUBSTITUTE('Start here'!$B$6," ",""))))+1,1)) | T29: =IF(OR('Start here'!$B$5="",UPPER(SUBSTITUTE('Start here'!$B$6," ",""))=""),"",MID(UPPER(SUBSTITUTE('Start here'!$B$6," ","")),MOD(DATE(2026,6,24)-'Start here'!$B$5,LEN(UPPER(SUBSTITUTE('Start here'!$B$6," ",""))))+1,1)) | U29: =IF(OR('Start here'!$B$5="",UPPER(SUBSTITUTE('Start here'!$B$6," ",""))=""),"",MID(UPPER(SUBSTITUTE('Start here'!$B$6," ","")),MOD(DATE(2026,6,25)-'Start here'!$B$5,LEN(UPPER(SUBSTITUTE('Start here'!$B$6," ",""))))+1,1)) | V29: =IF(OR('Start here'!$B$5="",UPPER(SUBSTITUTE('Start here'!$B$6," ",""))=""),"",MID(UPPER(SUBSTITUTE('Start here'!$B$6," ","")),MOD(DATE(2026,6,26)-'Start here'!$B$5,LEN(UPPER(SUBSTITUTE('Start here'!$B$6," ",""))))+1,1)) | W29: =IF(OR('Start here'!$B$5="",UPPER(SUBSTITUTE('Start here'!$B$6," ",""))=""),"",MID(UPPER(SUBSTITUTE('Start here'!$B$6," ","")),MOD(DATE(2026,6,27)-'Start here'!$B$5,LEN(UPPER(SUBSTITUTE('Start here'!$B$6," ",""))))+1,1))
A30: 26 | B30: 27 | C30: 28 | D30: 29 | E30: 30 | I30: 24 | J30: 25 | K30: 26 | L30: 27 | M30: 28 | N30: 29 | O30: 30 | Q30: 28 | R30: 29 | S30: 30
A31: =IF(OR('Start here'!$B$5="",UPPER(SUBSTITUTE('Start here'!$B$6," ",""))=""),"",MID(UPPER(SUBSTITUTE('Start here'!$B$6," ","")),MOD(DATE(2026,4,26)-'Start here'!$B$5,LEN(UPPER(SUBSTITUTE('Start here'!$B$6," ",""))))+1,1)) | B31: =IF(OR('Start here'!$B$5="",UPPER(SUBSTITUTE('Start here'!$B$6," ",""))=""),"",MID(UPPER(SUBSTITUTE('Start here'!$B$6," ","")),MOD(DATE(2026,4,27)-'Start here'!$B$5,LEN(UPPER(SUBSTITUTE('Start here'!$B$6," ",""))))+1,1)) | C31: =IF(OR('Start here'!$B$5="",UPPER(SUBSTITUTE('Start here'!$B$6," ",""))=""),"",MID(UPPER(SUBSTITUTE('Start here'!$B$6," ","")),MOD(DATE(2026,4,28)-'Start here'!$B$5,LEN(UPPER(SUBSTITUTE('Start here'!$B$6," ",""))))+1,1)) | D31: =IF(OR('Start here'!$B$5="",UPPER(SUBSTITUTE('Start here'!$B$6," ",""))=""),"",MID(UPPER(SUBSTITUTE('Start here'!$B$6," ","")),MOD(DATE(2026,4,29)-'Start here'!$B$5,LEN(UPPER(SUBSTITUTE('Start here'!$B$6," ",""))))+1,1)) | E31: =IF(OR('Start here'!$B$5="",UPPER(SUBSTITUTE('Start here'!$B$6," ",""))=""),"",MID(UPPER(SUBSTITUTE('Start here'!$B$6," ","")),MOD(DATE(2026,4,30)-'Start here'!$B$5,LEN(UPPER(SUBSTITUTE('Start here'!$B$6," ",""))))+1,1)) | I31: =IF(OR('Start here'!$B$5="",UPPER(SUBSTITUTE('Start here'!$B$6," ",""))=""),"",MID(UPPER(SUBSTITUTE('Start here'!$B$6," ","")),MOD(DATE(2026,5,24)-'Start here'!$B$5,LEN(UPPER(SUBSTITUTE('Start here'!$B$6," ",""))))+1,1)) | J31: =IF(OR('Start here'!$B$5="",UPPER(SUBSTITUTE('Start here'!$B$6," ",""))=""),"",MID(UPPER(SUBSTITUTE('Start here'!$B$6," ","")),MOD(DATE(2026,5,25)-'Start here'!$B$5,LEN(UPPER(SUBSTITUTE('Start here'!$B$6," ",""))))+1,1)) | K31: =IF(OR('Start here'!$B$5="",UPPER(SUBSTITUTE('Start here'!$B$6," ",""))=""),"",MID(UPPER(SUBSTITUTE('Start here'!$B$6," ","")),MOD(DATE(2026,5,26)-'Start here'!$B$5,LEN(UPPER(SUBSTITUTE('Start here'!$B$6," ",""))))+1,1)) | L31: =IF(OR('Start here'!$B$5="",UPPER(SUBSTITUTE('Start here'!$B$6," ",""))=""),"",MID(UPPER(SUBSTITUTE('Start here'!$B$6," ","")),MOD(DATE(2026,5,27)-'Start here'!$B$5,LEN(UPPER(SUBSTITUTE('Start here'!$B$6," ",""))))+1,1)) | M31: =IF(OR('Start here'!$B$5="",UPPER(SUBSTITUTE('Start here'!$B$6," ",""))=""),"",MID(UPPER(SUBSTITUTE('Start here'!$B$6," ","")),MOD(DATE(2026,5,28)-'Start here'!$B$5,LEN(UPPER(SUBSTITUTE('Start here'!$B$6," ",""))))+1,1)) | N31: =IF(OR('Start here'!$B$5="",UPPER(SUBSTITUTE('Start here'!$B$6," ",""))=""),"",MID(UPPER(SUBSTITUTE('Start here'!$B$6," ","")),MOD(DATE(2026,5,29)-'Start here'!$B$5,LEN(UPPER(SUBSTITUTE('Start here'!$B$6," ",""))))+1,1)) | O31: =IF(OR('Start here'!$B$5="",UPPER(SUBSTITUTE('Start here'!$B$6," ",""))=""),"",MID(UPPER(SUBSTITUTE('Start here'!$B$6," ","")),MOD(DATE(2026,5,30)-'Start here'!$B$5,LEN(UPPER(SUBSTITUTE('Start here'!$B$6," ",""))))+1,1)) | Q31: =IF(OR('Start here'!$B$5="",UPPER(SUBSTITUTE('Start here'!$B$6," ",""))=""),"",MID(UPPER(SUBSTITUTE('Start here'!$B$6," ","")),MOD(DATE(2026,6,28)-'Start here'!$B$5,LEN(UPPER(SUBSTITUTE('Start here'!$B$6," ",""))))+1,1)) | R31: =IF(OR('Start here'!$B$5="",UPPER(SUBSTITUTE('Start here'!$B$6," ",""))=""),"",MID(UPPER(SUBSTITUTE('Start here'!$B$6," ","")),MOD(DATE(2026,6,29)-'Start here'!$B$5,LEN(UPPER(SUBSTITUTE('Start here'!$B$6," ",""))))+1,1)) | S31: =IF(OR('Start here'!$B$5="",UPPER(SUBSTITUTE('Start here'!$B$6," ",""))=""),"",MID(UPPER(SUBSTITUTE('Start here'!$B$6," ","")),MOD(DATE(2026,6,30)-'Start here'!$B$5,LEN(UPPER(SUBSTITUTE('Start here'!$B$6," ",""))))+1,1))
I32: 31
I33: =IF(OR('Start here'!$B$5="",UPPER(SUBSTITUTE('Start here'!$B$6," ",""))=""),"",MID(UPPER(SUBSTITUTE('Start here'!$B$6," ","")),MOD(DATE(2026,5,31)-'Start here'!$B$5,LEN(UPPER(SUBSTITUTE('Start here'!$B$6," ",""))))+1,1))
A34: Nights A | C34: =COUNTIF(A23:G33,"A") | E34: B | F34: =COUNTIF(A23:G33,"B") | I34: Nights A | K34: =COUNTIF(I23:O33,"A") | M34: B | N34: =COUNTIF(I23:O33,"B") | Q34: Nights A | S34: =COUNTIF(Q23:W33,"A") | U34: B | V34: =COUNTIF(Q23:W33,"B")
A36: July 2026 | I36: August 2026 | Q36: September 2026
A37: S | B37: M | C37: T | D37: W | E37: T | F37: F | G37: S | I37: S | J37: M | K37: T | L37: W | M37: T | N37: F | O37: S | Q37: S | R37: M | S37: T | T37: W | U37: T | V37: F | W37: S
D38: 1 | E38: 2 | F38: 3 | G38: 4 | O38: 1 | S38: 1 | T38: 2 | U38: 3 | V38: 4 | W38: 5
D39: =IF(OR('Start here'!$B$5="",UPPER(SUBSTITUTE('Start here'!$B$6," ",""))=""),"",MID(UPPER(SUBSTITUTE('Start here'!$B$6," ","")),MOD(DATE(2026,7,1)-'Start here'!$B$5,LEN(UPPER(SUBSTITUTE('Start here'!$B$6," ",""))))+1,1)) | E39: =IF(OR('Start here'!$B$5="",UPPER(SUBSTITUTE('Start here'!$B$6," ",""))=""),"",MID(UPPER(SUBSTITUTE('Start here'!$B$6," ","")),MOD(DATE(2026,7,2)-'Start here'!$B$5,LEN(UPPER(SUBSTITUTE('Start here'!$B$6," ",""))))+1,1)) | F39: =IF(OR('Start here'!$B$5="",UPPER(SUBSTITUTE('Start here'!$B$6," ",""))=""),"",MID(UPPER(SUBSTITUTE('Start here'!$B$6," ","")),MOD(DATE(2026,7,3)-'Start here'!$B$5,LEN(UPPER(SUBSTITUTE('Start here'!$B$6," ",""))))+1,1)) | G39: =IF(OR('Start here'!$B$5="",UPPER(SUBSTITUTE('Start here'!$B$6," ",""))=""),"",MID(UPPER(SUBSTITUTE('Start here'!$B$6," ","")),MOD(DATE(2026,7,4)-'Start here'!$B$5,LEN(UPPER(SUBSTITUTE('Start here'!$B$6," ",""))))+1,1)) | O39: =IF(OR('Start here'!$B$5="",UPPER(SUBSTITUTE('Start here'!$B$6," ",""))=""),"",MID(UPPER(SUBSTITUTE('Start here'!$B$6," ","")),MOD(DATE(2026,8,1)-'Start here'!$B$5,LEN(UPPER(SUBSTITUTE('Start here'!$B$6," ",""))))+1,1)) | S39: =IF(OR('Start here'!$B$5="",UPPER(SUBSTITUTE('Start here'!$B$6," ",""))=""),"",MID(UPPER(SUBSTITUTE('Start here'!$B$6," ","")),MOD(DATE(2026,9,1)-'Start here'!$B$5,LEN(UPPER(SUBSTITUTE('Start here'!$B$6," ",""))))+1,1)) | T39: =IF(OR('Start here'!$B$5="",UPPER(SUBSTITUTE('Start here'!$B$6," ",""))=""),"",MID(UPPER(SUBSTITUTE('Start here'!$B$6," ","")),MOD(DATE(2026,9,2)-'Start here'!$B$5,LEN(UPPER(SUBSTITUTE('Start here'!$B$6," ",""))))+1,1)) | U39: =IF(OR('Start here'!$B$5="",UPPER(SUBSTITUTE('Start here'!$B$6," ",""))=""),"",MID(UPPER(SUBSTITUTE('Start here'!$B$6," ","")),MOD(DATE(2026,9,3)-'Start here'!$B$5,LEN(UPPER(SUBSTITUTE('Start here'!$B$6," ",""))))+1,1)) | V39: =IF(OR('Start here'!$B$5="",UPPER(SUBSTITUTE('Start here'!$B$6," ",""))=""),"",MID(UPPER(SUBSTITUTE('Start here'!$B$6," ","")),MOD(DATE(2026,9,4)-'Start here'!$B$5,LEN(UPPER(SUBSTITUTE('Start here'!$B$6," ",""))))+1,1)) | W39: =IF(OR('Start here'!$B$5="",UPPER(SUBSTITUTE('Start here'!$B$6," ",""))=""),"",MID(UPPER(SUBSTITUTE('Start here'!$B$6," ","")),MOD(DATE(2026,9,5)-'Start here'!$B$5,LEN(UPPER(SUBSTITUTE('Start here'!$B$6," ",""))))+1,1))
A40: 5 | B40: 6 | C40: 7 | D40: 8 | E40: 9 | F40: 10 | G40: 11 | I40: 2 | J40: 3 | K40: 4 | L40: 5 | M40: 6 | N40: 7 | O40: 8 | Q40: 6 | R40: 7 | S40: 8 | T40: 9 | U40: 10 | V40: 11 | W40: 12
A41: =IF(OR('Start here'!$B$5="",UPPER(SUBSTITUTE('Start here'!$B$6," ",""))=""),"",MID(UPPER(SUBSTITUTE('Start here'!$B$6," ","")),MOD(DATE(2026,7,5)-'Start here'!$B$5,LEN(UPPER(SUBSTITUTE('Start here'!$B$6," ",""))))+1,1)) | B41: =IF(OR('Start here'!$B$5="",UPPER(SUBSTITUTE('Start here'!$B$6," ",""))=""),"",MID(UPPER(SUBSTITUTE('Start here'!$B$6," ","")),MOD(DATE(2026,7,6)-'Start here'!$B$5,LEN(UPPER(SUBSTITUTE('Start here'!$B$6," ",""))))+1,1)) | C41: =IF(OR('Start here'!$B$5="",UPPER(SUBSTITUTE('Start here'!$B$6," ",""))=""),"",MID(UPPER(SUBSTITUTE('Start here'!$B$6," ","")),MOD(DATE(2026,7,7)-'Start here'!$B$5,LEN(UPPER(SUBSTITUTE('Start here'!$B$6," ",""))))+1,1)) | D41: =IF(OR('Start here'!$B$5="",UPPER(SUBSTITUTE('Start here'!$B$6," ",""))=""),"",MID(UPPER(SUBSTITUTE('Start here'!$B$6," ","")),MOD(DATE(2026,7,8)-'Start here'!$B$5,LEN(UPPER(SUBSTITUTE('Start here'!$B$6," ",""))))+1,1)) | E41: =IF(OR('Start here'!$B$5="",UPPER(SUBSTITUTE('Start here'!$B$6," ",""))=""),"",MID(UPPER(SUBSTITUTE('Start here'!$B$6," ","")),MOD(DATE(2026,7,9)-'Start here'!$B$5,LEN(UPPER(SUBSTITUTE('Start here'!$B$6," ",""))))+1,1)) | F41: =IF(OR('Start here'!$B$5="",UPPER(SUBSTITUTE('Start here'!$B$6," ",""))=""),"",MID(UPPER(SUBSTITUTE('Start here'!$B$6," ","")),MOD(DATE(2026,7,10)-'Start here'!$B$5,LEN(UPPER(SUBSTITUTE('Start here'!$B$6," ",""))))+1,1)) | G41: =IF(OR('Start here'!$B$5="",UPPER(SUBSTITUTE('Start here'!$B$6," ",""))=""),"",MID(UPPER(SUBSTITUTE('Start here'!$B$6," ","")),MOD(DATE(2026,7,11)-'Start here'!$B$5,LEN(UPPER(SUBSTITUTE('Start here'!$B$6," ",""))))+1,1)) | I41: =IF(OR('Start here'!$B$5="",UPPER(SUBSTITUTE('Start here'!$B$6," ",""))=""),"",MID(UPPER(SUBSTITUTE('Start here'!$B$6," ","")),MOD(DATE(2026,8,2)-'Start here'!$B$5,LEN(UPPER(SUBSTITUTE('Start here'!$B$6," ",""))))+1,1)) | J41: =IF(OR('Start here'!$B$5="",UPPER(SUBSTITUTE('Start here'!$B$6," ",""))=""),"",MID(UPPER(SUBSTITUTE('Start here'!$B$6," ","")),MOD(DATE(2026,8,3)-'Start here'!$B$5,LEN(UPPER(SUBSTITUTE('Start here'!$B$6," ",""))))+1,1)) | K41: =IF(OR('Start here'!$B$5="",UPPER(SUBSTITUTE('Start here'!$B$6," ",""))=""),"",MID(UPPER(SUBSTITUTE('Start here'!$B$6," ","")),MOD(DATE(2026,8,4)-'Start here'!$B$5,LEN(UPPER(SUBSTITUTE('Start here'!$B$6," ",""))))+1,1)) | L41: =IF(OR('Start here'!$B$5="",UPPER(SUBSTITUTE('Start here'!$B$6," ",""))=""),"",MID(UPPER(SUBSTITUTE('Start here'!$B$6," ","")),MOD(DATE(2026,8,5)-'Start here'!$B$5,LEN(UPPER(SUBSTITUTE('Start here'!$B$6," ",""))))+1,1)) | M41: =IF(OR('Start here'!$B$5="",UPPER(SUBSTITUTE('Start here'!$B$6," ",""))=""),"",MID(UPPER(SUBSTITUTE('Start here'!$B$6," ","")),MOD(DATE(2026,8,6)-'Start here'!$B$5,LEN(UPPER(SUBSTITUTE('Start here'!$B$6," ",""))))+1,1)) | N41: =IF(OR('Start here'!$B$5="",UPPER(SUBSTITUTE('Start here'!$B$6," ",""))=""),"",MID(UPPER(SUBSTITUTE('Start here'!$B$6," ","")),MOD(DATE(2026,8,7)-'Start here'!$B$5,LEN(UPPER(SUBSTITUTE('Start here'!$B$6," ",""))))+1,1)) | O41: =IF(OR('Start here'!$B$5="",UPPER(SUBSTITUTE('Start here'!$B$6," ",""))=""),"",MID(UPPER(SUBSTITUTE('Start here'!$B$6," ","")),MOD(DATE(2026,8,8)-'Start here'!$B$5,LEN(UPPER(SUBSTITUTE('Start here'!$B$6," ",""))))+1,1)) | Q41: =IF(OR('Start here'!$B$5="",UPPER(SUBSTITUTE('Start here'!$B$6," ",""))=""),"",MID(UPPER(SUBSTITUTE('Start here'!$B$6," ","")),MOD(DATE(2026,9,6)-'Start here'!$B$5,LEN(UPPER(SUBSTITUTE('Start here'!$B$6," ",""))))+1,1)) | R41: =IF(OR('Start here'!$B$5="",UPPER(SUBSTITUTE('Start here'!$B$6," ",""))=""),"",MID(UPPER(SUBSTITUTE('Start here'!$B$6," ","")),MOD(DATE(2026,9,7)-'Start here'!$B$5,LEN(UPPER(SUBSTITUTE('Start here'!$B$6," ",""))))+1,1)) | S41: =IF(OR('Start here'!$B$5="",UPPER(SUBSTITUTE('Start here'!$B$6," ",""))=""),"",MID(UPPER(SUBSTITUTE('Start here'!$B$6," ","")),MOD(DATE(2026,9,8)-'Start here'!$B$5,LEN(UPPER(SUBSTITUTE('Start here'!$B$6," ",""))))+1,1)) | T41: =IF(OR('Start here'!$B$5="",UPPER(SUBSTITUTE('Start here'!$B$6," ",""))=""),"",MID(UPPER(SUBSTITUTE('Start here'!$B$6," ","")),MOD(DATE(2026,9,9)-'Start here'!$B$5,LEN(UPPER(SUBSTITUTE('Start here'!$B$6," ",""))))+1,1)) | U41: =IF(OR('Start here'!$B$5="",UPPER(SUBSTITUTE('Start here'!$B$6," ",""))=""),"",MID(UPPER(SUBSTITUTE('Start here'!$B$6," ","")),MOD(DATE(2026,9,10)-'Start here'!$B$5,LEN(UPPER(SUBSTITUTE('Start here'!$B$6," ",""))))+1,1)) | V41: =IF(OR('Start here'!$B$5="",UPPER(SUBSTITUTE('Start here'!$B$6," ",""))=""),"",MID(UPPER(SUBSTITUTE('Start here'!$B$6," ","")),MOD(DATE(2026,9,11)-'Start here'!$B$5,LEN(UPPER(SUBSTITUTE('Start here'!$B$6," ",""))))+1,1)) | W41: =IF(OR('Start here'!$B$5="",UPPER(SUBSTITUTE('Start here'!$B$6," ",""))=""),"",MID(UPPER(SUBSTITUTE('Start here'!$B$6," ","")),MOD(DATE(2026,9,12)-'Start here'!$B$5,LEN(UPPER(SUBSTITUTE('Start here'!$B$6," ",""))))+1,1))
A42: 12 | B42: 13 | C42: 14 | D42: 15 | E42: 16 | F42: 17 | G42: 18 | I42: 9 | J42: 10 | K42: 11 | L42: 12 | M42: 13 | N42: 14 | O42: 15 | Q42: 13 | R42: 14 | S42: 15 | T42: 16 | U42: 17 | V42: 18 | W42: 19
A43: =IF(OR('Start here'!$B$5="",UPPER(SUBSTITUTE('Start here'!$B$6," ",""))=""),"",MID(UPPER(SUBSTITUTE('Start here'!$B$6," ","")),MOD(DATE(2026,7,12)-'Start here'!$B$5,LEN(UPPER(SUBSTITUTE('Start here'!$B$6," ",""))))+1,1)) | B43: =IF(OR('Start here'!$B$5="",UPPER(SUBSTITUTE('Start here'!$B$6," ",""))=""),"",MID(UPPER(SUBSTITUTE('Start here'!$B$6," ","")),MOD(DATE(2026,7,13)-'Start here'!$B$5,LEN(UPPER(SUBSTITUTE('Start here'!$B$6," ",""))))+1,1)) | C43: =IF(OR('Start here'!$B$5="",UPPER(SUBSTITUTE('Start here'!$B$6," ",""))=""),"",MID(UPPER(SUBSTITUTE('Start here'!$B$6," ","")),MOD(DATE(2026,7,14)-'Start here'!$B$5,LEN(UPPER(SUBSTITUTE('Start here'!$B$6," ",""))))+1,1)) | D43: =IF(OR('Start here'!$B$5="",UPPER(SUBSTITUTE('Start here'!$B$6," ",""))=""),"",MID(UPPER(SUBSTITUTE('Start here'!$B$6," ","")),MOD(DATE(2026,7,15)-'Start here'!$B$5,LEN(UPPER(SUBSTITUTE('Start here'!$B$6," ",""))))+1,1)) | E43: =IF(OR('Start here'!$B$5="",UPPER(SUBSTITUTE('Start here'!$B$6," ",""))=""),"",MID(UPPER(SUBSTITUTE('Start here'!$B$6," ","")),MOD(DATE(2026,7,16)-'Start here'!$B$5,LEN(UPPER(SUBSTITUTE('Start here'!$B$6," ",""))))+1,1)) | F43: =IF(OR('Start here'!$B$5="",UPPER(SUBSTITUTE('Start here'!$B$6," ",""))=""),"",MID(UPPER(SUBSTITUTE('Start here'!$B$6," ","")),MOD(DATE(2026,7,17)-'Start here'!$B$5,LEN(UPPER(SUBSTITUTE('Start here'!$B$6," ",""))))+1,1)) | G43: =IF(OR('Start here'!$B$5="",UPPER(SUBSTITUTE('Start here'!$B$6," ",""))=""),"",MID(UPPER(SUBSTITUTE('Start here'!$B$6," ","")),MOD(DATE(2026,7,18)-'Start here'!$B$5,LEN(UPPER(SUBSTITUTE('Start here'!$B$6," ",""))))+1,1)) | I43: =IF(OR('Start here'!$B$5="",UPPER(SUBSTITUTE('Start here'!$B$6," ",""))=""),"",MID(UPPER(SUBSTITUTE('Start here'!$B$6," ","")),MOD(DATE(2026,8,9)-'Start here'!$B$5,LEN(UPPER(SUBSTITUTE('Start here'!$B$6," ",""))))+1,1)) | J43: =IF(OR('Start here'!$B$5="",UPPER(SUBSTITUTE('Start here'!$B$6," ",""))=""),"",MID(UPPER(SUBSTITUTE('Start here'!$B$6," ","")),MOD(DATE(2026,8,10)-'Start here'!$B$5,LEN(UPPER(SUBSTITUTE('Start here'!$B$6," ",""))))+1,1)) | K43: =IF(OR('Start here'!$B$5="",UPPER(SUBSTITUTE('Start here'!$B$6," ",""))=""),"",MID(UPPER(SUBSTITUTE('Start here'!$B$6," ","")),MOD(DATE(2026,8,11)-'Start here'!$B$5,LEN(UPPER(SUBSTITUTE('Start here'!$B$6," ",""))))+1,1)) | L43: =IF(OR('Start here'!$B$5="",UPPER(SUBSTITUTE('Start here'!$B$6," ",""))=""),"",MID(UPPER(SUBSTITUTE('Start here'!$B$6," ","")),MOD(DATE(2026,8,12)-'Start here'!$B$5,LEN(UPPER(SUBSTITUTE('Start here'!$B$6," ",""))))+1,1)) | M43: =IF(OR('Start here'!$B$5="",UPPER(SUBSTITUTE('Start here'!$B$6," ",""))=""),"",MID(UPPER(SUBSTITUTE('Start here'!$B$6," ","")),MOD(DATE(2026,8,13)-'Start here'!$B$5,LEN(UPPER(SUBSTITUTE('Start here'!$B$6," ",""))))+1,1)) | N43: =IF(OR('Start here'!$B$5="",UPPER(SUBSTITUTE('Start here'!$B$6," ",""))=""),"",MID(UPPER(SUBSTITUTE('Start here'!$B$6," ","")),MOD(DATE(2026,8,14)-'Start here'!$B$5,LEN(UPPER(SUBSTITUTE('Start here'!$B$6," ",""))))+1,1)) | O43: =IF(OR('Start here'!$B$5="",UPPER(SUBSTITUTE('Start here'!$B$6," ",""))=""),"",MID(UPPER(SUBSTITUTE('Start here'!$B$6," ","")),MOD(DATE(2026,8,15)-'Start here'!$B$5,LEN(UPPER(SUBSTITUTE('Start here'!$B$6," ",""))))+1,1)) | Q43: =IF(OR('Start here'!$B$5="",UPPER(SUBSTITUTE('Start here'!$B$6," ",""))=""),"",MID(UPPER(SUBSTITUTE('Start here'!$B$6," ","")),MOD(DATE(2026,9,13)-'Start here'!$B$5,LEN(UPPER(SUBSTITUTE('Start here'!$B$6," ",""))))+1,1)) | R43: =IF(OR('Start here'!$B$5="",UPPER(SUBSTITUTE('Start here'!$B$6," ",""))=""),"",MID(UPPER(SUBSTITUTE('Start here'!$B$6," ","")),MOD(DATE(2026,9,14)-'Start here'!$B$5,LEN(UPPER(SUBSTITUTE('Start here'!$B$6," ",""))))+1,1)) | S43: =IF(OR('Start here'!$B$5="",UPPER(SUBSTITUTE('Start here'!$B$6," ",""))=""),"",MID(UPPER(SUBSTITUTE('Start here'!$B$6," ","")),MOD(DATE(2026,9,15)-'Start here'!$B$5,LEN(UPPER(SUBSTITUTE('Start here'!$B$6," ",""))))+1,1)) | T43: =IF(OR('Start here'!$B$5="",UPPER(SUBSTITUTE('Start here'!$B$6," ",""))=""),"",MID(UPPER(SUBSTITUTE('Start here'!$B$6," ","")),MOD(DATE(2026,9,16)-'Start here'!$B$5,LEN(UPPER(SUBSTITUTE('Start here'!$B$6," ",""))))+1,1)) | U43: =IF(OR('Start here'!$B$5="",UPPER(SUBSTITUTE('Start here'!$B$6," ",""))=""),"",MID(UPPER(SUBSTITUTE('Start here'!$B$6," ","")),MOD(DATE(2026,9,17)-'Start here'!$B$5,LEN(UPPER(SUBSTITUTE('Start here'!$B$6," ",""))))+1,1)) | V43: =IF(OR('Start here'!$B$5="",UPPER(SUBSTITUTE('Start here'!$B$6," ",""))=""),"",MID(UPPER(SUBSTITUTE('Start here'!$B$6," ","")),MOD(DATE(2026,9,18)-'Start here'!$B$5,LEN(UPPER(SUBSTITUTE('Start here'!$B$6," ",""))))+1,1)) | W43: =IF(OR('Start here'!$B$5="",UPPER(SUBSTITUTE('Start here'!$B$6," ",""))=""),"",MID(UPPER(SUBSTITUTE('Start here'!$B$6," ","")),MOD(DATE(2026,9,19)-'Start here'!$B$5,LEN(UPPER(SUBSTITUTE('Start here'!$B$6," ",""))))+1,1))
A44: 19 | B44: 20 | C44: 21 | D44: 22 | E44: 23 | F44: 24 | G44: 25 | I44: 16 | J44: 17 | K44: 18 | L44: 19 | M44: 20 | N44: 21 | O44: 22 | Q44: 20 | R44: 21 | S44: 22 | T44: 23 | U44: 24 | V44: 25 | W44: 26
A45: =IF(OR('Start here'!$B$5="",UPPER(SUBSTITUTE('Start here'!$B$6," ",""))=""),"",MID(UPPER(SUBSTITUTE('Start here'!$B$6," ","")),MOD(DATE(2026,7,19)-'Start here'!$B$5,LEN(UPPER(SUBSTITUTE('Start here'!$B$6," ",""))))+1,1)) | B45: =IF(OR('Start here'!$B$5="",UPPER(SUBSTITUTE('Start here'!$B$6," ",""))=""),"",MID(UPPER(SUBSTITUTE('Start here'!$B$6," ","")),MOD(DATE(2026,7,20)-'Start here'!$B$5,LEN(UPPER(SUBSTITUTE('Start here'!$B$6," ",""))))+1,1)) | C45: =IF(OR('Start here'!$B$5="",UPPER(SUBSTITUTE('Start here'!$B$6," ",""))=""),"",MID(UPPER(SUBSTITUTE('Start here'!$B$6," ","")),MOD(DATE(2026,7,21)-'Start here'!$B$5,LEN(UPPER(SUBSTITUTE('Start here'!$B$6," ",""))))+1,1)) | D45: =IF(OR('Start here'!$B$5="",UPPER(SUBSTITUTE('Start here'!$B$6," ",""))=""),"",MID(UPPER(SUBSTITUTE('Start here'!$B$6," ","")),MOD(DATE(2026,7,22)-'Start here'!$B$5,LEN(UPPER(SUBSTITUTE('Start here'!$B$6," ",""))))+1,1)) | E45: =IF(OR('Start here'!$B$5="",UPPER(SUBSTITUTE('Start here'!$B$6," ",""))=""),"",MID(UPPER(SUBSTITUTE('Start here'!$B$6," ","")),MOD(DATE(2026,7,23)-'Start here'!$B$5,LEN(UPPER(SUBSTITUTE('Start here'!$B$6," ",""))))+1,1)) | F45: =IF(OR('Start here'!$B$5="",UPPER(SUBSTITUTE('Start here'!$B$6," ",""))=""),"",MID(UPPER(SUBSTITUTE('Start here'!$B$6," ","")),MOD(DATE(2026,7,24)-'Start here'!$B$5,LEN(UPPER(SUBSTITUTE('Start here'!$B$6," ",""))))+1,1)) | G45: =IF(OR('Start here'!$B$5="",UPPER(SUBSTITUTE('Start here'!$B$6," ",""))=""),"",MID(UPPER(SUBSTITUTE('Start here'!$B$6," ","")),MOD(DATE(2026,7,25)-'Start here'!$B$5,LEN(UPPER(SUBSTITUTE('Start here'!$B$6," ",""))))+1,1)) | I45: =IF(OR('Start here'!$B$5="",UPPER(SUBSTITUTE('Start here'!$B$6," ",""))=""),"",MID(UPPER(SUBSTITUTE('Start here'!$B$6," ","")),MOD(DATE(2026,8,16)-'Start here'!$B$5,LEN(UPPER(SUBSTITUTE('Start here'!$B$6," ",""))))+1,1)) | J45: =IF(OR('Start here'!$B$5="",UPPER(SUBSTITUTE('Start here'!$B$6," ",""))=""),"",MID(UPPER(SUBSTITUTE('Start here'!$B$6," ","")),MOD(DATE(2026,8,17)-'Start here'!$B$5,LEN(UPPER(SUBSTITUTE('Start here'!$B$6," ",""))))+1,1)) | K45: =IF(OR('Start here'!$B$5="",UPPER(SUBSTITUTE('Start here'!$B$6," ",""))=""),"",MID(UPPER(SUBSTITUTE('Start here'!$B$6," ","")),MOD(DATE(2026,8,18)-'Start here'!$B$5,LEN(UPPER(SUBSTITUTE('Start here'!$B$6," ",""))))+1,1)) | L45: =IF(OR('Start here'!$B$5="",UPPER(SUBSTITUTE('Start here'!$B$6," ",""))=""),"",MID(UPPER(SUBSTITUTE('Start here'!$B$6," ","")),MOD(DATE(2026,8,19)-'Start here'!$B$5,LEN(UPPER(SUBSTITUTE('Start here'!$B$6," ",""))))+1,1)) | M45: =IF(OR('Start here'!$B$5="",UPPER(SUBSTITUTE('Start here'!$B$6," ",""))=""),"",MID(UPPER(SUBSTITUTE('Start here'!$B$6," ","")),MOD(DATE(2026,8,20)-'Start here'!$B$5,LEN(UPPER(SUBSTITUTE('Start here'!$B$6," ",""))))+1,1)) | N45: =IF(OR('Start here'!$B$5="",UPPER(SUBSTITUTE('Start here'!$B$6," ",""))=""),"",MID(UPPER(SUBSTITUTE('Start here'!$B$6," ","")),MOD(DATE(2026,8,21)-'Start here'!$B$5,LEN(UPPER(SUBSTITUTE('Start here'!$B$6," ",""))))+1,1)) | O45: =IF(OR('Start here'!$B$5="",UPPER(SUBSTITUTE('Start here'!$B$6," ",""))=""),"",MID(UPPER(SUBSTITUTE('Start here'!$B$6," ","")),MOD(DATE(2026,8,22)-'Start here'!$B$5,LEN(UPPER(SUBSTITUTE('Start here'!$B$6," ",""))))+1,1)) | Q45: =IF(OR('Start here'!$B$5="",UPPER(SUBSTITUTE('Start here'!$B$6," ",""))=""),"",MID(UPPER(SUBSTITUTE('Start here'!$B$6," ","")),MOD(DATE(2026,9,20)-'Start here'!$B$5,LEN(UPPER(SUBSTITUTE('Start here'!$B$6," ",""))))+1,1)) | R45: =IF(OR('Start here'!$B$5="",UPPER(SUBSTITUTE('Start here'!$B$6," ",""))=""),"",MID(UPPER(SUBSTITUTE('Start here'!$B$6," ","")),MOD(DATE(2026,9,21)-'Start here'!$B$5,LEN(UPPER(SUBSTITUTE('Start here'!$B$6," ",""))))+1,1)) | S45: =IF(OR('Start here'!$B$5="",UPPER(SUBSTITUTE('Start here'!$B$6," ",""))=""),"",MID(UPPER(SUBSTITUTE('Start here'!$B$6," ","")),MOD(DATE(2026,9,22)-'Start here'!$B$5,LEN(UPPER(SUBSTITUTE('Start here'!$B$6," ",""))))+1,1)) | T45: =IF(OR('Start here'!$B$5="",UPPER(SUBSTITUTE('Start here'!$B$6," ",""))=""),"",MID(UPPER(SUBSTITUTE('Start here'!$B$6," ","")),MOD(DATE(2026,9,23)-'Start here'!$B$5,LEN(UPPER(SUBSTITUTE('Start here'!$B$6," ",""))))+1,1)) | U45: =IF(OR('Start here'!$B$5="",UPPER(SUBSTITUTE('Start here'!$B$6," ",""))=""),"",MID(UPPER(SUBSTITUTE('Start here'!$B$6," ","")),MOD(DATE(2026,9,24)-'Start here'!$B$5,LEN(UPPER(SUBSTITUTE('Start here'!$B$6," ",""))))+1,1)) | V45: =IF(OR('Start here'!$B$5="",UPPER(SUBSTITUTE('Start here'!$B$6," ",""))=""),"",MID(UPPER(SUBSTITUTE('Start here'!$B$6," ","")),MOD(DATE(2026,9,25)-'Start here'!$B$5,LEN(UPPER(SUBSTITUTE('Start here'!$B$6," ",""))))+1,1)) | W45: =IF(OR('Start here'!$B$5="",UPPER(SUBSTITUTE('Start here'!$B$6," ",""))=""),"",MID(UPPER(SUBSTITUTE('Start here'!$B$6," ","")),MOD(DATE(2026,9,26)-'Start here'!$B$5,LEN(UPPER(SUBSTITUTE('Start here'!$B$6," ",""))))+1,1))
A46: 26 | B46: 27 | C46: 28 | D46: 29 | E46: 30 | F46: 31 | I46: 23 | J46: 24 | K46: 25 | L46: 26 | M46: 27 | N46: 28 | O46: 29 | Q46: 27 | R46: 28 | S46: 29 | T46: 30
A47: =IF(OR('Start here'!$B$5="",UPPER(SUBSTITUTE('Start here'!$B$6," ",""))=""),"",MID(UPPER(SUBSTITUTE('Start here'!$B$6," ","")),MOD(DATE(2026,7,26)-'Start here'!$B$5,LEN(UPPER(SUBSTITUTE('Start here'!$B$6," ",""))))+1,1)) | B47: =IF(OR('Start here'!$B$5="",UPPER(SUBSTITUTE('Start here'!$B$6," ",""))=""),"",MID(UPPER(SUBSTITUTE('Start here'!$B$6," ","")),MOD(DATE(2026,7,27)-'Start here'!$B$5,LEN(UPPER(SUBSTITUTE('Start here'!$B$6," ",""))))+1,1)) | C47: =IF(OR('Start here'!$B$5="",UPPER(SUBSTITUTE('Start here'!$B$6," ",""))=""),"",MID(UPPER(SUBSTITUTE('Start here'!$B$6," ","")),MOD(DATE(2026,7,28)-'Start here'!$B$5,LEN(UPPER(SUBSTITUTE('Start here'!$B$6," ",""))))+1,1)) | D47: =IF(OR('Start here'!$B$5="",UPPER(SUBSTITUTE('Start here'!$B$6," ",""))=""),"",MID(UPPER(SUBSTITUTE('Start here'!$B$6," ","")),MOD(DATE(2026,7,29)-'Start here'!$B$5,LEN(UPPER(SUBSTITUTE('Start here'!$B$6," ",""))))+1,1)) | E47: =IF(OR('Start here'!$B$5="",UPPER(SUBSTITUTE('Start here'!$B$6," ",""))=""),"",MID(UPPER(SUBSTITUTE('Start here'!$B$6," ","")),MOD(DATE(2026,7,30)-'Start here'!$B$5,LEN(UPPER(SUBSTITUTE('Start here'!$B$6," ",""))))+1,1)) | F47: =IF(OR('Start here'!$B$5="",UPPER(SUBSTITUTE('Start here'!$B$6," ",""))=""),"",MID(UPPER(SUBSTITUTE('Start here'!$B$6," ","")),MOD(DATE(2026,7,31)-'Start here'!$B$5,LEN(UPPER(SUBSTITUTE('Start here'!$B$6," ",""))))+1,1)) | I47: =IF(OR('Start here'!$B$5="",UPPER(SUBSTITUTE('Start here'!$B$6," ",""))=""),"",MID(UPPER(SUBSTITUTE('Start here'!$B$6," ","")),MOD(DATE(2026,8,23)-'Start here'!$B$5,LEN(UPPER(SUBSTITUTE('Start here'!$B$6," ",""))))+1,1)) | J47: =IF(OR('Start here'!$B$5="",UPPER(SUBSTITUTE('Start here'!$B$6," ",""))=""),"",MID(UPPER(SUBSTITUTE('Start here'!$B$6," ","")),MOD(DATE(2026,8,24)-'Start here'!$B$5,LEN(UPPER(SUBSTITUTE('Start here'!$B$6," ",""))))+1,1)) | K47: =IF(OR('Start here'!$B$5="",UPPER(SUBSTITUTE('Start here'!$B$6," ",""))=""),"",MID(UPPER(SUBSTITUTE('Start here'!$B$6," ","")),MOD(DATE(2026,8,25)-'Start here'!$B$5,LEN(UPPER(SUBSTITUTE('Start here'!$B$6," ",""))))+1,1)) | L47: =IF(OR('Start here'!$B$5="",UPPER(SUBSTITUTE('Start here'!$B$6," ",""))=""),"",MID(UPPER(SUBSTITUTE('Start here'!$B$6," ","")),MOD(DATE(2026,8,26)-'Start here'!$B$5,LEN(UPPER(SUBSTITUTE('Start here'!$B$6," ",""))))+1,1)) | M47: =IF(OR('Start here'!$B$5="",UPPER(SUBSTITUTE('Start here'!$B$6," ",""))=""),"",MID(UPPER(SUBSTITUTE('Start here'!$B$6," ","")),MOD(DATE(2026,8,27)-'Start here'!$B$5,LEN(UPPER(SUBSTITUTE('Start here'!$B$6," ",""))))+1,1)) | N47: =IF(OR('Start here'!$B$5="",UPPER(SUBSTITUTE('Start here'!$B$6," ",""))=""),"",MID(UPPER(SUBSTITUTE('Start here'!$B$6," ","")),MOD(DATE(2026,8,28)-'Start here'!$B$5,LEN(UPPER(SUBSTITUTE('Start here'!$B$6," ",""))))+1,1)) | O47: =IF(OR('Start here'!$B$5="",UPPER(SUBSTITUTE('Start here'!$B$6," ",""))=""),"",MID(UPPER(SUBSTITUTE('Start here'!$B$6," ","")),MOD(DATE(2026,8,29)-'Start here'!$B$5,LEN(UPPER(SUBSTITUTE('Start here'!$B$6," ",""))))+1,1)) | Q47: =IF(OR('Start here'!$B$5="",UPPER(SUBSTITUTE('Start here'!$B$6," ",""))=""),"",MID(UPPER(SUBSTITUTE('Start here'!$B$6," ","")),MOD(DATE(2026,9,27)-'Start here'!$B$5,LEN(UPPER(SUBSTITUTE('Start here'!$B$6," ",""))))+1,1)) | R47: =IF(OR('Start here'!$B$5="",UPPER(SUBSTITUTE('Start here'!$B$6," ",""))=""),"",MID(UPPER(SUBSTITUTE('Start here'!$B$6," ","")),MOD(DATE(2026,9,28)-'Start here'!$B$5,LEN(UPPER(SUBSTITUTE('Start here'!$B$6," ",""))))+1,1)) | S47: =IF(OR('Start here'!$B$5="",UPPER(SUBSTITUTE('Start here'!$B$6," ",""))=""),"",MID(UPPER(SUBSTITUTE('Start here'!$B$6," ","")),MOD(DATE(2026,9,29)-'Start here'!$B$5,LEN(UPPER(SUBSTITUTE('Start here'!$B$6," ",""))))+1,1)) | T47: =IF(OR('Start here'!$B$5="",UPPER(SUBSTITUTE('Start here'!$B$6," ",""))=""),"",MID(UPPER(SUBSTITUTE('Start here'!$B$6," ","")),MOD(DATE(2026,9,30)-'Start here'!$B$5,LEN(UPPER(SUBSTITUTE('Start here'!$B$6," ",""))))+1,1))
I48: 30 | J48: 31
I49: =IF(OR('Start here'!$B$5="",UPPER(SUBSTITUTE('Start here'!$B$6," ",""))=""),"",MID(UPPER(SUBSTITUTE('Start here'!$B$6," ","")),MOD(DATE(2026,8,30)-'Start here'!$B$5,LEN(UPPER(SUBSTITUTE('Start here'!$B$6," ",""))))+1,1)) | J49: =IF(OR('Start here'!$B$5="",UPPER(SUBSTITUTE('Start here'!$B$6," ",""))=""),"",MID(UPPER(SUBSTITUTE('Start here'!$B$6," ","")),MOD(DATE(2026,8,31)-'Start here'!$B$5,LEN(UPPER(SUBSTITUTE('Start here'!$B$6," ",""))))+1,1))
A50: Nights A | C50: =COUNTIF(A39:G49,"A") | E50: B | F50: =COUNTIF(A39:G49,"B") | I50: Nights A | K50: =COUNTIF(I39:O49,"A") | M50: B | N50: =COUNTIF(I39:O49,"B") | Q50: Nights A | S50: =COUNTIF(Q39:W49,"A") | U50: B | V50: =COUNTIF(Q39:W49,"B")
A52: October 2026 | I52: November 2026 | Q52: December 2026
A53: S | B53: M | C53: T | D53: W | E53: T | F53: F | G53: S | I53: S | J53: M | K53: T | L53: W | M53: T | N53: F | O53: S | Q53: S | R53: M | S53: T | T53: W | U53: T | V53: F | W53: S
E54: 1 | F54: 2 | G54: 3 | I54: 1 | J54: 2 | K54: 3 | L54: 4 | M54: 5 | N54: 6 | O54: 7 | S54: 1 | T54: 2 | U54: 3 | V54: 4 | W54: 5
E55: =IF(OR('Start here'!$B$5="",UPPER(SUBSTITUTE('Start here'!$B$6," ",""))=""),"",MID(UPPER(SUBSTITUTE('Start here'!$B$6," ","")),MOD(DATE(2026,10,1)-'Start here'!$B$5,LEN(UPPER(SUBSTITUTE('Start here'!$B$6," ",""))))+1,1)) | F55: =IF(OR('Start here'!$B$5="",UPPER(SUBSTITUTE('Start here'!$B$6," ",""))=""),"",MID(UPPER(SUBSTITUTE('Start here'!$B$6," ","")),MOD(DATE(2026,10,2)-'Start here'!$B$5,LEN(UPPER(SUBSTITUTE('Start here'!$B$6," ",""))))+1,1)) | G55: =IF(OR('Start here'!$B$5="",UPPER(SUBSTITUTE('Start here'!$B$6," ",""))=""),"",MID(UPPER(SUBSTITUTE('Start here'!$B$6," ","")),MOD(DATE(2026,10,3)-'Start here'!$B$5,LEN(UPPER(SUBSTITUTE('Start here'!$B$6," ",""))))+1,1)) | I55: =IF(OR('Start here'!$B$5="",UPPER(SUBSTITUTE('Start here'!$B$6," ",""))=""),"",MID(UPPER(SUBSTITUTE('Start here'!$B$6," ","")),MOD(DATE(2026,11,1)-'Start here'!$B$5,LEN(UPPER(SUBSTITUTE('Start here'!$B$6," ",""))))+1,1)) | J55: =IF(OR('Start here'!$B$5="",UPPER(SUBSTITUTE('Start here'!$B$6," ",""))=""),"",MID(UPPER(SUBSTITUTE('Start here'!$B$6," ","")),MOD(DATE(2026,11,2)-'Start here'!$B$5,LEN(UPPER(SUBSTITUTE('Start here'!$B$6," ",""))))+1,1)) | K55: =IF(OR('Start here'!$B$5="",UPPER(SUBSTITUTE('Start here'!$B$6," ",""))=""),"",MID(UPPER(SUBSTITUTE('Start here'!$B$6," ","")),MOD(DATE(2026,11,3)-'Start here'!$B$5,LEN(UPPER(SUBSTITUTE('Start here'!$B$6," ",""))))+1,1)) | L55: =IF(OR('Start here'!$B$5="",UPPER(SUBSTITUTE('Start here'!$B$6," ",""))=""),"",MID(UPPER(SUBSTITUTE('Start here'!$B$6," ","")),MOD(DATE(2026,11,4)-'Start here'!$B$5,LEN(UPPER(SUBSTITUTE('Start here'!$B$6," ",""))))+1,1)) | M55: =IF(OR('Start here'!$B$5="",UPPER(SUBSTITUTE('Start here'!$B$6," ",""))=""),"",MID(UPPER(SUBSTITUTE('Start here'!$B$6," ","")),MOD(DATE(2026,11,5)-'Start here'!$B$5,LEN(UPPER(SUBSTITUTE('Start here'!$B$6," ",""))))+1,1)) | N55: =IF(OR('Start here'!$B$5="",UPPER(SUBSTITUTE('Start here'!$B$6," ",""))=""),"",MID(UPPER(SUBSTITUTE('Start here'!$B$6," ","")),MOD(DATE(2026,11,6)-'Start here'!$B$5,LEN(UPPER(SUBSTITUTE('Start here'!$B$6," ",""))))+1,1)) | O55: =IF(OR('Start here'!$B$5="",UPPER(SUBSTITUTE('Start here'!$B$6," ",""))=""),"",MID(UPPER(SUBSTITUTE('Start here'!$B$6," ","")),MOD(DATE(2026,11,7)-'Start here'!$B$5,LEN(UPPER(SUBSTITUTE('Start here'!$B$6," ",""))))+1,1)) | S55: =IF(OR('Start here'!$B$5="",UPPER(SUBSTITUTE('Start here'!$B$6," ",""))=""),"",MID(UPPER(SUBSTITUTE('Start here'!$B$6," ","")),MOD(DATE(2026,12,1)-'Start here'!$B$5,LEN(UPPER(SUBSTITUTE('Start here'!$B$6," ",""))))+1,1)) | T55: =IF(OR('Start here'!$B$5="",UPPER(SUBSTITUTE('Start here'!$B$6," ",""))=""),"",MID(UPPER(SUBSTITUTE('Start here'!$B$6," ","")),MOD(DATE(2026,12,2)-'Start here'!$B$5,LEN(UPPER(SUBSTITUTE('Start here'!$B$6," ",""))))+1,1)) | U55: =IF(OR('Start here'!$B$5="",UPPER(SUBSTITUTE('Start here'!$B$6," ",""))=""),"",MID(UPPER(SUBSTITUTE('Start here'!$B$6," ","")),MOD(DATE(2026,12,3)-'Start here'!$B$5,LEN(UPPER(SUBSTITUTE('Start here'!$B$6," ",""))))+1,1)) | V55: =IF(OR('Start here'!$B$5="",UPPER(SUBSTITUTE('Start here'!$B$6," ",""))=""),"",MID(UPPER(SUBSTITUTE('Start here'!$B$6," ","")),MOD(DATE(2026,12,4)-'Start here'!$B$5,LEN(UPPER(SUBSTITUTE('Start here'!$B$6," ",""))))+1,1)) | W55: =IF(OR('Start here'!$B$5="",UPPER(SUBSTITUTE('Start here'!$B$6," ",""))=""),"",MID(UPPER(SUBSTITUTE('Start here'!$B$6," ","")),MOD(DATE(2026,12,5)-'Start here'!$B$5,LEN(UPPER(SUBSTITUTE('Start here'!$B$6," ",""))))+1,1))
A56: 4 | B56: 5 | C56: 6 | D56: 7 | E56: 8 | F56: 9 | G56: 10 | I56: 8 | J56: 9 | K56: 10 | L56: 11 | M56: 12 | N56: 13 | O56: 14 | Q56: 6 | R56: 7 | S56: 8 | T56: 9 | U56: 10 | V56: 11 | W56: 12
A57: =IF(OR('Start here'!$B$5="",UPPER(SUBSTITUTE('Start here'!$B$6," ",""))=""),"",MID(UPPER(SUBSTITUTE('Start here'!$B$6," ","")),MOD(DATE(2026,10,4)-'Start here'!$B$5,LEN(UPPER(SUBSTITUTE('Start here'!$B$6," ",""))))+1,1)) | B57: =IF(OR('Start here'!$B$5="",UPPER(SUBSTITUTE('Start here'!$B$6," ",""))=""),"",MID(UPPER(SUBSTITUTE('Start here'!$B$6," ","")),MOD(DATE(2026,10,5)-'Start here'!$B$5,LEN(UPPER(SUBSTITUTE('Start here'!$B$6," ",""))))+1,1)) | C57: =IF(OR('Start here'!$B$5="",UPPER(SUBSTITUTE('Start here'!$B$6," ",""))=""),"",MID(UPPER(SUBSTITUTE('Start here'!$B$6," ","")),MOD(DATE(2026,10,6)-'Start here'!$B$5,LEN(UPPER(SUBSTITUTE('Start here'!$B$6," ",""))))+1,1)) | D57: =IF(OR('Start here'!$B$5="",UPPER(SUBSTITUTE('Start here'!$B$6," ",""))=""),"",MID(UPPER(SUBSTITUTE('Start here'!$B$6," ","")),MOD(DATE(2026,10,7)-'Start here'!$B$5,LEN(UPPER(SUBSTITUTE('Start here'!$B$6," ",""))))+1,1)) | E57: =IF(OR('Start here'!$B$5="",UPPER(SUBSTITUTE('Start here'!$B$6," ",""))=""),"",MID(UPPER(SUBSTITUTE('Start here'!$B$6," ","")),MOD(DATE(2026,10,8)-'Start here'!$B$5,LEN(UPPER(SUBSTITUTE('Start here'!$B$6," ",""))))+1,1)) | F57: =IF(OR('Start here'!$B$5="",UPPER(SUBSTITUTE('Start here'!$B$6," ",""))=""),"",MID(UPPER(SUBSTITUTE('Start here'!$B$6," ","")),MOD(DATE(2026,10,9)-'Start here'!$B$5,LEN(UPPER(SUBSTITUTE('Start here'!$B$6," ",""))))+1,1)) | G57: =IF(OR('Start here'!$B$5="",UPPER(SUBSTITUTE('Start here'!$B$6," ",""))=""),"",MID(UPPER(SUBSTITUTE('Start here'!$B$6," ","")),MOD(DATE(2026,10,10)-'Start here'!$B$5,LEN(UPPER(SUBSTITUTE('Start here'!$B$6," ",""))))+1,1)) | I57: =IF(OR('Start here'!$B$5="",UPPER(SUBSTITUTE('Start here'!$B$6," ",""))=""),"",MID(UPPER(SUBSTITUTE('Start here'!$B$6," ","")),MOD(DATE(2026,11,8)-'Start here'!$B$5,LEN(UPPER(SUBSTITUTE('Start here'!$B$6," ",""))))+1,1)) | J57: =IF(OR('Start here'!$B$5="",UPPER(SUBSTITUTE('Start here'!$B$6," ",""))=""),"",MID(UPPER(SUBSTITUTE('Start here'!$B$6," ","")),MOD(DATE(2026,11,9)-'Start here'!$B$5,LEN(UPPER(SUBSTITUTE('Start here'!$B$6," ",""))))+1,1)) | K57: =IF(OR('Start here'!$B$5="",UPPER(SUBSTITUTE('Start here'!$B$6," ",""))=""),"",MID(UPPER(SUBSTITUTE('Start here'!$B$6," ","")),MOD(DATE(2026,11,10)-'Start here'!$B$5,LEN(UPPER(SUBSTITUTE('Start here'!$B$6," ",""))))+1,1)) | L57: =IF(OR('Start here'!$B$5="",UPPER(SUBSTITUTE('Start here'!$B$6," ",""))=""),"",MID(UPPER(SUBSTITUTE('Start here'!$B$6," ","")),MOD(DATE(2026,11,11)-'Start here'!$B$5,LEN(UPPER(SUBSTITUTE('Start here'!$B$6," ",""))))+1,1)) | M57: =IF(OR('Start here'!$B$5="",UPPER(SUBSTITUTE('Start here'!$B$6," ",""))=""),"",MID(UPPER(SUBSTITUTE('Start here'!$B$6," ","")),MOD(DATE(2026,11,12)-'Start here'!$B$5,LEN(UPPER(SUBSTITUTE('Start here'!$B$6," ",""))))+1,1)) | N57: =IF(OR('Start here'!$B$5="",UPPER(SUBSTITUTE('Start here'!$B$6," ",""))=""),"",MID(UPPER(SUBSTITUTE('Start here'!$B$6," ","")),MOD(DATE(2026,11,13)-'Start here'!$B$5,LEN(UPPER(SUBSTITUTE('Start here'!$B$6," ",""))))+1,1)) | O57: =IF(OR('Start here'!$B$5="",UPPER(SUBSTITUTE('Start here'!$B$6," ",""))=""),"",MID(UPPER(SUBSTITUTE('Start here'!$B$6," ","")),MOD(DATE(2026,11,14)-'Start here'!$B$5,LEN(UPPER(SUBSTITUTE('Start here'!$B$6," ",""))))+1,1)) | Q57: =IF(OR('Start here'!$B$5="",UPPER(SUBSTITUTE('Start here'!$B$6," ",""))=""),"",MID(UPPER(SUBSTITUTE('Start here'!$B$6," ","")),MOD(DATE(2026,12,6)-'Start here'!$B$5,LEN(UPPER(SUBSTITUTE('Start here'!$B$6," ",""))))+1,1)) | R57: =IF(OR('Start here'!$B$5="",UPPER(SUBSTITUTE('Start here'!$B$6," ",""))=""),"",MID(UPPER(SUBSTITUTE('Start here'!$B$6," ","")),MOD(DATE(2026,12,7)-'Start here'!$B$5,LEN(UPPER(SUBSTITUTE('Start here'!$B$6," ",""))))+1,1)) | S57: =IF(OR('Start here'!$B$5="",UPPER(SUBSTITUTE('Start here'!$B$6," ",""))=""),"",MID(UPPER(SUBSTITUTE('Start here'!$B$6," ","")),MOD(DATE(2026,12,8)-'Start here'!$B$5,LEN(UPPER(SUBSTITUTE('Start here'!$B$6," ",""))))+1,1)) | T57: =IF(OR('Start here'!$B$5="",UPPER(SUBSTITUTE('Start here'!$B$6," ",""))=""),"",MID(UPPER(SUBSTITUTE('Start here'!$B$6," ","")),MOD(DATE(2026,12,9)-'Start here'!$B$5,LEN(UPPER(SUBSTITUTE('Start here'!$B$6," ",""))))+1,1)) | U57: =IF(OR('Start here'!$B$5="",UPPER(SUBSTITUTE('Start here'!$B$6," ",""))=""),"",MID(UPPER(SUBSTITUTE('Start here'!$B$6," ","")),MOD(DATE(2026,12,10)-'Start here'!$B$5,LEN(UPPER(SUBSTITUTE('Start here'!$B$6," ",""))))+1,1)) | V57: =IF(OR('Start here'!$B$5="",UPPER(SUBSTITUTE('Start here'!$B$6," ",""))=""),"",MID(UPPER(SUBSTITUTE('Start here'!$B$6," ","")),MOD(DATE(2026,12,11)-'Start here'!$B$5,LEN(UPPER(SUBSTITUTE('Start here'!$B$6," ",""))))+1,1)) | W57: =IF(OR('Start here'!$B$5="",UPPER(SUBSTITUTE('Start here'!$B$6," ",""))=""),"",MID(UPPER(SUBSTITUTE('Start here'!$B$6," ","")),MOD(DATE(2026,12,12)-'Start here'!$B$5,LEN(UPPER(SUBSTITUTE('Start here'!$B$6," ",""))))+1,1))
A58: 11 | B58: 12 | C58: 13 | D58: 14 | E58: 15 | F58: 16 | G58: 17 | I58: 15 | J58: 16 | K58: 17 | L58: 18 | M58: 19 | N58: 20 | O58: 21 | Q58: 13 | R58: 14 | S58: 15 | T58: 16 | U58: 17 | V58: 18 | W58: 19
A59: =IF(OR('Start here'!$B$5="",UPPER(SUBSTITUTE('Start here'!$B$6," ",""))=""),"",MID(UPPER(SUBSTITUTE('Start here'!$B$6," ","")),MOD(DATE(2026,10,11)-'Start here'!$B$5,LEN(UPPER(SUBSTITUTE('Start here'!$B$6," ",""))))+1,1)) | B59: =IF(OR('Start here'!$B$5="",UPPER(SUBSTITUTE('Start here'!$B$6," ",""))=""),"",MID(UPPER(SUBSTITUTE('Start here'!$B$6," ","")),MOD(DATE(2026,10,12)-'Start here'!$B$5,LEN(UPPER(SUBSTITUTE('Start here'!$B$6," ",""))))+1,1)) | C59: =IF(OR('Start here'!$B$5="",UPPER(SUBSTITUTE('Start here'!$B$6," ",""))=""),"",MID(UPPER(SUBSTITUTE('Start here'!$B$6," ","")),MOD(DATE(2026,10,13)-'Start here'!$B$5,LEN(UPPER(SUBSTITUTE('Start here'!$B$6," ",""))))+1,1)) | D59: =IF(OR('Start here'!$B$5="",UPPER(SUBSTITUTE('Start here'!$B$6," ",""))=""),"",MID(UPPER(SUBSTITUTE('Start here'!$B$6," ","")),MOD(DATE(2026,10,14)-'Start here'!$B$5,LEN(UPPER(SUBSTITUTE('Start here'!$B$6," ",""))))+1,1)) | E59: =IF(OR('Start here'!$B$5="",UPPER(SUBSTITUTE('Start here'!$B$6," ",""))=""),"",MID(UPPER(SUBSTITUTE('Start here'!$B$6," ","")),MOD(DATE(2026,10,15)-'Start here'!$B$5,LEN(UPPER(SUBSTITUTE('Start here'!$B$6," ",""))))+1,1)) | F59: =IF(OR('Start here'!$B$5="",UPPER(SUBSTITUTE('Start here'!$B$6," ",""))=""),"",MID(UPPER(SUBSTITUTE('Start here'!$B$6," ","")),MOD(DATE(2026,10,16)-'Start here'!$B$5,LEN(UPPER(SUBSTITUTE('Start here'!$B$6," ",""))))+1,1)) | G59: =IF(OR('Start here'!$B$5="",UPPER(SUBSTITUTE('Start here'!$B$6," ",""))=""),"",MID(UPPER(SUBSTITUTE('Start here'!$B$6," ","")),MOD(DATE(2026,10,17)-'Start here'!$B$5,LEN(UPPER(SUBSTITUTE('Start here'!$B$6," ",""))))+1,1)) | I59: =IF(OR('Start here'!$B$5="",UPPER(SUBSTITUTE('Start here'!$B$6," ",""))=""),"",MID(UPPER(SUBSTITUTE('Start here'!$B$6," ","")),MOD(DATE(2026,11,15)-'Start here'!$B$5,LEN(UPPER(SUBSTITUTE('Start here'!$B$6," ",""))))+1,1)) | J59: =IF(OR('Start here'!$B$5="",UPPER(SUBSTITUTE('Start here'!$B$6," ",""))=""),"",MID(UPPER(SUBSTITUTE('Start here'!$B$6," ","")),MOD(DATE(2026,11,16)-'Start here'!$B$5,LEN(UPPER(SUBSTITUTE('Start here'!$B$6," ",""))))+1,1)) | K59: =IF(OR('Start here'!$B$5="",UPPER(SUBSTITUTE('Start here'!$B$6," ",""))=""),"",MID(UPPER(SUBSTITUTE('Start here'!$B$6," ","")),MOD(DATE(2026,11,17)-'Start here'!$B$5,LEN(UPPER(SUBSTITUTE('Start here'!$B$6," ",""))))+1,1)) | L59: =IF(OR('Start here'!$B$5="",UPPER(SUBSTITUTE('Start here'!$B$6," ",""))=""),"",MID(UPPER(SUBSTITUTE('Start here'!$B$6," ","")),MOD(DATE(2026,11,18)-'Start here'!$B$5,LEN(UPPER(SUBSTITUTE('Start here'!$B$6," ",""))))+1,1)) | M59: =IF(OR('Start here'!$B$5="",UPPER(SUBSTITUTE('Start here'!$B$6," ",""))=""),"",MID(UPPER(SUBSTITUTE('Start here'!$B$6," ","")),MOD(DATE(2026,11,19)-'Start here'!$B$5,LEN(UPPER(SUBSTITUTE('Start here'!$B$6," ",""))))+1,1)) | N59: =IF(OR('Start here'!$B$5="",UPPER(SUBSTITUTE('Start here'!$B$6," ",""))=""),"",MID(UPPER(SUBSTITUTE('Start here'!$B$6," ","")),MOD(DATE(2026,11,20)-'Start here'!$B$5,LEN(UPPER(SUBSTITUTE('Start here'!$B$6," ",""))))+1,1)) | O59: =IF(OR('Start here'!$B$5="",UPPER(SUBSTITUTE('Start here'!$B$6," ",""))=""),"",MID(UPPER(SUBSTITUTE('Start here'!$B$6," ","")),MOD(DATE(2026,11,21)-'Start here'!$B$5,LEN(UPPER(SUBSTITUTE('Start here'!$B$6," ",""))))+1,1)) | Q59: =IF(OR('Start here'!$B$5="",UPPER(SUBSTITUTE('Start here'!$B$6," ",""))=""),"",MID(UPPER(SUBSTITUTE('Start here'!$B$6," ","")),MOD(DATE(2026,12,13)-'Start here'!$B$5,LEN(UPPER(SUBSTITUTE('Start here'!$B$6," ",""))))+1,1)) | R59: =IF(OR('Start here'!$B$5="",UPPER(SUBSTITUTE('Start here'!$B$6," ",""))=""),"",MID(UPPER(SUBSTITUTE('Start here'!$B$6," ","")),MOD(DATE(2026,12,14)-'Start here'!$B$5,LEN(UPPER(SUBSTITUTE('Start here'!$B$6," ",""))))+1,1)) | S59: =IF(OR('Start here'!$B$5="",UPPER(SUBSTITUTE('Start here'!$B$6," ",""))=""),"",MID(UPPER(SUBSTITUTE('Start here'!$B$6," ","")),MOD(DATE(2026,12,15)-'Start here'!$B$5,LEN(UPPER(SUBSTITUTE('Start here'!$B$6," ",""))))+1,1)) | T59: =IF(OR('Start here'!$B$5="",UPPER(SUBSTITUTE('Start here'!$B$6," ",""))=""),"",MID(UPPER(SUBSTITUTE('Start here'!$B$6," ","")),MOD(DATE(2026,12,16)-'Start here'!$B$5,LEN(UPPER(SUBSTITUTE('Start here'!$B$6," ",""))))+1,1)) | U59: =IF(OR('Start here'!$B$5="",UPPER(SUBSTITUTE('Start here'!$B$6," ",""))=""),"",MID(UPPER(SUBSTITUTE('Start here'!$B$6," ","")),MOD(DATE(2026,12,17)-'Start here'!$B$5,LEN(UPPER(SUBSTITUTE('Start here'!$B$6," ",""))))+1,1)) | V59: =IF(OR('Start here'!$B$5="",UPPER(SUBSTITUTE('Start here'!$B$6," ",""))=""),"",MID(UPPER(SUBSTITUTE('Start here'!$B$6," ","")),MOD(DATE(2026,12,18)-'Start here'!$B$5,LEN(UPPER(SUBSTITUTE('Start here'!$B$6," ",""))))+1,1)) | W59: =IF(OR('Start here'!$B$5="",UPPER(SUBSTITUTE('Start here'!$B$6," ",""))=""),"",MID(UPPER(SUBSTITUTE('Start here'!$B$6," ","")),MOD(DATE(2026,12,19)-'Start here'!$B$5,LEN(UPPER(SUBSTITUTE('Start here'!$B$6," ",""))))+1,1))
A60: 18 | B60: 19 | C60: 20 | D60: 21 | E60: 22 | F60: 23 | G60: 24 | I60: 22 | J60: 23 | K60: 24 | L60: 25 | M60: 26 | N60: 27 | O60: 28 | Q60: 20 | R60: 21 | S60: 22 | T60: 23 | U60: 24 | V60: 25 | W60: 26
A61: =IF(OR('Start here'!$B$5="",UPPER(SUBSTITUTE('Start here'!$B$6," ",""))=""),"",MID(UPPER(SUBSTITUTE('Start here'!$B$6," ","")),MOD(DATE(2026,10,18)-'Start here'!$B$5,LEN(UPPER(SUBSTITUTE('Start here'!$B$6," ",""))))+1,1)) | B61: =IF(OR('Start here'!$B$5="",UPPER(SUBSTITUTE('Start here'!$B$6," ",""))=""),"",MID(UPPER(SUBSTITUTE('Start here'!$B$6," ","")),MOD(DATE(2026,10,19)-'Start here'!$B$5,LEN(UPPER(SUBSTITUTE('Start here'!$B$6," ",""))))+1,1)) | C61: =IF(OR('Start here'!$B$5="",UPPER(SUBSTITUTE('Start here'!$B$6," ",""))=""),"",MID(UPPER(SUBSTITUTE('Start here'!$B$6," ","")),MOD(DATE(2026,10,20)-'Start here'!$B$5,LEN(UPPER(SUBSTITUTE('Start here'!$B$6," ",""))))+1,1)) | D61: =IF(OR('Start here'!$B$5="",UPPER(SUBSTITUTE('Start here'!$B$6," ",""))=""),"",MID(UPPER(SUBSTITUTE('Start here'!$B$6," ","")),MOD(DATE(2026,10,21)-'Start here'!$B$5,LEN(UPPER(SUBSTITUTE('Start here'!$B$6," ",""))))+1,1)) | E61: =IF(OR('Start here'!$B$5="",UPPER(SUBSTITUTE('Start here'!$B$6," ",""))=""),"",MID(UPPER(SUBSTITUTE('Start here'!$B$6," ","")),MOD(DATE(2026,10,22)-'Start here'!$B$5,LEN(UPPER(SUBSTITUTE('Start here'!$B$6," ",""))))+1,1)) | F61: =IF(OR('Start here'!$B$5="",UPPER(SUBSTITUTE('Start here'!$B$6," ",""))=""),"",MID(UPPER(SUBSTITUTE('Start here'!$B$6," ","")),MOD(DATE(2026,10,23)-'Start here'!$B$5,LEN(UPPER(SUBSTITUTE('Start here'!$B$6," ",""))))+1,1)) | G61: =IF(OR('Start here'!$B$5="",UPPER(SUBSTITUTE('Start here'!$B$6," ",""))=""),"",MID(UPPER(SUBSTITUTE('Start here'!$B$6," ","")),MOD(DATE(2026,10,24)-'Start here'!$B$5,LEN(UPPER(SUBSTITUTE('Start here'!$B$6," ",""))))+1,1)) | I61: =IF(OR('Start here'!$B$5="",UPPER(SUBSTITUTE('Start here'!$B$6," ",""))=""),"",MID(UPPER(SUBSTITUTE('Start here'!$B$6," ","")),MOD(DATE(2026,11,22)-'Start here'!$B$5,LEN(UPPER(SUBSTITUTE('Start here'!$B$6," ",""))))+1,1)) | J61: =IF(OR('Start here'!$B$5="",UPPER(SUBSTITUTE('Start here'!$B$6," ",""))=""),"",MID(UPPER(SUBSTITUTE('Start here'!$B$6," ","")),MOD(DATE(2026,11,23)-'Start here'!$B$5,LEN(UPPER(SUBSTITUTE('Start here'!$B$6," ",""))))+1,1)) | K61: =IF(OR('Start here'!$B$5="",UPPER(SUBSTITUTE('Start here'!$B$6," ",""))=""),"",MID(UPPER(SUBSTITUTE('Start here'!$B$6," ","")),MOD(DATE(2026,11,24)-'Start here'!$B$5,LEN(UPPER(SUBSTITUTE('Start here'!$B$6," ",""))))+1,1)) | L61: =IF(OR('Start here'!$B$5="",UPPER(SUBSTITUTE('Start here'!$B$6," ",""))=""),"",MID(UPPER(SUBSTITUTE('Start here'!$B$6," ","")),MOD(DATE(2026,11,25)-'Start here'!$B$5,LEN(UPPER(SUBSTITUTE('Start here'!$B$6," ",""))))+1,1)) | M61: =IF(OR('Start here'!$B$5="",UPPER(SUBSTITUTE('Start here'!$B$6," ",""))=""),"",MID(UPPER(SUBSTITUTE('Start here'!$B$6," ","")),MOD(DATE(2026,11,26)-'Start here'!$B$5,LEN(UPPER(SUBSTITUTE('Start here'!$B$6," ",""))))+1,1)) | N61: =IF(OR('Start here'!$B$5="",UPPER(SUBSTITUTE('Start here'!$B$6," ",""))=""),"",MID(UPPER(SUBSTITUTE('Start here'!$B$6," ","")),MOD(DATE(2026,11,27)-'Start here'!$B$5,LEN(UPPER(SUBSTITUTE('Start here'!$B$6," ",""))))+1,1)) | O61: =IF(OR('Start here'!$B$5="",UPPER(SUBSTITUTE('Start here'!$B$6," ",""))=""),"",MID(UPPER(SUBSTITUTE('Start here'!$B$6," ","")),MOD(DATE(2026,11,28)-'Start here'!$B$5,LEN(UPPER(SUBSTITUTE('Start here'!$B$6," ",""))))+1,1)) | Q61: =IF(OR('Start here'!$B$5="",UPPER(SUBSTITUTE('Start here'!$B$6," ",""))=""),"",MID(UPPER(SUBSTITUTE('Start here'!$B$6," ","")),MOD(DATE(2026,12,20)-'Start here'!$B$5,LEN(UPPER(SUBSTITUTE('Start here'!$B$6," ",""))))+1,1)) | R61: =IF(OR('Start here'!$B$5="",UPPER(SUBSTITUTE('Start here'!$B$6," ",""))=""),"",MID(UPPER(SUBSTITUTE('Start here'!$B$6," ","")),MOD(DATE(2026,12,21)-'Start here'!$B$5,LEN(UPPER(SUBSTITUTE('Start here'!$B$6," ",""))))+1,1)) | S61: =IF(OR('Start here'!$B$5="",UPPER(SUBSTITUTE('Start here'!$B$6," ",""))=""),"",MID(UPPER(SUBSTITUTE('Start here'!$B$6," ","")),MOD(DATE(2026,12,22)-'Start here'!$B$5,LEN(UPPER(SUBSTITUTE('Start here'!$B$6," ",""))))+1,1)) | T61: =IF(OR('Start here'!$B$5="",UPPER(SUBSTITUTE('Start here'!$B$6," ",""))=""),"",MID(UPPER(SUBSTITUTE('Start here'!$B$6," ","")),MOD(DATE(2026,12,23)-'Start here'!$B$5,LEN(UPPER(SUBSTITUTE('Start here'!$B$6," ",""))))+1,1)) | U61: =IF(OR('Start here'!$B$5="",UPPER(SUBSTITUTE('Start here'!$B$6," ",""))=""),"",MID(UPPER(SUBSTITUTE('Start here'!$B$6," ","")),MOD(DATE(2026,12,24)-'Start here'!$B$5,LEN(UPPER(SUBSTITUTE('Start here'!$B$6," ",""))))+1,1)) | V61: =IF(OR('Start here'!$B$5="",UPPER(SUBSTITUTE('Start here'!$B$6," ",""))=""),"",MID(UPPER(SUBSTITUTE('Start here'!$B$6," ","")),MOD(DATE(2026,12,25)-'Start here'!$B$5,LEN(UPPER(SUBSTITUTE('Start here'!$B$6," ",""))))+1,1)) | W61: =IF(OR('Start here'!$B$5="",UPPER(SUBSTITUTE('Start here'!$B$6," ",""))=""),"",MID(UPPER(SUBSTITUTE('Start here'!$B$6," ","")),MOD(DATE(2026,12,26)-'Start here'!$B$5,LEN(UPPER(SUBSTITUTE('Start here'!$B$6," ",""))))+1,1))
A62: 25 | B62: 26 | C62: 27 | D62: 28 | E62: 29 | F62: 30 | G62: 31 | I62: 29 | J62: 30 | Q62: 27 | R62: 28 | S62: 29 | T62: 30 | U62: 31
A63: =IF(OR('Start here'!$B$5="",UPPER(SUBSTITUTE('Start here'!$B$6," ",""))=""),"",MID(UPPER(SUBSTITUTE('Start here'!$B$6," ","")),MOD(DATE(2026,10,25)-'Start here'!$B$5,LEN(UPPER(SUBSTITUTE('Start here'!$B$6," ",""))))+1,1)) | B63: =IF(OR('Start here'!$B$5="",UPPER(SUBSTITUTE('Start here'!$B$6," ",""))=""),"",MID(UPPER(SUBSTITUTE('Start here'!$B$6," ","")),MOD(DATE(2026,10,26)-'Start here'!$B$5,LEN(UPPER(SUBSTITUTE('Start here'!$B$6," ",""))))+1,1)) | C63: =IF(OR('Start here'!$B$5="",UPPER(SUBSTITUTE('Start here'!$B$6," ",""))=""),"",MID(UPPER(SUBSTITUTE('Start here'!$B$6," ","")),MOD(DATE(2026,10,27)-'Start here'!$B$5,LEN(UPPER(SUBSTITUTE('Start here'!$B$6," ",""))))+1,1)) | D63: =IF(OR('Start here'!$B$5="",UPPER(SUBSTITUTE('Start here'!$B$6," ",""))=""),"",MID(UPPER(SUBSTITUTE('Start here'!$B$6," ","")),MOD(DATE(2026,10,28)-'Start here'!$B$5,LEN(UPPER(SUBSTITUTE('Start here'!$B$6," ",""))))+1,1)) | E63: =IF(OR('Start here'!$B$5="",UPPER(SUBSTITUTE('Start here'!$B$6," ",""))=""),"",MID(UPPER(SUBSTITUTE('Start here'!$B$6," ","")),MOD(DATE(2026,10,29)-'Start here'!$B$5,LEN(UPPER(SUBSTITUTE('Start here'!$B$6," ",""))))+1,1)) | F63: =IF(OR('Start here'!$B$5="",UPPER(SUBSTITUTE('Start here'!$B$6," ",""))=""),"",MID(UPPER(SUBSTITUTE('Start here'!$B$6," ","")),MOD(DATE(2026,10,30)-'Start here'!$B$5,LEN(UPPER(SUBSTITUTE('Start here'!$B$6," ",""))))+1,1)) | G63: =IF(OR('Start here'!$B$5="",UPPER(SUBSTITUTE('Start here'!$B$6," ",""))=""),"",MID(UPPER(SUBSTITUTE('Start here'!$B$6," ","")),MOD(DATE(2026,10,31)-'Start here'!$B$5,LEN(UPPER(SUBSTITUTE('Start here'!$B$6," ",""))))+1,1)) | I63: =IF(OR('Start here'!$B$5="",UPPER(SUBSTITUTE('Start here'!$B$6," ",""))=""),"",MID(UPPER(SUBSTITUTE('Start here'!$B$6," ","")),MOD(DATE(2026,11,29)-'Start here'!$B$5,LEN(UPPER(SUBSTITUTE('Start here'!$B$6," ",""))))+1,1)) | J63: =IF(OR('Start here'!$B$5="",UPPER(SUBSTITUTE('Start here'!$B$6," ",""))=""),"",MID(UPPER(SUBSTITUTE('Start here'!$B$6," ","")),MOD(DATE(2026,11,30)-'Start here'!$B$5,LEN(UPPER(SUBSTITUTE('Start here'!$B$6," ",""))))+1,1)) | Q63: =IF(OR('Start here'!$B$5="",UPPER(SUBSTITUTE('Start here'!$B$6," ",""))=""),"",MID(UPPER(SUBSTITUTE('Start here'!$B$6," ","")),MOD(DATE(2026,12,27)-'Start here'!$B$5,LEN(UPPER(SUBSTITUTE('Start here'!$B$6," ",""))))+1,1)) | R63: =IF(OR('Start here'!$B$5="",UPPER(SUBSTITUTE('Start here'!$B$6," ",""))=""),"",MID(UPPER(SUBSTITUTE('Start here'!$B$6," ","")),MOD(DATE(2026,12,28)-'Start here'!$B$5,LEN(UPPER(SUBSTITUTE('Start here'!$B$6," ",""))))+1,1)) | S63: =IF(OR('Start here'!$B$5="",UPPER(SUBSTITUTE('Start here'!$B$6," ",""))=""),"",MID(UPPER(SUBSTITUTE('Start here'!$B$6," ","")),MOD(DATE(2026,12,29)-'Start here'!$B$5,LEN(UPPER(SUBSTITUTE('Start here'!$B$6," ",""))))+1,1)) | T63: =IF(OR('Start here'!$B$5="",UPPER(SUBSTITUTE('Start here'!$B$6," ",""))=""),"",MID(UPPER(SUBSTITUTE('Start here'!$B$6," ","")),MOD(DATE(2026,12,30)-'Start here'!$B$5,LEN(UPPER(SUBSTITUTE('Start here'!$B$6," ",""))))+1,1)) | U63: =IF(OR('Start here'!$B$5="",UPPER(SUBSTITUTE('Start here'!$B$6," ",""))=""),"",MID(UPPER(SUBSTITUTE('Start here'!$B$6," ","")),MOD(DATE(2026,12,31)-'Start here'!$B$5,LEN(UPPER(SUBSTITUTE('Start here'!$B$6," ",""))))+1,1))
A66: Nights A | C66: =COUNTIF(A55:G65,"A") | E66: B | F66: =COUNTIF(A55:G65,"B") | I66: Nights A | K66: =COUNTIF(I55:O65,"A") | M66: B | N66: =COUNTIF(I55:O65,"B") | Q66: Nights A | S66: =COUNTIF(Q55:W65,"A") | U66: B | V66: =COUNTIF(Q55:W65,"B")

Sheet 2027
A1: 2027 every other weekend custody calendar | Q1: 2027 nights A | S1: =C18+K18+S18+C34+K34+S34+C50+K50+S50+C66+K66+S66 | U1: Share A | W1: =IF(S1+S2=0,"",S1/(S1+S2))
A2: Filled in from the start date and pattern on the Start here sheet. To record a swap, type A or B over a night (that cell stops following the pattern). | Q2: 2027 nights B | S2: =F18+N18+V18+F34+N34+V34+F50+N50+V50+F66+N66+V66 | U2: Share B | W2: =IF(S1+S2=0,"",S2/(S1+S2))
A4: January 2027 | I4: February 2027 | Q4: March 2027
A5: S | B5: M | C5: T | D5: W | E5: T | F5: F | G5: S | I5: S | J5: M | K5: T | L5: W | M5: T | N5: F | O5: S | Q5: S | R5: M | S5: T | T5: W | U5: T | V5: F | W5: S
F6: 1 | G6: 2 | J6: 1 | K6: 2 | L6: 3 | M6: 4 | N6: 5 | O6: 6 | R6: 1 | S6: 2 | T6: 3 | U6: 4 | V6: 5 | W6: 6
F7: =IF(OR('Start here'!$B$5="",UPPER(SUBSTITUTE('Start here'!$B$6," ",""))=""),"",MID(UPPER(SUBSTITUTE('Start here'!$B$6," ","")),MOD(DATE(2027,1,1)-'Start here'!$B$5,LEN(UPPER(SUBSTITUTE('Start here'!$B$6," ",""))))+1,1)) | G7: =IF(OR('Start here'!$B$5="",UPPER(SUBSTITUTE('Start here'!$B$6," ",""))=""),"",MID(UPPER(SUBSTITUTE('Start here'!$B$6," ","")),MOD(DATE(2027,1,2)-'Start here'!$B$5,LEN(UPPER(SUBSTITUTE('Start here'!$B$6," ",""))))+1,1)) | J7: =IF(OR('Start here'!$B$5="",UPPER(SUBSTITUTE('Start here'!$B$6," ",""))=""),"",MID(UPPER(SUBSTITUTE('Start here'!$B$6," ","")),MOD(DATE(2027,2,1)-'Start here'!$B$5,LEN(UPPER(SUBSTITUTE('Start here'!$B$6," ",""))))+1,1)) | K7: =IF(OR('Start here'!$B$5="",UPPER(SUBSTITUTE('Start here'!$B$6," ",""))=""),"",MID(UPPER(SUBSTITUTE('Start here'!$B$6," ","")),MOD(DATE(2027,2,2)-'Start here'!$B$5,LEN(UPPER(SUBSTITUTE('Start here'!$B$6," ",""))))+1,1)) | L7: =IF(OR('Start here'!$B$5="",UPPER(SUBSTITUTE('Start here'!$B$6," ",""))=""),"",MID(UPPER(SUBSTITUTE('Start here'!$B$6," ","")),MOD(DATE(2027,2,3)-'Start here'!$B$5,LEN(UPPER(SUBSTITUTE('Start here'!$B$6," ",""))))+1,1)) | M7: =IF(OR('Start here'!$B$5="",UPPER(SUBSTITUTE('Start here'!$B$6," ",""))=""),"",MID(UPPER(SUBSTITUTE('Start here'!$B$6," ","")),MOD(DATE(2027,2,4)-'Start here'!$B$5,LEN(UPPER(SUBSTITUTE('Start here'!$B$6," ",""))))+1,1)) | N7: =IF(OR('Start here'!$B$5="",UPPER(SUBSTITUTE('Start here'!$B$6," ",""))=""),"",MID(UPPER(SUBSTITUTE('Start here'!$B$6," ","")),MOD(DATE(2027,2,5)-'Start here'!$B$5,LEN(UPPER(SUBSTITUTE('Start here'!$B$6," ",""))))+1,1)) | O7: =IF(OR('Start here'!$B$5="",UPPER(SUBSTITUTE('Start here'!$B$6," ",""))=""),"",MID(UPPER(SUBSTITUTE('Start here'!$B$6," ","")),MOD(DATE(2027,2,6)-'Start here'!$B$5,LEN(UPPER(SUBSTITUTE('Start here'!$B$6," ",""))))+1,1)) | R7: =IF(OR('Start here'!$B$5="",UPPER(SUBSTITUTE('Start here'!$B$6," ",""))=""),"",MID(UPPER(SUBSTITUTE('Start here'!$B$6," ","")),MOD(DATE(2027,3,1)-'Start here'!$B$5,LEN(UPPER(SUBSTITUTE('Start here'!$B$6," ",""))))+1,1)) | S7: =IF(OR('Start here'!$B$5="",UPPER(SUBSTITUTE('Start here'!$B$6," ",""))=""),"",MID(UPPER(SUBSTITUTE('Start here'!$B$6," ","")),MOD(DATE(2027,3,2)-'Start here'!$B$5,LEN(UPPER(SUBSTITUTE('Start here'!$B$6," ",""))))+1,1)) | T7: =IF(OR('Start here'!$B$5="",UPPER(SUBSTITUTE('Start here'!$B$6," ",""))=""),"",MID(UPPER(SUBSTITUTE('Start here'!$B$6," ","")),MOD(DATE(2027,3,3)-'Start here'!$B$5,LEN(UPPER(SUBSTITUTE('Start here'!$B$6," ",""))))+1,1)) | U7: =IF(OR('Start here'!$B$5="",UPPER(SUBSTITUTE('Start here'!$B$6," ",""))=""),"",MID(UPPER(SUBSTITUTE('Start here'!$B$6," ","")),MOD(DATE(2027,3,4)-'Start here'!$B$5,LEN(UPPER(SUBSTITUTE('Start here'!$B$6," ",""))))+1,1)) | V7: =IF(OR('Start here'!$B$5="",UPPER(SUBSTITUTE('Start here'!$B$6," ",""))=""),"",MID(UPPER(SUBSTITUTE('Start here'!$B$6," ","")),MOD(DATE(2027,3,5)-'Start here'!$B$5,LEN(UPPER(SUBSTITUTE('Start here'!$B$6," ",""))))+1,1)) | W7: =IF(OR('Start here'!$B$5="",UPPER(SUBSTITUTE('Start here'!$B$6," ",""))=""),"",MID(UPPER(SUBSTITUTE('Start here'!$B$6," ","")),MOD(DATE(2027,3,6)-'Start here'!$B$5,LEN(UPPER(SUBSTITUTE('Start here'!$B$6," ",""))))+1,1))
A8: 3 | B8: 4 | C8: 5 | D8: 6 | E8: 7 | F8: 8 | G8: 9 | I8: 7 | J8: 8 | K8: 9 | L8: 10 | M8: 11 | N8: 12 | O8: 13 | Q8: 7 | R8: 8 | S8: 9 | T8: 10 | U8: 11 | V8: 12 | W8: 13
A9: =IF(OR('Start here'!$B$5="",UPPER(SUBSTITUTE('Start here'!$B$6," ",""))=""),"",MID(UPPER(SUBSTITUTE('Start here'!$B$6," ","")),MOD(DATE(2027,1,3)-'Start here'!$B$5,LEN(UPPER(SUBSTITUTE('Start here'!$B$6," ",""))))+1,1)) | B9: =IF(OR('Start here'!$B$5="",UPPER(SUBSTITUTE('Start here'!$B$6," ",""))=""),"",MID(UPPER(SUBSTITUTE('Start here'!$B$6," ","")),MOD(DATE(2027,1,4)-'Start here'!$B$5,LEN(UPPER(SUBSTITUTE('Start here'!$B$6," ",""))))+1,1)) | C9: =IF(OR('Start here'!$B$5="",UPPER(SUBSTITUTE('Start here'!$B$6," ",""))=""),"",MID(UPPER(SUBSTITUTE('Start here'!$B$6," ","")),MOD(DATE(2027,1,5)-'Start here'!$B$5,LEN(UPPER(SUBSTITUTE('Start here'!$B$6," ",""))))+1,1)) | D9: =IF(OR('Start here'!$B$5="",UPPER(SUBSTITUTE('Start here'!$B$6," ",""))=""),"",MID(UPPER(SUBSTITUTE('Start here'!$B$6," ","")),MOD(DATE(2027,1,6)-'Start here'!$B$5,LEN(UPPER(SUBSTITUTE('Start here'!$B$6," ",""))))+1,1)) | E9: =IF(OR('Start here'!$B$5="",UPPER(SUBSTITUTE('Start here'!$B$6," ",""))=""),"",MID(UPPER(SUBSTITUTE('Start here'!$B$6," ","")),MOD(DATE(2027,1,7)-'Start here'!$B$5,LEN(UPPER(SUBSTITUTE('Start here'!$B$6," ",""))))+1,1)) | F9: =IF(OR('Start here'!$B$5="",UPPER(SUBSTITUTE('Start here'!$B$6," ",""))=""),"",MID(UPPER(SUBSTITUTE('Start here'!$B$6," ","")),MOD(DATE(2027,1,8)-'Start here'!$B$5,LEN(UPPER(SUBSTITUTE('Start here'!$B$6," ",""))))+1,1)) | G9: =IF(OR('Start here'!$B$5="",UPPER(SUBSTITUTE('Start here'!$B$6," ",""))=""),"",MID(UPPER(SUBSTITUTE('Start here'!$B$6," ","")),MOD(DATE(2027,1,9)-'Start here'!$B$5,LEN(UPPER(SUBSTITUTE('Start here'!$B$6," ",""))))+1,1)) | I9: =IF(OR('Start here'!$B$5="",UPPER(SUBSTITUTE('Start here'!$B$6," ",""))=""),"",MID(UPPER(SUBSTITUTE('Start here'!$B$6," ","")),MOD(DATE(2027,2,7)-'Start here'!$B$5,LEN(UPPER(SUBSTITUTE('Start here'!$B$6," ",""))))+1,1)) | J9: =IF(OR('Start here'!$B$5="",UPPER(SUBSTITUTE('Start here'!$B$6," ",""))=""),"",MID(UPPER(SUBSTITUTE('Start here'!$B$6," ","")),MOD(DATE(2027,2,8)-'Start here'!$B$5,LEN(UPPER(SUBSTITUTE('Start here'!$B$6," ",""))))+1,1)) | K9: =IF(OR('Start here'!$B$5="",UPPER(SUBSTITUTE('Start here'!$B$6," ",""))=""),"",MID(UPPER(SUBSTITUTE('Start here'!$B$6," ","")),MOD(DATE(2027,2,9)-'Start here'!$B$5,LEN(UPPER(SUBSTITUTE('Start here'!$B$6," ",""))))+1,1)) | L9: =IF(OR('Start here'!$B$5="",UPPER(SUBSTITUTE('Start here'!$B$6," ",""))=""),"",MID(UPPER(SUBSTITUTE('Start here'!$B$6," ","")),MOD(DATE(2027,2,10)-'Start here'!$B$5,LEN(UPPER(SUBSTITUTE('Start here'!$B$6," ",""))))+1,1)) | M9: =IF(OR('Start here'!$B$5="",UPPER(SUBSTITUTE('Start here'!$B$6," ",""))=""),"",MID(UPPER(SUBSTITUTE('Start here'!$B$6," ","")),MOD(DATE(2027,2,11)-'Start here'!$B$5,LEN(UPPER(SUBSTITUTE('Start here'!$B$6," ",""))))+1,1)) | N9: =IF(OR('Start here'!$B$5="",UPPER(SUBSTITUTE('Start here'!$B$6," ",""))=""),"",MID(UPPER(SUBSTITUTE('Start here'!$B$6," ","")),MOD(DATE(2027,2,12)-'Start here'!$B$5,LEN(UPPER(SUBSTITUTE('Start here'!$B$6," ",""))))+1,1)) | O9: =IF(OR('Start here'!$B$5="",UPPER(SUBSTITUTE('Start here'!$B$6," ",""))=""),"",MID(UPPER(SUBSTITUTE('Start here'!$B$6," ","")),MOD(DATE(2027,2,13)-'Start here'!$B$5,LEN(UPPER(SUBSTITUTE('Start here'!$B$6," ",""))))+1,1)) | Q9: =IF(OR('Start here'!$B$5="",UPPER(SUBSTITUTE('Start here'!$B$6," ",""))=""),"",MID(UPPER(SUBSTITUTE('Start here'!$B$6," ","")),MOD(DATE(2027,3,7)-'Start here'!$B$5,LEN(UPPER(SUBSTITUTE('Start here'!$B$6," ",""))))+1,1)) | R9: =IF(OR('Start here'!$B$5="",UPPER(SUBSTITUTE('Start here'!$B$6," ",""))=""),"",MID(UPPER(SUBSTITUTE('Start here'!$B$6," ","")),MOD(DATE(2027,3,8)-'Start here'!$B$5,LEN(UPPER(SUBSTITUTE('Start here'!$B$6," ",""))))+1,1)) | S9: =IF(OR('Start here'!$B$5="",UPPER(SUBSTITUTE('Start here'!$B$6," ",""))=""),"",MID(UPPER(SUBSTITUTE('Start here'!$B$6," ","")),MOD(DATE(2027,3,9)-'Start here'!$B$5,LEN(UPPER(SUBSTITUTE('Start here'!$B$6," ",""))))+1,1)) | T9: =IF(OR('Start here'!$B$5="",UPPER(SUBSTITUTE('Start here'!$B$6," ",""))=""),"",MID(UPPER(SUBSTITUTE('Start here'!$B$6," ","")),MOD(DATE(2027,3,10)-'Start here'!$B$5,LEN(UPPER(SUBSTITUTE('Start here'!$B$6," ",""))))+1,1)) | U9: =IF(OR('Start here'!$B$5="",UPPER(SUBSTITUTE('Start here'!$B$6," ",""))=""),"",MID(UPPER(SUBSTITUTE('Start here'!$B$6," ","")),MOD(DATE(2027,3,11)-'Start here'!$B$5,LEN(UPPER(SUBSTITUTE('Start here'!$B$6," ",""))))+1,1)) | V9: =IF(OR('Start here'!$B$5="",UPPER(SUBSTITUTE('Start here'!$B$6," ",""))=""),"",MID(UPPER(SUBSTITUTE('Start here'!$B$6," ","")),MOD(DATE(2027,3,12)-'Start here'!$B$5,LEN(UPPER(SUBSTITUTE('Start here'!$B$6," ",""))))+1,1)) | W9: =IF(OR('Start here'!$B$5="",UPPER(SUBSTITUTE('Start here'!$B$6," ",""))=""),"",MID(UPPER(SUBSTITUTE('Start here'!$B$6," ","")),MOD(DATE(2027,3,13)-'Start here'!$B$5,LEN(UPPER(SUBSTITUTE('Start here'!$B$6," ",""))))+1,1))
A10: 10 | B10: 11 | C10: 12 | D10: 13 | E10: 14 | F10: 15 | G10: 16 | I10: 14 | J10: 15 | K10: 16 | L10: 17 | M10: 18 | N10: 19 | O10: 20 | Q10: 14 | R10: 15 | S10: 16 | T10: 17 | U10: 18 | V10: 19 | W10: 20
A11: =IF(OR('Start here'!$B$5="",UPPER(SUBSTITUTE('Start here'!$B$6," ",""))=""),"",MID(UPPER(SUBSTITUTE('Start here'!$B$6," ","")),MOD(DATE(2027,1,10)-'Start here'!$B$5,LEN(UPPER(SUBSTITUTE('Start here'!$B$6," ",""))))+1,1)) | B11: =IF(OR('Start here'!$B$5="",UPPER(SUBSTITUTE('Start here'!$B$6," ",""))=""),"",MID(UPPER(SUBSTITUTE('Start here'!$B$6," ","")),MOD(DATE(2027,1,11)-'Start here'!$B$5,LEN(UPPER(SUBSTITUTE('Start here'!$B$6," ",""))))+1,1)) | C11: =IF(OR('Start here'!$B$5="",UPPER(SUBSTITUTE('Start here'!$B$6," ",""))=""),"",MID(UPPER(SUBSTITUTE('Start here'!$B$6," ","")),MOD(DATE(2027,1,12)-'Start here'!$B$5,LEN(UPPER(SUBSTITUTE('Start here'!$B$6," ",""))))+1,1)) | D11: =IF(OR('Start here'!$B$5="",UPPER(SUBSTITUTE('Start here'!$B$6," ",""))=""),"",MID(UPPER(SUBSTITUTE('Start here'!$B$6," ","")),MOD(DATE(2027,1,13)-'Start here'!$B$5,LEN(UPPER(SUBSTITUTE('Start here'!$B$6," ",""))))+1,1)) | E11: =IF(OR('Start here'!$B$5="",UPPER(SUBSTITUTE('Start here'!$B$6," ",""))=""),"",MID(UPPER(SUBSTITUTE('Start here'!$B$6," ","")),MOD(DATE(2027,1,14)-'Start here'!$B$5,LEN(UPPER(SUBSTITUTE('Start here'!$B$6," ",""))))+1,1)) | F11: =IF(OR('Start here'!$B$5="",UPPER(SUBSTITUTE('Start here'!$B$6," ",""))=""),"",MID(UPPER(SUBSTITUTE('Start here'!$B$6," ","")),MOD(DATE(2027,1,15)-'Start here'!$B$5,LEN(UPPER(SUBSTITUTE('Start here'!$B$6," ",""))))+1,1)) | G11: =IF(OR('Start here'!$B$5="",UPPER(SUBSTITUTE('Start here'!$B$6," ",""))=""),"",MID(UPPER(SUBSTITUTE('Start here'!$B$6," ","")),MOD(DATE(2027,1,16)-'Start here'!$B$5,LEN(UPPER(SUBSTITUTE('Start here'!$B$6," ",""))))+1,1)) | I11: =IF(OR('Start here'!$B$5="",UPPER(SUBSTITUTE('Start here'!$B$6," ",""))=""),"",MID(UPPER(SUBSTITUTE('Start here'!$B$6," ","")),MOD(DATE(2027,2,14)-'Start here'!$B$5,LEN(UPPER(SUBSTITUTE('Start here'!$B$6," ",""))))+1,1)) | J11: =IF(OR('Start here'!$B$5="",UPPER(SUBSTITUTE('Start here'!$B$6," ",""))=""),"",MID(UPPER(SUBSTITUTE('Start here'!$B$6," ","")),MOD(DATE(2027,2,15)-'Start here'!$B$5,LEN(UPPER(SUBSTITUTE('Start here'!$B$6," ",""))))+1,1)) | K11: =IF(OR('Start here'!$B$5="",UPPER(SUBSTITUTE('Start here'!$B$6," ",""))=""),"",MID(UPPER(SUBSTITUTE('Start here'!$B$6," ","")),MOD(DATE(2027,2,16)-'Start here'!$B$5,LEN(UPPER(SUBSTITUTE('Start here'!$B$6," ",""))))+1,1)) | L11: =IF(OR('Start here'!$B$5="",UPPER(SUBSTITUTE('Start here'!$B$6," ",""))=""),"",MID(UPPER(SUBSTITUTE('Start here'!$B$6," ","")),MOD(DATE(2027,2,17)-'Start here'!$B$5,LEN(UPPER(SUBSTITUTE('Start here'!$B$6," ",""))))+1,1)) | M11: =IF(OR('Start here'!$B$5="",UPPER(SUBSTITUTE('Start here'!$B$6," ",""))=""),"",MID(UPPER(SUBSTITUTE('Start here'!$B$6," ","")),MOD(DATE(2027,2,18)-'Start here'!$B$5,LEN(UPPER(SUBSTITUTE('Start here'!$B$6," ",""))))+1,1)) | N11: =IF(OR('Start here'!$B$5="",UPPER(SUBSTITUTE('Start here'!$B$6," ",""))=""),"",MID(UPPER(SUBSTITUTE('Start here'!$B$6," ","")),MOD(DATE(2027,2,19)-'Start here'!$B$5,LEN(UPPER(SUBSTITUTE('Start here'!$B$6," ",""))))+1,1)) | O11: =IF(OR('Start here'!$B$5="",UPPER(SUBSTITUTE('Start here'!$B$6," ",""))=""),"",MID(UPPER(SUBSTITUTE('Start here'!$B$6," ","")),MOD(DATE(2027,2,20)-'Start here'!$B$5,LEN(UPPER(SUBSTITUTE('Start here'!$B$6," ",""))))+1,1)) | Q11: =IF(OR('Start here'!$B$5="",UPPER(SUBSTITUTE('Start here'!$B$6," ",""))=""),"",MID(UPPER(SUBSTITUTE('Start here'!$B$6," ","")),MOD(DATE(2027,3,14)-'Start here'!$B$5,LEN(UPPER(SUBSTITUTE('Start here'!$B$6," ",""))))+1,1)) | R11: =IF(OR('Start here'!$B$5="",UPPER(SUBSTITUTE('Start here'!$B$6," ",""))=""),"",MID(UPPER(SUBSTITUTE('Start here'!$B$6," ","")),MOD(DATE(2027,3,15)-'Start here'!$B$5,LEN(UPPER(SUBSTITUTE('Start here'!$B$6," ",""))))+1,1)) | S11: =IF(OR('Start here'!$B$5="",UPPER(SUBSTITUTE('Start here'!$B$6," ",""))=""),"",MID(UPPER(SUBSTITUTE('Start here'!$B$6," ","")),MOD(DATE(2027,3,16)-'Start here'!$B$5,LEN(UPPER(SUBSTITUTE('Start here'!$B$6," ",""))))+1,1)) | T11: =IF(OR('Start here'!$B$5="",UPPER(SUBSTITUTE('Start here'!$B$6," ",""))=""),"",MID(UPPER(SUBSTITUTE('Start here'!$B$6," ","")),MOD(DATE(2027,3,17)-'Start here'!$B$5,LEN(UPPER(SUBSTITUTE('Start here'!$B$6," ",""))))+1,1)) | U11: =IF(OR('Start here'!$B$5="",UPPER(SUBSTITUTE('Start here'!$B$6," ",""))=""),"",MID(UPPER(SUBSTITUTE('Start here'!$B$6," ","")),MOD(DATE(2027,3,18)-'Start here'!$B$5,LEN(UPPER(SUBSTITUTE('Start here'!$B$6," ",""))))+1,1)) | V11: =IF(OR('Start here'!$B$5="",UPPER(SUBSTITUTE('Start here'!$B$6," ",""))=""),"",MID(UPPER(SUBSTITUTE('Start here'!$B$6," ","")),MOD(DATE(2027,3,19)-'Start here'!$B$5,LEN(UPPER(SUBSTITUTE('Start here'!$B$6," ",""))))+1,1)) | W11: =IF(OR('Start here'!$B$5="",UPPER(SUBSTITUTE('Start here'!$B$6," ",""))=""),"",MID(UPPER(SUBSTITUTE('Start here'!$B$6," ","")),MOD(DATE(2027,3,20)-'Start here'!$B$5,LEN(UPPER(SUBSTITUTE('Start here'!$B$6," ",""))))+1,1))
A12: 17 | B12: 18 | C12: 19 | D12: 20 | E12: 21 | F12: 22 | G12: 23 | I12: 21 | J12: 22 | K12: 23 | L12: 24 | M12: 25 | N12: 26 | O12: 27 | Q12: 21 | R12: 22 | S12: 23 | T12: 24 | U12: 25 | V12: 26 | W12: 27
A13: =IF(OR('Start here'!$B$5="",UPPER(SUBSTITUTE('Start here'!$B$6," ",""))=""),"",MID(UPPER(SUBSTITUTE('Start here'!$B$6," ","")),MOD(DATE(2027,1,17)-'Start here'!$B$5,LEN(UPPER(SUBSTITUTE('Start here'!$B$6," ",""))))+1,1)) | B13: =IF(OR('Start here'!$B$5="",UPPER(SUBSTITUTE('Start here'!$B$6," ",""))=""),"",MID(UPPER(SUBSTITUTE('Start here'!$B$6," ","")),MOD(DATE(2027,1,18)-'Start here'!$B$5,LEN(UPPER(SUBSTITUTE('Start here'!$B$6," ",""))))+1,1)) | C13: =IF(OR('Start here'!$B$5="",UPPER(SUBSTITUTE('Start here'!$B$6," ",""))=""),"",MID(UPPER(SUBSTITUTE('Start here'!$B$6," ","")),MOD(DATE(2027,1,19)-'Start here'!$B$5,LEN(UPPER(SUBSTITUTE('Start here'!$B$6," ",""))))+1,1)) | D13: =IF(OR('Start here'!$B$5="",UPPER(SUBSTITUTE('Start here'!$B$6," ",""))=""),"",MID(UPPER(SUBSTITUTE('Start here'!$B$6," ","")),MOD(DATE(2027,1,20)-'Start here'!$B$5,LEN(UPPER(SUBSTITUTE('Start here'!$B$6," ",""))))+1,1)) | E13: =IF(OR('Start here'!$B$5="",UPPER(SUBSTITUTE('Start here'!$B$6," ",""))=""),"",MID(UPPER(SUBSTITUTE('Start here'!$B$6," ","")),MOD(DATE(2027,1,21)-'Start here'!$B$5,LEN(UPPER(SUBSTITUTE('Start here'!$B$6," ",""))))+1,1)) | F13: =IF(OR('Start here'!$B$5="",UPPER(SUBSTITUTE('Start here'!$B$6," ",""))=""),"",MID(UPPER(SUBSTITUTE('Start here'!$B$6," ","")),MOD(DATE(2027,1,22)-'Start here'!$B$5,LEN(UPPER(SUBSTITUTE('Start here'!$B$6," ",""))))+1,1)) | G13: =IF(OR('Start here'!$B$5="",UPPER(SUBSTITUTE('Start here'!$B$6," ",""))=""),"",MID(UPPER(SUBSTITUTE('Start here'!$B$6," ","")),MOD(DATE(2027,1,23)-'Start here'!$B$5,LEN(UPPER(SUBSTITUTE('Start here'!$B$6," ",""))))+1,1)) | I13: =IF(OR('Start here'!$B$5="",UPPER(SUBSTITUTE('Start here'!$B$6," ",""))=""),"",MID(UPPER(SUBSTITUTE('Start here'!$B$6," ","")),MOD(DATE(2027,2,21)-'Start here'!$B$5,LEN(UPPER(SUBSTITUTE('Start here'!$B$6," ",""))))+1,1)) | J13: =IF(OR('Start here'!$B$5="",UPPER(SUBSTITUTE('Start here'!$B$6," ",""))=""),"",MID(UPPER(SUBSTITUTE('Start here'!$B$6," ","")),MOD(DATE(2027,2,22)-'Start here'!$B$5,LEN(UPPER(SUBSTITUTE('Start here'!$B$6," ",""))))+1,1)) | K13: =IF(OR('Start here'!$B$5="",UPPER(SUBSTITUTE('Start here'!$B$6," ",""))=""),"",MID(UPPER(SUBSTITUTE('Start here'!$B$6," ","")),MOD(DATE(2027,2,23)-'Start here'!$B$5,LEN(UPPER(SUBSTITUTE('Start here'!$B$6," ",""))))+1,1)) | L13: =IF(OR('Start here'!$B$5="",UPPER(SUBSTITUTE('Start here'!$B$6," ",""))=""),"",MID(UPPER(SUBSTITUTE('Start here'!$B$6," ","")),MOD(DATE(2027,2,24)-'Start here'!$B$5,LEN(UPPER(SUBSTITUTE('Start here'!$B$6," ",""))))+1,1)) | M13: =IF(OR('Start here'!$B$5="",UPPER(SUBSTITUTE('Start here'!$B$6," ",""))=""),"",MID(UPPER(SUBSTITUTE('Start here'!$B$6," ","")),MOD(DATE(2027,2,25)-'Start here'!$B$5,LEN(UPPER(SUBSTITUTE('Start here'!$B$6," ",""))))+1,1)) | N13: =IF(OR('Start here'!$B$5="",UPPER(SUBSTITUTE('Start here'!$B$6," ",""))=""),"",MID(UPPER(SUBSTITUTE('Start here'!$B$6," ","")),MOD(DATE(2027,2,26)-'Start here'!$B$5,LEN(UPPER(SUBSTITUTE('Start here'!$B$6," ",""))))+1,1)) | O13: =IF(OR('Start here'!$B$5="",UPPER(SUBSTITUTE('Start here'!$B$6," ",""))=""),"",MID(UPPER(SUBSTITUTE('Start here'!$B$6," ","")),MOD(DATE(2027,2,27)-'Start here'!$B$5,LEN(UPPER(SUBSTITUTE('Start here'!$B$6," ",""))))+1,1)) | Q13: =IF(OR('Start here'!$B$5="",UPPER(SUBSTITUTE('Start here'!$B$6," ",""))=""),"",MID(UPPER(SUBSTITUTE('Start here'!$B$6," ","")),MOD(DATE(2027,3,21)-'Start here'!$B$5,LEN(UPPER(SUBSTITUTE('Start here'!$B$6," ",""))))+1,1)) | R13: =IF(OR('Start here'!$B$5="",UPPER(SUBSTITUTE('Start here'!$B$6," ",""))=""),"",MID(UPPER(SUBSTITUTE('Start here'!$B$6," ","")),MOD(DATE(2027,3,22)-'Start here'!$B$5,LEN(UPPER(SUBSTITUTE('Start here'!$B$6," ",""))))+1,1)) | S13: =IF(OR('Start here'!$B$5="",UPPER(SUBSTITUTE('Start here'!$B$6," ",""))=""),"",MID(UPPER(SUBSTITUTE('Start here'!$B$6," ","")),MOD(DATE(2027,3,23)-'Start here'!$B$5,LEN(UPPER(SUBSTITUTE('Start here'!$B$6," ",""))))+1,1)) | T13: =IF(OR('Start here'!$B$5="",UPPER(SUBSTITUTE('Start here'!$B$6," ",""))=""),"",MID(UPPER(SUBSTITUTE('Start here'!$B$6," ","")),MOD(DATE(2027,3,24)-'Start here'!$B$5,LEN(UPPER(SUBSTITUTE('Start here'!$B$6," ",""))))+1,1)) | U13: =IF(OR('Start here'!$B$5="",UPPER(SUBSTITUTE('Start here'!$B$6," ",""))=""),"",MID(UPPER(SUBSTITUTE('Start here'!$B$6," ","")),MOD(DATE(2027,3,25)-'Start here'!$B$5,LEN(UPPER(SUBSTITUTE('Start here'!$B$6," ",""))))+1,1)) | V13: =IF(OR('Start here'!$B$5="",UPPER(SUBSTITUTE('Start here'!$B$6," ",""))=""),"",MID(UPPER(SUBSTITUTE('Start here'!$B$6," ","")),MOD(DATE(2027,3,26)-'Start here'!$B$5,LEN(UPPER(SUBSTITUTE('Start here'!$B$6," ",""))))+1,1)) | W13: =IF(OR('Start here'!$B$5="",UPPER(SUBSTITUTE('Start here'!$B$6," ",""))=""),"",MID(UPPER(SUBSTITUTE('Start here'!$B$6," ","")),MOD(DATE(2027,3,27)-'Start here'!$B$5,LEN(UPPER(SUBSTITUTE('Start here'!$B$6," ",""))))+1,1))
A14: 24 | B14: 25 | C14: 26 | D14: 27 | E14: 28 | F14: 29 | G14: 30 | I14: 28 | Q14: 28 | R14: 29 | S14: 30 | T14: 31
A15: =IF(OR('Start here'!$B$5="",UPPER(SUBSTITUTE('Start here'!$B$6," ",""))=""),"",MID(UPPER(SUBSTITUTE('Start here'!$B$6," ","")),MOD(DATE(2027,1,24)-'Start here'!$B$5,LEN(UPPER(SUBSTITUTE('Start here'!$B$6," ",""))))+1,1)) | B15: =IF(OR('Start here'!$B$5="",UPPER(SUBSTITUTE('Start here'!$B$6," ",""))=""),"",MID(UPPER(SUBSTITUTE('Start here'!$B$6," ","")),MOD(DATE(2027,1,25)-'Start here'!$B$5,LEN(UPPER(SUBSTITUTE('Start here'!$B$6," ",""))))+1,1)) | C15: =IF(OR('Start here'!$B$5="",UPPER(SUBSTITUTE('Start here'!$B$6," ",""))=""),"",MID(UPPER(SUBSTITUTE('Start here'!$B$6," ","")),MOD(DATE(2027,1,26)-'Start here'!$B$5,LEN(UPPER(SUBSTITUTE('Start here'!$B$6," ",""))))+1,1)) | D15: =IF(OR('Start here'!$B$5="",UPPER(SUBSTITUTE('Start here'!$B$6," ",""))=""),"",MID(UPPER(SUBSTITUTE('Start here'!$B$6," ","")),MOD(DATE(2027,1,27)-'Start here'!$B$5,LEN(UPPER(SUBSTITUTE('Start here'!$B$6," ",""))))+1,1)) | E15: =IF(OR('Start here'!$B$5="",UPPER(SUBSTITUTE('Start here'!$B$6," ",""))=""),"",MID(UPPER(SUBSTITUTE('Start here'!$B$6," ","")),MOD(DATE(2027,1,28)-'Start here'!$B$5,LEN(UPPER(SUBSTITUTE('Start here'!$B$6," ",""))))+1,1)) | F15: =IF(OR('Start here'!$B$5="",UPPER(SUBSTITUTE('Start here'!$B$6," ",""))=""),"",MID(UPPER(SUBSTITUTE('Start here'!$B$6," ","")),MOD(DATE(2027,1,29)-'Start here'!$B$5,LEN(UPPER(SUBSTITUTE('Start here'!$B$6," ",""))))+1,1)) | G15: =IF(OR('Start here'!$B$5="",UPPER(SUBSTITUTE('Start here'!$B$6," ",""))=""),"",MID(UPPER(SUBSTITUTE('Start here'!$B$6," ","")),MOD(DATE(2027,1,30)-'Start here'!$B$5,LEN(UPPER(SUBSTITUTE('Start here'!$B$6," ",""))))+1,1)) | I15: =IF(OR('Start here'!$B$5="",UPPER(SUBSTITUTE('Start here'!$B$6," ",""))=""),"",MID(UPPER(SUBSTITUTE('Start here'!$B$6," ","")),MOD(DATE(2027,2,28)-'Start here'!$B$5,LEN(UPPER(SUBSTITUTE('Start here'!$B$6," ",""))))+1,1)) | Q15: =IF(OR('Start here'!$B$5="",UPPER(SUBSTITUTE('Start here'!$B$6," ",""))=""),"",MID(UPPER(SUBSTITUTE('Start here'!$B$6," ","")),MOD(DATE(2027,3,28)-'Start here'!$B$5,LEN(UPPER(SUBSTITUTE('Start here'!$B$6," ",""))))+1,1)) | R15: =IF(OR('Start here'!$B$5="",UPPER(SUBSTITUTE('Start here'!$B$6," ",""))=""),"",MID(UPPER(SUBSTITUTE('Start here'!$B$6," ","")),MOD(DATE(2027,3,29)-'Start here'!$B$5,LEN(UPPER(SUBSTITUTE('Start here'!$B$6," ",""))))+1,1)) | S15: =IF(OR('Start here'!$B$5="",UPPER(SUBSTITUTE('Start here'!$B$6," ",""))=""),"",MID(UPPER(SUBSTITUTE('Start here'!$B$6," ","")),MOD(DATE(2027,3,30)-'Start here'!$B$5,LEN(UPPER(SUBSTITUTE('Start here'!$B$6," ",""))))+1,1)) | T15: =IF(OR('Start here'!$B$5="",UPPER(SUBSTITUTE('Start here'!$B$6," ",""))=""),"",MID(UPPER(SUBSTITUTE('Start here'!$B$6," ","")),MOD(DATE(2027,3,31)-'Start here'!$B$5,LEN(UPPER(SUBSTITUTE('Start here'!$B$6," ",""))))+1,1))
A16: 31
A17: =IF(OR('Start here'!$B$5="",UPPER(SUBSTITUTE('Start here'!$B$6," ",""))=""),"",MID(UPPER(SUBSTITUTE('Start here'!$B$6," ","")),MOD(DATE(2027,1,31)-'Start here'!$B$5,LEN(UPPER(SUBSTITUTE('Start here'!$B$6," ",""))))+1,1))
A18: Nights A | C18: =COUNTIF(A7:G17,"A") | E18: B | F18: =COUNTIF(A7:G17,"B") | I18: Nights A | K18: =COUNTIF(I7:O17,"A") | M18: B | N18: =COUNTIF(I7:O17,"B") | Q18: Nights A | S18: =COUNTIF(Q7:W17,"A") | U18: B | V18: =COUNTIF(Q7:W17,"B")
A20: April 2027 | I20: May 2027 | Q20: June 2027
A21: S | B21: M | C21: T | D21: W | E21: T | F21: F | G21: S | I21: S | J21: M | K21: T | L21: W | M21: T | N21: F | O21: S | Q21: S | R21: M | S21: T | T21: W | U21: T | V21: F | W21: S
E22: 1 | F22: 2 | G22: 3 | O22: 1 | S22: 1 | T22: 2 | U22: 3 | V22: 4 | W22: 5
E23: =IF(OR('Start here'!$B$5="",UPPER(SUBSTITUTE('Start here'!$B$6," ",""))=""),"",MID(UPPER(SUBSTITUTE('Start here'!$B$6," ","")),MOD(DATE(2027,4,1)-'Start here'!$B$5,LEN(UPPER(SUBSTITUTE('Start here'!$B$6," ",""))))+1,1)) | F23: =IF(OR('Start here'!$B$5="",UPPER(SUBSTITUTE('Start here'!$B$6," ",""))=""),"",MID(UPPER(SUBSTITUTE('Start here'!$B$6," ","")),MOD(DATE(2027,4,2)-'Start here'!$B$5,LEN(UPPER(SUBSTITUTE('Start here'!$B$6," ",""))))+1,1)) | G23: =IF(OR('Start here'!$B$5="",UPPER(SUBSTITUTE('Start here'!$B$6," ",""))=""),"",MID(UPPER(SUBSTITUTE('Start here'!$B$6," ","")),MOD(DATE(2027,4,3)-'Start here'!$B$5,LEN(UPPER(SUBSTITUTE('Start here'!$B$6," ",""))))+1,1)) | O23: =IF(OR('Start here'!$B$5="",UPPER(SUBSTITUTE('Start here'!$B$6," ",""))=""),"",MID(UPPER(SUBSTITUTE('Start here'!$B$6," ","")),MOD(DATE(2027,5,1)-'Start here'!$B$5,LEN(UPPER(SUBSTITUTE('Start here'!$B$6," ",""))))+1,1)) | S23: =IF(OR('Start here'!$B$5="",UPPER(SUBSTITUTE('Start here'!$B$6," ",""))=""),"",MID(UPPER(SUBSTITUTE('Start here'!$B$6," ","")),MOD(DATE(2027,6,1)-'Start here'!$B$5,LEN(UPPER(SUBSTITUTE('Start here'!$B$6," ",""))))+1,1)) | T23: =IF(OR('Start here'!$B$5="",UPPER(SUBSTITUTE('Start here'!$B$6," ",""))=""),"",MID(UPPER(SUBSTITUTE('Start here'!$B$6," ","")),MOD(DATE(2027,6,2)-'Start here'!$B$5,LEN(UPPER(SUBSTITUTE('Start here'!$B$6," ",""))))+1,1)) | U23: =IF(OR('Start here'!$B$5="",UPPER(SUBSTITUTE('Start here'!$B$6," ",""))=""),"",MID(UPPER(SUBSTITUTE('Start here'!$B$6," ","")),MOD(DATE(2027,6,3)-'Start here'!$B$5,LEN(UPPER(SUBSTITUTE('Start here'!$B$6," ",""))))+1,1)) | V23: =IF(OR('Start here'!$B$5="",UPPER(SUBSTITUTE('Start here'!$B$6," ",""))=""),"",MID(UPPER(SUBSTITUTE('Start here'!$B$6," ","")),MOD(DATE(2027,6,4)-'Start here'!$B$5,LEN(UPPER(SUBSTITUTE('Start here'!$B$6," ",""))))+1,1)) | W23: =IF(OR('Start here'!$B$5="",UPPER(SUBSTITUTE('Start here'!$B$6," ",""))=""),"",MID(UPPER(SUBSTITUTE('Start here'!$B$6," ","")),MOD(DATE(2027,6,5)-'Start here'!$B$5,LEN(UPPER(SUBSTITUTE('Start here'!$B$6," ",""))))+1,1))
A24: 4 | B24: 5 | C24: 6 | D24: 7 | E24: 8 | F24: 9 | G24: 10 | I24: 2 | J24: 3 | K24: 4 | L24: 5 | M24: 6 | N24: 7 | O24: 8 | Q24: 6 | R24: 7 | S24: 8 | T24: 9 | U24: 10 | V24: 11 | W24: 12
A25: =IF(OR('Start here'!$B$5="",UPPER(SUBSTITUTE('Start here'!$B$6," ",""))=""),"",MID(UPPER(SUBSTITUTE('Start here'!$B$6," ","")),MOD(DATE(2027,4,4)-'Start here'!$B$5,LEN(UPPER(SUBSTITUTE('Start here'!$B$6," ",""))))+1,1)) | B25: =IF(OR('Start here'!$B$5="",UPPER(SUBSTITUTE('Start here'!$B$6," ",""))=""),"",MID(UPPER(SUBSTITUTE('Start here'!$B$6," ","")),MOD(DATE(2027,4,5)-'Start here'!$B$5,LEN(UPPER(SUBSTITUTE('Start here'!$B$6," ",""))))+1,1)) | C25: =IF(OR('Start here'!$B$5="",UPPER(SUBSTITUTE('Start here'!$B$6," ",""))=""),"",MID(UPPER(SUBSTITUTE('Start here'!$B$6," ","")),MOD(DATE(2027,4,6)-'Start here'!$B$5,LEN(UPPER(SUBSTITUTE('Start here'!$B$6," ",""))))+1,1)) | D25: =IF(OR('Start here'!$B$5="",UPPER(SUBSTITUTE('Start here'!$B$6," ",""))=""),"",MID(UPPER(SUBSTITUTE('Start here'!$B$6," ","")),MOD(DATE(2027,4,7)-'Start here'!$B$5,LEN(UPPER(SUBSTITUTE('Start here'!$B$6," ",""))))+1,1)) | E25: =IF(OR('Start here'!$B$5="",UPPER(SUBSTITUTE('Start here'!$B$6," ",""))=""),"",MID(UPPER(SUBSTITUTE('Start here'!$B$6," ","")),MOD(DATE(2027,4,8)-'Start here'!$B$5,LEN(UPPER(SUBSTITUTE('Start here'!$B$6," ",""))))+1,1)) | F25: =IF(OR('Start here'!$B$5="",UPPER(SUBSTITUTE('Start here'!$B$6," ",""))=""),"",MID(UPPER(SUBSTITUTE('Start here'!$B$6," ","")),MOD(DATE(2027,4,9)-'Start here'!$B$5,LEN(UPPER(SUBSTITUTE('Start here'!$B$6," ",""))))+1,1)) | G25: =IF(OR('Start here'!$B$5="",UPPER(SUBSTITUTE('Start here'!$B$6," ",""))=""),"",MID(UPPER(SUBSTITUTE('Start here'!$B$6," ","")),MOD(DATE(2027,4,10)-'Start here'!$B$5,LEN(UPPER(SUBSTITUTE('Start here'!$B$6," ",""))))+1,1)) | I25: =IF(OR('Start here'!$B$5="",UPPER(SUBSTITUTE('Start here'!$B$6," ",""))=""),"",MID(UPPER(SUBSTITUTE('Start here'!$B$6," ","")),MOD(DATE(2027,5,2)-'Start here'!$B$5,LEN(UPPER(SUBSTITUTE('Start here'!$B$6," ",""))))+1,1)) | J25: =IF(OR('Start here'!$B$5="",UPPER(SUBSTITUTE('Start here'!$B$6," ",""))=""),"",MID(UPPER(SUBSTITUTE('Start here'!$B$6," ","")),MOD(DATE(2027,5,3)-'Start here'!$B$5,LEN(UPPER(SUBSTITUTE('Start here'!$B$6," ",""))))+1,1)) | K25: =IF(OR('Start here'!$B$5="",UPPER(SUBSTITUTE('Start here'!$B$6," ",""))=""),"",MID(UPPER(SUBSTITUTE('Start here'!$B$6," ","")),MOD(DATE(2027,5,4)-'Start here'!$B$5,LEN(UPPER(SUBSTITUTE('Start here'!$B$6," ",""))))+1,1)) | L25: =IF(OR('Start here'!$B$5="",UPPER(SUBSTITUTE('Start here'!$B$6," ",""))=""),"",MID(UPPER(SUBSTITUTE('Start here'!$B$6," ","")),MOD(DATE(2027,5,5)-'Start here'!$B$5,LEN(UPPER(SUBSTITUTE('Start here'!$B$6," ",""))))+1,1)) | M25: =IF(OR('Start here'!$B$5="",UPPER(SUBSTITUTE('Start here'!$B$6," ",""))=""),"",MID(UPPER(SUBSTITUTE('Start here'!$B$6," ","")),MOD(DATE(2027,5,6)-'Start here'!$B$5,LEN(UPPER(SUBSTITUTE('Start here'!$B$6," ",""))))+1,1)) | N25: =IF(OR('Start here'!$B$5="",UPPER(SUBSTITUTE('Start here'!$B$6," ",""))=""),"",MID(UPPER(SUBSTITUTE('Start here'!$B$6," ","")),MOD(DATE(2027,5,7)-'Start here'!$B$5,LEN(UPPER(SUBSTITUTE('Start here'!$B$6," ",""))))+1,1)) | O25: =IF(OR('Start here'!$B$5="",UPPER(SUBSTITUTE('Start here'!$B$6," ",""))=""),"",MID(UPPER(SUBSTITUTE('Start here'!$B$6," ","")),MOD(DATE(2027,5,8)-'Start here'!$B$5,LEN(UPPER(SUBSTITUTE('Start here'!$B$6," ",""))))+1,1)) | Q25: =IF(OR('Start here'!$B$5="",UPPER(SUBSTITUTE('Start here'!$B$6," ",""))=""),"",MID(UPPER(SUBSTITUTE('Start here'!$B$6," ","")),MOD(DATE(2027,6,6)-'Start here'!$B$5,LEN(UPPER(SUBSTITUTE('Start here'!$B$6," ",""))))+1,1)) | R25: =IF(OR('Start here'!$B$5="",UPPER(SUBSTITUTE('Start here'!$B$6," ",""))=""),"",MID(UPPER(SUBSTITUTE('Start here'!$B$6," ","")),MOD(DATE(2027,6,7)-'Start here'!$B$5,LEN(UPPER(SUBSTITUTE('Start here'!$B$6," ",""))))+1,1)) | S25: =IF(OR('Start here'!$B$5="",UPPER(SUBSTITUTE('Start here'!$B$6," ",""))=""),"",MID(UPPER(SUBSTITUTE('Start here'!$B$6," ","")),MOD(DATE(2027,6,8)-'Start here'!$B$5,LEN(UPPER(SUBSTITUTE('Start here'!$B$6," ",""))))+1,1)) | T25: =IF(OR('Start here'!$B$5="",UPPER(SUBSTITUTE('Start here'!$B$6," ",""))=""),"",MID(UPPER(SUBSTITUTE('Start here'!$B$6," ","")),MOD(DATE(2027,6,9)-'Start here'!$B$5,LEN(UPPER(SUBSTITUTE('Start here'!$B$6," ",""))))+1,1)) | U25: =IF(OR('Start here'!$B$5="",UPPER(SUBSTITUTE('Start here'!$B$6," ",""))=""),"",MID(UPPER(SUBSTITUTE('Start here'!$B$6," ","")),MOD(DATE(2027,6,10)-'Start here'!$B$5,LEN(UPPER(SUBSTITUTE('Start here'!$B$6," ",""))))+1,1)) | V25: =IF(OR('Start here'!$B$5="",UPPER(SUBSTITUTE('Start here'!$B$6," ",""))=""),"",MID(UPPER(SUBSTITUTE('Start here'!$B$6," ","")),MOD(DATE(2027,6,11)-'Start here'!$B$5,LEN(UPPER(SUBSTITUTE('Start here'!$B$6," ",""))))+1,1)) | W25: =IF(OR('Start here'!$B$5="",UPPER(SUBSTITUTE('Start here'!$B$6," ",""))=""),"",MID(UPPER(SUBSTITUTE('Start here'!$B$6," ","")),MOD(DATE(2027,6,12)-'Start here'!$B$5,LEN(UPPER(SUBSTITUTE('Start here'!$B$6," ",""))))+1,1))
A26: 11 | B26: 12 | C26: 13 | D26: 14 | E26: 15 | F26: 16 | G26: 17 | I26: 9 | J26: 10 | K26: 11 | L26: 12 | M26: 13 | N26: 14 | O26: 15 | Q26: 13 | R26: 14 | S26: 15 | T26: 16 | U26: 17 | V26: 18 | W26: 19
A27: =IF(OR('Start here'!$B$5="",UPPER(SUBSTITUTE('Start here'!$B$6," ",""))=""),"",MID(UPPER(SUBSTITUTE('Start here'!$B$6," ","")),MOD(DATE(2027,4,11)-'Start here'!$B$5,LEN(UPPER(SUBSTITUTE('Start here'!$B$6," ",""))))+1,1)) | B27: =IF(OR('Start here'!$B$5="",UPPER(SUBSTITUTE('Start here'!$B$6," ",""))=""),"",MID(UPPER(SUBSTITUTE('Start here'!$B$6," ","")),MOD(DATE(2027,4,12)-'Start here'!$B$5,LEN(UPPER(SUBSTITUTE('Start here'!$B$6," ",""))))+1,1)) | C27: =IF(OR('Start here'!$B$5="",UPPER(SUBSTITUTE('Start here'!$B$6," ",""))=""),"",MID(UPPER(SUBSTITUTE('Start here'!$B$6," ","")),MOD(DATE(2027,4,13)-'Start here'!$B$5,LEN(UPPER(SUBSTITUTE('Start here'!$B$6," ",""))))+1,1)) | D27: =IF(OR('Start here'!$B$5="",UPPER(SUBSTITUTE('Start here'!$B$6," ",""))=""),"",MID(UPPER(SUBSTITUTE('Start here'!$B$6," ","")),MOD(DATE(2027,4,14)-'Start here'!$B$5,LEN(UPPER(SUBSTITUTE('Start here'!$B$6," ",""))))+1,1)) | E27: =IF(OR('Start here'!$B$5="",UPPER(SUBSTITUTE('Start here'!$B$6," ",""))=""),"",MID(UPPER(SUBSTITUTE('Start here'!$B$6," ","")),MOD(DATE(2027,4,15)-'Start here'!$B$5,LEN(UPPER(SUBSTITUTE('Start here'!$B$6," ",""))))+1,1)) | F27: =IF(OR('Start here'!$B$5="",UPPER(SUBSTITUTE('Start here'!$B$6," ",""))=""),"",MID(UPPER(SUBSTITUTE('Start here'!$B$6," ","")),MOD(DATE(2027,4,16)-'Start here'!$B$5,LEN(UPPER(SUBSTITUTE('Start here'!$B$6," ",""))))+1,1)) | G27: =IF(OR('Start here'!$B$5="",UPPER(SUBSTITUTE('Start here'!$B$6," ",""))=""),"",MID(UPPER(SUBSTITUTE('Start here'!$B$6," ","")),MOD(DATE(2027,4,17)-'Start here'!$B$5,LEN(UPPER(SUBSTITUTE('Start here'!$B$6," ",""))))+1,1)) | I27: =IF(OR('Start here'!$B$5="",UPPER(SUBSTITUTE('Start here'!$B$6," ",""))=""),"",MID(UPPER(SUBSTITUTE('Start here'!$B$6," ","")),MOD(DATE(2027,5,9)-'Start here'!$B$5,LEN(UPPER(SUBSTITUTE('Start here'!$B$6," ",""))))+1,1)) | J27: =IF(OR('Start here'!$B$5="",UPPER(SUBSTITUTE('Start here'!$B$6," ",""))=""),"",MID(UPPER(SUBSTITUTE('Start here'!$B$6," ","")),MOD(DATE(2027,5,10)-'Start here'!$B$5,LEN(UPPER(SUBSTITUTE('Start here'!$B$6," ",""))))+1,1)) | K27: =IF(OR('Start here'!$B$5="",UPPER(SUBSTITUTE('Start here'!$B$6," ",""))=""),"",MID(UPPER(SUBSTITUTE('Start here'!$B$6," ","")),MOD(DATE(2027,5,11)-'Start here'!$B$5,LEN(UPPER(SUBSTITUTE('Start here'!$B$6," ",""))))+1,1)) | L27: =IF(OR('Start here'!$B$5="",UPPER(SUBSTITUTE('Start here'!$B$6," ",""))=""),"",MID(UPPER(SUBSTITUTE('Start here'!$B$6," ","")),MOD(DATE(2027,5,12)-'Start here'!$B$5,LEN(UPPER(SUBSTITUTE('Start here'!$B$6," ",""))))+1,1)) | M27: =IF(OR('Start here'!$B$5="",UPPER(SUBSTITUTE('Start here'!$B$6," ",""))=""),"",MID(UPPER(SUBSTITUTE('Start here'!$B$6," ","")),MOD(DATE(2027,5,13)-'Start here'!$B$5,LEN(UPPER(SUBSTITUTE('Start here'!$B$6," ",""))))+1,1)) | N27: =IF(OR('Start here'!$B$5="",UPPER(SUBSTITUTE('Start here'!$B$6," ",""))=""),"",MID(UPPER(SUBSTITUTE('Start here'!$B$6," ","")),MOD(DATE(2027,5,14)-'Start here'!$B$5,LEN(UPPER(SUBSTITUTE('Start here'!$B$6," ",""))))+1,1)) | O27: =IF(OR('Start here'!$B$5="",UPPER(SUBSTITUTE('Start here'!$B$6," ",""))=""),"",MID(UPPER(SUBSTITUTE('Start here'!$B$6," ","")),MOD(DATE(2027,5,15)-'Start here'!$B$5,LEN(UPPER(SUBSTITUTE('Start here'!$B$6," ",""))))+1,1)) | Q27: =IF(OR('Start here'!$B$5="",UPPER(SUBSTITUTE('Start here'!$B$6," ",""))=""),"",MID(UPPER(SUBSTITUTE('Start here'!$B$6," ","")),MOD(DATE(2027,6,13)-'Start here'!$B$5,LEN(UPPER(SUBSTITUTE('Start here'!$B$6," ",""))))+1,1)) | R27: =IF(OR('Start here'!$B$5="",UPPER(SUBSTITUTE('Start here'!$B$6," ",""))=""),"",MID(UPPER(SUBSTITUTE('Start here'!$B$6," ","")),MOD(DATE(2027,6,14)-'Start here'!$B$5,LEN(UPPER(SUBSTITUTE('Start here'!$B$6," ",""))))+1,1)) | S27: =IF(OR('Start here'!$B$5="",UPPER(SUBSTITUTE('Start here'!$B$6," ",""))=""),"",MID(UPPER(SUBSTITUTE('Start here'!$B$6," ","")),MOD(DATE(2027,6,15)-'Start here'!$B$5,LEN(UPPER(SUBSTITUTE('Start here'!$B$6," ",""))))+1,1)) | T27: =IF(OR('Start here'!$B$5="",UPPER(SUBSTITUTE('Start here'!$B$6," ",""))=""),"",MID(UPPER(SUBSTITUTE('Start here'!$B$6," ","")),MOD(DATE(2027,6,16)-'Start here'!$B$5,LEN(UPPER(SUBSTITUTE('Start here'!$B$6," ",""))))+1,1)) | U27: =IF(OR('Start here'!$B$5="",UPPER(SUBSTITUTE('Start here'!$B$6," ",""))=""),"",MID(UPPER(SUBSTITUTE('Start here'!$B$6," ","")),MOD(DATE(2027,6,17)-'Start here'!$B$5,LEN(UPPER(SUBSTITUTE('Start here'!$B$6," ",""))))+1,1)) | V27: =IF(OR('Start here'!$B$5="",UPPER(SUBSTITUTE('Start here'!$B$6," ",""))=""),"",MID(UPPER(SUBSTITUTE('Start here'!$B$6," ","")),MOD(DATE(2027,6,18)-'Start here'!$B$5,LEN(UPPER(SUBSTITUTE('Start here'!$B$6," ",""))))+1,1)) | W27: =IF(OR('Start here'!$B$5="",UPPER(SUBSTITUTE('Start here'!$B$6," ",""))=""),"",MID(UPPER(SUBSTITUTE('Start here'!$B$6," ","")),MOD(DATE(2027,6,19)-'Start here'!$B$5,LEN(UPPER(SUBSTITUTE('Start here'!$B$6," ",""))))+1,1))
A28: 18 | B28: 19 | C28: 20 | D28: 21 | E28: 22 | F28: 23 | G28: 24 | I28: 16 | J28: 17 | K28: 18 | L28: 19 | M28: 20 | N28: 21 | O28: 22 | Q28: 20 | R28: 21 | S28: 22 | T28: 23 | U28: 24 | V28: 25 | W28: 26
A29: =IF(OR('Start here'!$B$5="",UPPER(SUBSTITUTE('Start here'!$B$6," ",""))=""),"",MID(UPPER(SUBSTITUTE('Start here'!$B$6," ","")),MOD(DATE(2027,4,18)-'Start here'!$B$5,LEN(UPPER(SUBSTITUTE('Start here'!$B$6," ",""))))+1,1)) | B29: =IF(OR('Start here'!$B$5="",UPPER(SUBSTITUTE('Start here'!$B$6," ",""))=""),"",MID(UPPER(SUBSTITUTE('Start here'!$B$6," ","")),MOD(DATE(2027,4,19)-'Start here'!$B$5,LEN(UPPER(SUBSTITUTE('Start here'!$B$6," ",""))))+1,1)) | C29: =IF(OR('Start here'!$B$5="",UPPER(SUBSTITUTE('Start here'!$B$6," ",""))=""),"",MID(UPPER(SUBSTITUTE('Start here'!$B$6," ","")),MOD(DATE(2027,4,20)-'Start here'!$B$5,LEN(UPPER(SUBSTITUTE('Start here'!$B$6," ",""))))+1,1)) | D29: =IF(OR('Start here'!$B$5="",UPPER(SUBSTITUTE('Start here'!$B$6," ",""))=""),"",MID(UPPER(SUBSTITUTE('Start here'!$B$6," ","")),MOD(DATE(2027,4,21)-'Start here'!$B$5,LEN(UPPER(SUBSTITUTE('Start here'!$B$6," ",""))))+1,1)) | E29: =IF(OR('Start here'!$B$5="",UPPER(SUBSTITUTE('Start here'!$B$6," ",""))=""),"",MID(UPPER(SUBSTITUTE('Start here'!$B$6," ","")),MOD(DATE(2027,4,22)-'Start here'!$B$5,LEN(UPPER(SUBSTITUTE('Start here'!$B$6," ",""))))+1,1)) | F29: =IF(OR('Start here'!$B$5="",UPPER(SUBSTITUTE('Start here'!$B$6," ",""))=""),"",MID(UPPER(SUBSTITUTE('Start here'!$B$6," ","")),MOD(DATE(2027,4,23)-'Start here'!$B$5,LEN(UPPER(SUBSTITUTE('Start here'!$B$6," ",""))))+1,1)) | G29: =IF(OR('Start here'!$B$5="",UPPER(SUBSTITUTE('Start here'!$B$6," ",""))=""),"",MID(UPPER(SUBSTITUTE('Start here'!$B$6," ","")),MOD(DATE(2027,4,24)-'Start here'!$B$5,LEN(UPPER(SUBSTITUTE('Start here'!$B$6," ",""))))+1,1)) | I29: =IF(OR('Start here'!$B$5="",UPPER(SUBSTITUTE('Start here'!$B$6," ",""))=""),"",MID(UPPER(SUBSTITUTE('Start here'!$B$6," ","")),MOD(DATE(2027,5,16)-'Start here'!$B$5,LEN(UPPER(SUBSTITUTE('Start here'!$B$6," ",""))))+1,1)) | J29: =IF(OR('Start here'!$B$5="",UPPER(SUBSTITUTE('Start here'!$B$6," ",""))=""),"",MID(UPPER(SUBSTITUTE('Start here'!$B$6," ","")),MOD(DATE(2027,5,17)-'Start here'!$B$5,LEN(UPPER(SUBSTITUTE('Start here'!$B$6," ",""))))+1,1)) | K29: =IF(OR('Start here'!$B$5="",UPPER(SUBSTITUTE('Start here'!$B$6," ",""))=""),"",MID(UPPER(SUBSTITUTE('Start here'!$B$6," ","")),MOD(DATE(2027,5,18)-'Start here'!$B$5,LEN(UPPER(SUBSTITUTE('Start here'!$B$6," ",""))))+1,1)) | L29: =IF(OR('Start here'!$B$5="",UPPER(SUBSTITUTE('Start here'!$B$6," ",""))=""),"",MID(UPPER(SUBSTITUTE('Start here'!$B$6," ","")),MOD(DATE(2027,5,19)-'Start here'!$B$5,LEN(UPPER(SUBSTITUTE('Start here'!$B$6," ",""))))+1,1)) | M29: =IF(OR('Start here'!$B$5="",UPPER(SUBSTITUTE('Start here'!$B$6," ",""))=""),"",MID(UPPER(SUBSTITUTE('Start here'!$B$6," ","")),MOD(DATE(2027,5,20)-'Start here'!$B$5,LEN(UPPER(SUBSTITUTE('Start here'!$B$6," ",""))))+1,1)) | N29: =IF(OR('Start here'!$B$5="",UPPER(SUBSTITUTE('Start here'!$B$6," ",""))=""),"",MID(UPPER(SUBSTITUTE('Start here'!$B$6," ","")),MOD(DATE(2027,5,21)-'Start here'!$B$5,LEN(UPPER(SUBSTITUTE('Start here'!$B$6," ",""))))+1,1)) | O29: =IF(OR('Start here'!$B$5="",UPPER(SUBSTITUTE('Start here'!$B$6," ",""))=""),"",MID(UPPER(SUBSTITUTE('Start here'!$B$6," ","")),MOD(DATE(2027,5,22)-'Start here'!$B$5,LEN(UPPER(SUBSTITUTE('Start here'!$B$6," ",""))))+1,1)) | Q29: =IF(OR('Start here'!$B$5="",UPPER(SUBSTITUTE('Start here'!$B$6," ",""))=""),"",MID(UPPER(SUBSTITUTE('Start here'!$B$6," ","")),MOD(DATE(2027,6,20)-'Start here'!$B$5,LEN(UPPER(SUBSTITUTE('Start here'!$B$6," ",""))))+1,1)) | R29: =IF(OR('Start here'!$B$5="",UPPER(SUBSTITUTE('Start here'!$B$6," ",""))=""),"",MID(UPPER(SUBSTITUTE('Start here'!$B$6," ","")),MOD(DATE(2027,6,21)-'Start here'!$B$5,LEN(UPPER(SUBSTITUTE('Start here'!$B$6," ",""))))+1,1)) | S29: =IF(OR('Start here'!$B$5="",UPPER(SUBSTITUTE('Start here'!$B$6," ",""))=""),"",MID(UPPER(SUBSTITUTE('Start here'!$B$6," ","")),MOD(DATE(2027,6,22)-'Start here'!$B$5,LEN(UPPER(SUBSTITUTE('Start here'!$B$6," ",""))))+1,1)) | T29: =IF(OR('Start here'!$B$5="",UPPER(SUBSTITUTE('Start here'!$B$6," ",""))=""),"",MID(UPPER(SUBSTITUTE('Start here'!$B$6," ","")),MOD(DATE(2027,6,23)-'Start here'!$B$5,LEN(UPPER(SUBSTITUTE('Start here'!$B$6," ",""))))+1,1)) | U29: =IF(OR('Start here'!$B$5="",UPPER(SUBSTITUTE('Start here'!$B$6," ",""))=""),"",MID(UPPER(SUBSTITUTE('Start here'!$B$6," ","")),MOD(DATE(2027,6,24)-'Start here'!$B$5,LEN(UPPER(SUBSTITUTE('Start here'!$B$6," ",""))))+1,1)) | V29: =IF(OR('Start here'!$B$5="",UPPER(SUBSTITUTE('Start here'!$B$6," ",""))=""),"",MID(UPPER(SUBSTITUTE('Start here'!$B$6," ","")),MOD(DATE(2027,6,25)-'Start here'!$B$5,LEN(UPPER(SUBSTITUTE('Start here'!$B$6," ",""))))+1,1)) | W29: =IF(OR('Start here'!$B$5="",UPPER(SUBSTITUTE('Start here'!$B$6," ",""))=""),"",MID(UPPER(SUBSTITUTE('Start here'!$B$6," ","")),MOD(DATE(2027,6,26)-'Start here'!$B$5,LEN(UPPER(SUBSTITUTE('Start here'!$B$6," ",""))))+1,1))
A30: 25 | B30: 26 | C30: 27 | D30: 28 | E30: 29 | F30: 30 | I30: 23 | J30: 24 | K30: 25 | L30: 26 | M30: 27 | N30: 28 | O30: 29 | Q30: 27 | R30: 28 | S30: 29 | T30: 30
A31: =IF(OR('Start here'!$B$5="",UPPER(SUBSTITUTE('Start here'!$B$6," ",""))=""),"",MID(UPPER(SUBSTITUTE('Start here'!$B$6," ","")),MOD(DATE(2027,4,25)-'Start here'!$B$5,LEN(UPPER(SUBSTITUTE('Start here'!$B$6," ",""))))+1,1)) | B31: =IF(OR('Start here'!$B$5="",UPPER(SUBSTITUTE('Start here'!$B$6," ",""))=""),"",MID(UPPER(SUBSTITUTE('Start here'!$B$6," ","")),MOD(DATE(2027,4,26)-'Start here'!$B$5,LEN(UPPER(SUBSTITUTE('Start here'!$B$6," ",""))))+1,1)) | C31: =IF(OR('Start here'!$B$5="",UPPER(SUBSTITUTE('Start here'!$B$6," ",""))=""),"",MID(UPPER(SUBSTITUTE('Start here'!$B$6," ","")),MOD(DATE(2027,4,27)-'Start here'!$B$5,LEN(UPPER(SUBSTITUTE('Start here'!$B$6," ",""))))+1,1)) | D31: =IF(OR('Start here'!$B$5="",UPPER(SUBSTITUTE('Start here'!$B$6," ",""))=""),"",MID(UPPER(SUBSTITUTE('Start here'!$B$6," ","")),MOD(DATE(2027,4,28)-'Start here'!$B$5,LEN(UPPER(SUBSTITUTE('Start here'!$B$6," ",""))))+1,1)) | E31: =IF(OR('Start here'!$B$5="",UPPER(SUBSTITUTE('Start here'!$B$6," ",""))=""),"",MID(UPPER(SUBSTITUTE('Start here'!$B$6," ","")),MOD(DATE(2027,4,29)-'Start here'!$B$5,LEN(UPPER(SUBSTITUTE('Start here'!$B$6," ",""))))+1,1)) | F31: =IF(OR('Start here'!$B$5="",UPPER(SUBSTITUTE('Start here'!$B$6," ",""))=""),"",MID(UPPER(SUBSTITUTE('Start here'!$B$6," ","")),MOD(DATE(2027,4,30)-'Start here'!$B$5,LEN(UPPER(SUBSTITUTE('Start here'!$B$6," ",""))))+1,1)) | I31: =IF(OR('Start here'!$B$5="",UPPER(SUBSTITUTE('Start here'!$B$6," ",""))=""),"",MID(UPPER(SUBSTITUTE('Start here'!$B$6," ","")),MOD(DATE(2027,5,23)-'Start here'!$B$5,LEN(UPPER(SUBSTITUTE('Start here'!$B$6," ",""))))+1,1)) | J31: =IF(OR('Start here'!$B$5="",UPPER(SUBSTITUTE('Start here'!$B$6," ",""))=""),"",MID(UPPER(SUBSTITUTE('Start here'!$B$6," ","")),MOD(DATE(2027,5,24)-'Start here'!$B$5,LEN(UPPER(SUBSTITUTE('Start here'!$B$6," ",""))))+1,1)) | K31: =IF(OR('Start here'!$B$5="",UPPER(SUBSTITUTE('Start here'!$B$6," ",""))=""),"",MID(UPPER(SUBSTITUTE('Start here'!$B$6," ","")),MOD(DATE(2027,5,25)-'Start here'!$B$5,LEN(UPPER(SUBSTITUTE('Start here'!$B$6," ",""))))+1,1)) | L31: =IF(OR('Start here'!$B$5="",UPPER(SUBSTITUTE('Start here'!$B$6," ",""))=""),"",MID(UPPER(SUBSTITUTE('Start here'!$B$6," ","")),MOD(DATE(2027,5,26)-'Start here'!$B$5,LEN(UPPER(SUBSTITUTE('Start here'!$B$6," ",""))))+1,1)) | M31: =IF(OR('Start here'!$B$5="",UPPER(SUBSTITUTE('Start here'!$B$6," ",""))=""),"",MID(UPPER(SUBSTITUTE('Start here'!$B$6," ","")),MOD(DATE(2027,5,27)-'Start here'!$B$5,LEN(UPPER(SUBSTITUTE('Start here'!$B$6," ",""))))+1,1)) | N31: =IF(OR('Start here'!$B$5="",UPPER(SUBSTITUTE('Start here'!$B$6," ",""))=""),"",MID(UPPER(SUBSTITUTE('Start here'!$B$6," ","")),MOD(DATE(2027,5,28)-'Start here'!$B$5,LEN(UPPER(SUBSTITUTE('Start here'!$B$6," ",""))))+1,1)) | O31: =IF(OR('Start here'!$B$5="",UPPER(SUBSTITUTE('Start here'!$B$6," ",""))=""),"",MID(UPPER(SUBSTITUTE('Start here'!$B$6," ","")),MOD(DATE(2027,5,29)-'Start here'!$B$5,LEN(UPPER(SUBSTITUTE('Start here'!$B$6," ",""))))+1,1)) | Q31: =IF(OR('Start here'!$B$5="",UPPER(SUBSTITUTE('Start here'!$B$6," ",""))=""),"",MID(UPPER(SUBSTITUTE('Start here'!$B$6," ","")),MOD(DATE(2027,6,27)-'Start here'!$B$5,LEN(UPPER(SUBSTITUTE('Start here'!$B$6," ",""))))+1,1)) | R31: =IF(OR('Start here'!$B$5="",UPPER(SUBSTITUTE('Start here'!$B$6," ",""))=""),"",MID(UPPER(SUBSTITUTE('Start here'!$B$6," ","")),MOD(DATE(2027,6,28)-'Start here'!$B$5,LEN(UPPER(SUBSTITUTE('Start here'!$B$6," ",""))))+1,1)) | S31: =IF(OR('Start here'!$B$5="",UPPER(SUBSTITUTE('Start here'!$B$6," ",""))=""),"",MID(UPPER(SUBSTITUTE('Start here'!$B$6," ","")),MOD(DATE(2027,6,29)-'Start here'!$B$5,LEN(UPPER(SUBSTITUTE('Start here'!$B$6," ",""))))+1,1)) | T31: =IF(OR('Start here'!$B$5="",UPPER(SUBSTITUTE('Start here'!$B$6," ",""))=""),"",MID(UPPER(SUBSTITUTE('Start here'!$B$6," ","")),MOD(DATE(2027,6,30)-'Start here'!$B$5,LEN(UPPER(SUBSTITUTE('Start here'!$B$6," ",""))))+1,1))
I32: 30 | J32: 31
I33: =IF(OR('Start here'!$B$5="",UPPER(SUBSTITUTE('Start here'!$B$6," ",""))=""),"",MID(UPPER(SUBSTITUTE('Start here'!$B$6," ","")),MOD(DATE(2027,5,30)-'Start here'!$B$5,LEN(UPPER(SUBSTITUTE('Start here'!$B$6," ",""))))+1,1)) | J33: =IF(OR('Start here'!$B$5="",UPPER(SUBSTITUTE('Start here'!$B$6," ",""))=""),"",MID(UPPER(SUBSTITUTE('Start here'!$B$6," ","")),MOD(DATE(2027,5,31)-'Start here'!$B$5,LEN(UPPER(SUBSTITUTE('Start here'!$B$6," ",""))))+1,1))
A34: Nights A | C34: =COUNTIF(A23:G33,"A") | E34: B | F34: =COUNTIF(A23:G33,"B") | I34: Nights A | K34: =COUNTIF(I23:O33,"A") | M34: B | N34: =COUNTIF(I23:O33,"B") | Q34: Nights A | S34: =COUNTIF(Q23:W33,"A") | U34: B | V34: =COUNTIF(Q23:W33,"B")
A36: July 2027 | I36: August 2027 | Q36: September 2027
A37: S | B37: M | C37: T | D37: W | E37: T | F37: F | G37: S | I37: S | J37: M | K37: T | L37: W | M37: T | N37: F | O37: S | Q37: S | R37: M | S37: T | T37: W | U37: T | V37: F | W37: S
E38: 1 | F38: 2 | G38: 3 | I38: 1 | J38: 2 | K38: 3 | L38: 4 | M38: 5 | N38: 6 | O38: 7 | T38: 1 | U38: 2 | V38: 3 | W38: 4
E39: =IF(OR('Start here'!$B$5="",UPPER(SUBSTITUTE('Start here'!$B$6," ",""))=""),"",MID(UPPER(SUBSTITUTE('Start here'!$B$6," ","")),MOD(DATE(2027,7,1)-'Start here'!$B$5,LEN(UPPER(SUBSTITUTE('Start here'!$B$6," ",""))))+1,1)) | F39: =IF(OR('Start here'!$B$5="",UPPER(SUBSTITUTE('Start here'!$B$6," ",""))=""),"",MID(UPPER(SUBSTITUTE('Start here'!$B$6," ","")),MOD(DATE(2027,7,2)-'Start here'!$B$5,LEN(UPPER(SUBSTITUTE('Start here'!$B$6," ",""))))+1,1)) | G39: =IF(OR('Start here'!$B$5="",UPPER(SUBSTITUTE('Start here'!$B$6," ",""))=""),"",MID(UPPER(SUBSTITUTE('Start here'!$B$6," ","")),MOD(DATE(2027,7,3)-'Start here'!$B$5,LEN(UPPER(SUBSTITUTE('Start here'!$B$6," ",""))))+1,1)) | I39: =IF(OR('Start here'!$B$5="",UPPER(SUBSTITUTE('Start here'!$B$6," ",""))=""),"",MID(UPPER(SUBSTITUTE('Start here'!$B$6," ","")),MOD(DATE(2027,8,1)-'Start here'!$B$5,LEN(UPPER(SUBSTITUTE('Start here'!$B$6," ",""))))+1,1)) | J39: =IF(OR('Start here'!$B$5="",UPPER(SUBSTITUTE('Start here'!$B$6," ",""))=""),"",MID(UPPER(SUBSTITUTE('Start here'!$B$6," ","")),MOD(DATE(2027,8,2)-'Start here'!$B$5,LEN(UPPER(SUBSTITUTE('Start here'!$B$6," ",""))))+1,1)) | K39: =IF(OR('Start here'!$B$5="",UPPER(SUBSTITUTE('Start here'!$B$6," ",""))=""),"",MID(UPPER(SUBSTITUTE('Start here'!$B$6," ","")),MOD(DATE(2027,8,3)-'Start here'!$B$5,LEN(UPPER(SUBSTITUTE('Start here'!$B$6," ",""))))+1,1)) | L39: =IF(OR('Start here'!$B$5="",UPPER(SUBSTITUTE('Start here'!$B$6," ",""))=""),"",MID(UPPER(SUBSTITUTE('Start here'!$B$6," ","")),MOD(DATE(2027,8,4)-'Start here'!$B$5,LEN(UPPER(SUBSTITUTE('Start here'!$B$6," ",""))))+1,1)) | M39: =IF(OR('Start here'!$B$5="",UPPER(SUBSTITUTE('Start here'!$B$6," ",""))=""),"",MID(UPPER(SUBSTITUTE('Start here'!$B$6," ","")),MOD(DATE(2027,8,5)-'Start here'!$B$5,LEN(UPPER(SUBSTITUTE('Start here'!$B$6," ",""))))+1,1)) | N39: =IF(OR('Start here'!$B$5="",UPPER(SUBSTITUTE('Start here'!$B$6," ",""))=""),"",MID(UPPER(SUBSTITUTE('Start here'!$B$6," ","")),MOD(DATE(2027,8,6)-'Start here'!$B$5,LEN(UPPER(SUBSTITUTE('Start here'!$B$6," ",""))))+1,1)) | O39: =IF(OR('Start here'!$B$5="",UPPER(SUBSTITUTE('Start here'!$B$6," ",""))=""),"",MID(UPPER(SUBSTITUTE('Start here'!$B$6," ","")),MOD(DATE(2027,8,7)-'Start here'!$B$5,LEN(UPPER(SUBSTITUTE('Start here'!$B$6," ",""))))+1,1)) | T39: =IF(OR('Start here'!$B$5="",UPPER(SUBSTITUTE('Start here'!$B$6," ",""))=""),"",MID(UPPER(SUBSTITUTE('Start here'!$B$6," ","")),MOD(DATE(2027,9,1)-'Start here'!$B$5,LEN(UPPER(SUBSTITUTE('Start here'!$B$6," ",""))))+1,1)) | U39: =IF(OR('Start here'!$B$5="",UPPER(SUBSTITUTE('Start here'!$B$6," ",""))=""),"",MID(UPPER(SUBSTITUTE('Start here'!$B$6," ","")),MOD(DATE(2027,9,2)-'Start here'!$B$5,LEN(UPPER(SUBSTITUTE('Start here'!$B$6," ",""))))+1,1)) | V39: =IF(OR('Start here'!$B$5="",UPPER(SUBSTITUTE('Start here'!$B$6," ",""))=""),"",MID(UPPER(SUBSTITUTE('Start here'!$B$6," ","")),MOD(DATE(2027,9,3)-'Start here'!$B$5,LEN(UPPER(SUBSTITUTE('Start here'!$B$6," ",""))))+1,1)) | W39: =IF(OR('Start here'!$B$5="",UPPER(SUBSTITUTE('Start here'!$B$6," ",""))=""),"",MID(UPPER(SUBSTITUTE('Start here'!$B$6," ","")),MOD(DATE(2027,9,4)-'Start here'!$B$5,LEN(UPPER(SUBSTITUTE('Start here'!$B$6," ",""))))+1,1))
A40: 4 | B40: 5 | C40: 6 | D40: 7 | E40: 8 | F40: 9 | G40: 10 | I40: 8 | J40: 9 | K40: 10 | L40: 11 | M40: 12 | N40: 13 | O40: 14 | Q40: 5 | R40: 6 | S40: 7 | T40: 8 | U40: 9 | V40: 10 | W40: 11
A41: =IF(OR('Start here'!$B$5="",UPPER(SUBSTITUTE('Start here'!$B$6," ",""))=""),"",MID(UPPER(SUBSTITUTE('Start here'!$B$6," ","")),MOD(DATE(2027,7,4)-'Start here'!$B$5,LEN(UPPER(SUBSTITUTE('Start here'!$B$6," ",""))))+1,1)) | B41: =IF(OR('Start here'!$B$5="",UPPER(SUBSTITUTE('Start here'!$B$6," ",""))=""),"",MID(UPPER(SUBSTITUTE('Start here'!$B$6," ","")),MOD(DATE(2027,7,5)-'Start here'!$B$5,LEN(UPPER(SUBSTITUTE('Start here'!$B$6," ",""))))+1,1)) | C41: =IF(OR('Start here'!$B$5="",UPPER(SUBSTITUTE('Start here'!$B$6," ",""))=""),"",MID(UPPER(SUBSTITUTE('Start here'!$B$6," ","")),MOD(DATE(2027,7,6)-'Start here'!$B$5,LEN(UPPER(SUBSTITUTE('Start here'!$B$6," ",""))))+1,1)) | D41: =IF(OR('Start here'!$B$5="",UPPER(SUBSTITUTE('Start here'!$B$6," ",""))=""),"",MID(UPPER(SUBSTITUTE('Start here'!$B$6," ","")),MOD(DATE(2027,7,7)-'Start here'!$B$5,LEN(UPPER(SUBSTITUTE('Start here'!$B$6," ",""))))+1,1)) | E41: =IF(OR('Start here'!$B$5="",UPPER(SUBSTITUTE('Start here'!$B$6," ",""))=""),"",MID(UPPER(SUBSTITUTE('Start here'!$B$6," ","")),MOD(DATE(2027,7,8)-'Start here'!$B$5,LEN(UPPER(SUBSTITUTE('Start here'!$B$6," ",""))))+1,1)) | F41: =IF(OR('Start here'!$B$5="",UPPER(SUBSTITUTE('Start here'!$B$6," ",""))=""),"",MID(UPPER(SUBSTITUTE('Start here'!$B$6," ","")),MOD(DATE(2027,7,9)-'Start here'!$B$5,LEN(UPPER(SUBSTITUTE('Start here'!$B$6," ",""))))+1,1)) | G41: =IF(OR('Start here'!$B$5="",UPPER(SUBSTITUTE('Start here'!$B$6," ",""))=""),"",MID(UPPER(SUBSTITUTE('Start here'!$B$6," ","")),MOD(DATE(2027,7,10)-'Start here'!$B$5,LEN(UPPER(SUBSTITUTE('Start here'!$B$6," ",""))))+1,1)) | I41: =IF(OR('Start here'!$B$5="",UPPER(SUBSTITUTE('Start here'!$B$6," ",""))=""),"",MID(UPPER(SUBSTITUTE('Start here'!$B$6," ","")),MOD(DATE(2027,8,8)-'Start here'!$B$5,LEN(UPPER(SUBSTITUTE('Start here'!$B$6," ",""))))+1,1)) | J41: =IF(OR('Start here'!$B$5="",UPPER(SUBSTITUTE('Start here'!$B$6," ",""))=""),"",MID(UPPER(SUBSTITUTE('Start here'!$B$6," ","")),MOD(DATE(2027,8,9)-'Start here'!$B$5,LEN(UPPER(SUBSTITUTE('Start here'!$B$6," ",""))))+1,1)) | K41: =IF(OR('Start here'!$B$5="",UPPER(SUBSTITUTE('Start here'!$B$6," ",""))=""),"",MID(UPPER(SUBSTITUTE('Start here'!$B$6," ","")),MOD(DATE(2027,8,10)-'Start here'!$B$5,LEN(UPPER(SUBSTITUTE('Start here'!$B$6," ",""))))+1,1)) | L41: =IF(OR('Start here'!$B$5="",UPPER(SUBSTITUTE('Start here'!$B$6," ",""))=""),"",MID(UPPER(SUBSTITUTE('Start here'!$B$6," ","")),MOD(DATE(2027,8,11)-'Start here'!$B$5,LEN(UPPER(SUBSTITUTE('Start here'!$B$6," ",""))))+1,1)) | M41: =IF(OR('Start here'!$B$5="",UPPER(SUBSTITUTE('Start here'!$B$6," ",""))=""),"",MID(UPPER(SUBSTITUTE('Start here'!$B$6," ","")),MOD(DATE(2027,8,12)-'Start here'!$B$5,LEN(UPPER(SUBSTITUTE('Start here'!$B$6," ",""))))+1,1)) | N41: =IF(OR('Start here'!$B$5="",UPPER(SUBSTITUTE('Start here'!$B$6," ",""))=""),"",MID(UPPER(SUBSTITUTE('Start here'!$B$6," ","")),MOD(DATE(2027,8,13)-'Start here'!$B$5,LEN(UPPER(SUBSTITUTE('Start here'!$B$6," ",""))))+1,1)) | O41: =IF(OR('Start here'!$B$5="",UPPER(SUBSTITUTE('Start here'!$B$6," ",""))=""),"",MID(UPPER(SUBSTITUTE('Start here'!$B$6," ","")),MOD(DATE(2027,8,14)-'Start here'!$B$5,LEN(UPPER(SUBSTITUTE('Start here'!$B$6," ",""))))+1,1)) | Q41: =IF(OR('Start here'!$B$5="",UPPER(SUBSTITUTE('Start here'!$B$6," ",""))=""),"",MID(UPPER(SUBSTITUTE('Start here'!$B$6," ","")),MOD(DATE(2027,9,5)-'Start here'!$B$5,LEN(UPPER(SUBSTITUTE('Start here'!$B$6," ",""))))+1,1)) | R41: =IF(OR('Start here'!$B$5="",UPPER(SUBSTITUTE('Start here'!$B$6," ",""))=""),"",MID(UPPER(SUBSTITUTE('Start here'!$B$6," ","")),MOD(DATE(2027,9,6)-'Start here'!$B$5,LEN(UPPER(SUBSTITUTE('Start here'!$B$6," ",""))))+1,1)) | S41: =IF(OR('Start here'!$B$5="",UPPER(SUBSTITUTE('Start here'!$B$6," ",""))=""),"",MID(UPPER(SUBSTITUTE('Start here'!$B$6," ","")),MOD(DATE(2027,9,7)-'Start here'!$B$5,LEN(UPPER(SUBSTITUTE('Start here'!$B$6," ",""))))+1,1)) | T41: =IF(OR('Start here'!$B$5="",UPPER(SUBSTITUTE('Start here'!$B$6," ",""))=""),"",MID(UPPER(SUBSTITUTE('Start here'!$B$6," ","")),MOD(DATE(2027,9,8)-'Start here'!$B$5,LEN(UPPER(SUBSTITUTE('Start here'!$B$6," ",""))))+1,1)) | U41: =IF(OR('Start here'!$B$5="",UPPER(SUBSTITUTE('Start here'!$B$6," ",""))=""),"",MID(UPPER(SUBSTITUTE('Start here'!$B$6," ","")),MOD(DATE(2027,9,9)-'Start here'!$B$5,LEN(UPPER(SUBSTITUTE('Start here'!$B$6," ",""))))+1,1)) | V41: =IF(OR('Start here'!$B$5="",UPPER(SUBSTITUTE('Start here'!$B$6," ",""))=""),"",MID(UPPER(SUBSTITUTE('Start here'!$B$6," ","")),MOD(DATE(2027,9,10)-'Start here'!$B$5,LEN(UPPER(SUBSTITUTE('Start here'!$B$6," ",""))))+1,1)) | W41: =IF(OR('Start here'!$B$5="",UPPER(SUBSTITUTE('Start here'!$B$6," ",""))=""),"",MID(UPPER(SUBSTITUTE('Start here'!$B$6," ","")),MOD(DATE(2027,9,11)-'Start here'!$B$5,LEN(UPPER(SUBSTITUTE('Start here'!$B$6," ",""))))+1,1))
A42: 11 | B42: 12 | C42: 13 | D42: 14 | E42: 15 | F42: 16 | G42: 17 | I42: 15 | J42: 16 | K42: 17 | L42: 18 | M42: 19 | N42: 20 | O42: 21 | Q42: 12 | R42: 13 | S42: 14 | T42: 15 | U42: 16 | V42: 17 | W42: 18
A43: =IF(OR('Start here'!$B$5="",UPPER(SUBSTITUTE('Start here'!$B$6," ",""))=""),"",MID(UPPER(SUBSTITUTE('Start here'!$B$6," ","")),MOD(DATE(2027,7,11)-'Start here'!$B$5,LEN(UPPER(SUBSTITUTE('Start here'!$B$6," ",""))))+1,1)) | B43: =IF(OR('Start here'!$B$5="",UPPER(SUBSTITUTE('Start here'!$B$6," ",""))=""),"",MID(UPPER(SUBSTITUTE('Start here'!$B$6," ","")),MOD(DATE(2027,7,12)-'Start here'!$B$5,LEN(UPPER(SUBSTITUTE('Start here'!$B$6," ",""))))+1,1)) | C43: =IF(OR('Start here'!$B$5="",UPPER(SUBSTITUTE('Start here'!$B$6," ",""))=""),"",MID(UPPER(SUBSTITUTE('Start here'!$B$6," ","")),MOD(DATE(2027,7,13)-'Start here'!$B$5,LEN(UPPER(SUBSTITUTE('Start here'!$B$6," ",""))))+1,1)) | D43: =IF(OR('Start here'!$B$5="",UPPER(SUBSTITUTE('Start here'!$B$6," ",""))=""),"",MID(UPPER(SUBSTITUTE('Start here'!$B$6," ","")),MOD(DATE(2027,7,14)-'Start here'!$B$5,LEN(UPPER(SUBSTITUTE('Start here'!$B$6," ",""))))+1,1)) | E43: =IF(OR('Start here'!$B$5="",UPPER(SUBSTITUTE('Start here'!$B$6," ",""))=""),"",MID(UPPER(SUBSTITUTE('Start here'!$B$6," ","")),MOD(DATE(2027,7,15)-'Start here'!$B$5,LEN(UPPER(SUBSTITUTE('Start here'!$B$6," ",""))))+1,1)) | F43: =IF(OR('Start here'!$B$5="",UPPER(SUBSTITUTE('Start here'!$B$6," ",""))=""),"",MID(UPPER(SUBSTITUTE('Start here'!$B$6," ","")),MOD(DATE(2027,7,16)-'Start here'!$B$5,LEN(UPPER(SUBSTITUTE('Start here'!$B$6," ",""))))+1,1)) | G43: =IF(OR('Start here'!$B$5="",UPPER(SUBSTITUTE('Start here'!$B$6," ",""))=""),"",MID(UPPER(SUBSTITUTE('Start here'!$B$6," ","")),MOD(DATE(2027,7,17)-'Start here'!$B$5,LEN(UPPER(SUBSTITUTE('Start here'!$B$6," ",""))))+1,1)) | I43: =IF(OR('Start here'!$B$5="",UPPER(SUBSTITUTE('Start here'!$B$6," ",""))=""),"",MID(UPPER(SUBSTITUTE('Start here'!$B$6," ","")),MOD(DATE(2027,8,15)-'Start here'!$B$5,LEN(UPPER(SUBSTITUTE('Start here'!$B$6," ",""))))+1,1)) | J43: =IF(OR('Start here'!$B$5="",UPPER(SUBSTITUTE('Start here'!$B$6," ",""))=""),"",MID(UPPER(SUBSTITUTE('Start here'!$B$6," ","")),MOD(DATE(2027,8,16)-'Start here'!$B$5,LEN(UPPER(SUBSTITUTE('Start here'!$B$6," ",""))))+1,1)) | K43: =IF(OR('Start here'!$B$5="",UPPER(SUBSTITUTE('Start here'!$B$6," ",""))=""),"",MID(UPPER(SUBSTITUTE('Start here'!$B$6," ","")),MOD(DATE(2027,8,17)-'Start here'!$B$5,LEN(UPPER(SUBSTITUTE('Start here'!$B$6," ",""))))+1,1)) | L43: =IF(OR('Start here'!$B$5="",UPPER(SUBSTITUTE('Start here'!$B$6," ",""))=""),"",MID(UPPER(SUBSTITUTE('Start here'!$B$6," ","")),MOD(DATE(2027,8,18)-'Start here'!$B$5,LEN(UPPER(SUBSTITUTE('Start here'!$B$6," ",""))))+1,1)) | M43: =IF(OR('Start here'!$B$5="",UPPER(SUBSTITUTE('Start here'!$B$6," ",""))=""),"",MID(UPPER(SUBSTITUTE('Start here'!$B$6," ","")),MOD(DATE(2027,8,19)-'Start here'!$B$5,LEN(UPPER(SUBSTITUTE('Start here'!$B$6," ",""))))+1,1)) | N43: =IF(OR('Start here'!$B$5="",UPPER(SUBSTITUTE('Start here'!$B$6," ",""))=""),"",MID(UPPER(SUBSTITUTE('Start here'!$B$6," ","")),MOD(DATE(2027,8,20)-'Start here'!$B$5,LEN(UPPER(SUBSTITUTE('Start here'!$B$6," ",""))))+1,1)) | O43: =IF(OR('Start here'!$B$5="",UPPER(SUBSTITUTE('Start here'!$B$6," ",""))=""),"",MID(UPPER(SUBSTITUTE('Start here'!$B$6," ","")),MOD(DATE(2027,8,21)-'Start here'!$B$5,LEN(UPPER(SUBSTITUTE('Start here'!$B$6," ",""))))+1,1)) | Q43: =IF(OR('Start here'!$B$5="",UPPER(SUBSTITUTE('Start here'!$B$6," ",""))=""),"",MID(UPPER(SUBSTITUTE('Start here'!$B$6," ","")),MOD(DATE(2027,9,12)-'Start here'!$B$5,LEN(UPPER(SUBSTITUTE('Start here'!$B$6," ",""))))+1,1)) | R43: =IF(OR('Start here'!$B$5="",UPPER(SUBSTITUTE('Start here'!$B$6," ",""))=""),"",MID(UPPER(SUBSTITUTE('Start here'!$B$6," ","")),MOD(DATE(2027,9,13)-'Start here'!$B$5,LEN(UPPER(SUBSTITUTE('Start here'!$B$6," ",""))))+1,1)) | S43: =IF(OR('Start here'!$B$5="",UPPER(SUBSTITUTE('Start here'!$B$6," ",""))=""),"",MID(UPPER(SUBSTITUTE('Start here'!$B$6," ","")),MOD(DATE(2027,9,14)-'Start here'!$B$5,LEN(UPPER(SUBSTITUTE('Start here'!$B$6," ",""))))+1,1)) | T43: =IF(OR('Start here'!$B$5="",UPPER(SUBSTITUTE('Start here'!$B$6," ",""))=""),"",MID(UPPER(SUBSTITUTE('Start here'!$B$6," ","")),MOD(DATE(2027,9,15)-'Start here'!$B$5,LEN(UPPER(SUBSTITUTE('Start here'!$B$6," ",""))))+1,1)) | U43: =IF(OR('Start here'!$B$5="",UPPER(SUBSTITUTE('Start here'!$B$6," ",""))=""),"",MID(UPPER(SUBSTITUTE('Start here'!$B$6," ","")),MOD(DATE(2027,9,16)-'Start here'!$B$5,LEN(UPPER(SUBSTITUTE('Start here'!$B$6," ",""))))+1,1)) | V43: =IF(OR('Start here'!$B$5="",UPPER(SUBSTITUTE('Start here'!$B$6," ",""))=""),"",MID(UPPER(SUBSTITUTE('Start here'!$B$6," ","")),MOD(DATE(2027,9,17)-'Start here'!$B$5,LEN(UPPER(SUBSTITUTE('Start here'!$B$6," ",""))))+1,1)) | W43: =IF(OR('Start here'!$B$5="",UPPER(SUBSTITUTE('Start here'!$B$6," ",""))=""),"",MID(UPPER(SUBSTITUTE('Start here'!$B$6," ","")),MOD(DATE(2027,9,18)-'Start here'!$B$5,LEN(UPPER(SUBSTITUTE('Start here'!$B$6," ",""))))+1,1))
A44: 18 | B44: 19 | C44: 20 | D44: 21 | E44: 22 | F44: 23 | G44: 24 | I44: 22 | J44: 23 | K44: 24 | L44: 25 | M44: 26 | N44: 27 | O44: 28 | Q44: 19 | R44: 20 | S44: 21 | T44: 22 | U44: 23 | V44: 24 | W44: 25
A45: =IF(OR('Start here'!$B$5="",UPPER(SUBSTITUTE('Start here'!$B$6," ",""))=""),"",MID(UPPER(SUBSTITUTE('Start here'!$B$6," ","")),MOD(DATE(2027,7,18)-'Start here'!$B$5,LEN(UPPER(SUBSTITUTE('Start here'!$B$6," ",""))))+1,1)) | B45: =IF(OR('Start here'!$B$5="",UPPER(SUBSTITUTE('Start here'!$B$6," ",""))=""),"",MID(UPPER(SUBSTITUTE('Start here'!$B$6," ","")),MOD(DATE(2027,7,19)-'Start here'!$B$5,LEN(UPPER(SUBSTITUTE('Start here'!$B$6," ",""))))+1,1)) | C45: =IF(OR('Start here'!$B$5="",UPPER(SUBSTITUTE('Start here'!$B$6," ",""))=""),"",MID(UPPER(SUBSTITUTE('Start here'!$B$6," ","")),MOD(DATE(2027,7,20)-'Start here'!$B$5,LEN(UPPER(SUBSTITUTE('Start here'!$B$6," ",""))))+1,1)) | D45: =IF(OR('Start here'!$B$5="",UPPER(SUBSTITUTE('Start here'!$B$6," ",""))=""),"",MID(UPPER(SUBSTITUTE('Start here'!$B$6," ","")),MOD(DATE(2027,7,21)-'Start here'!$B$5,LEN(UPPER(SUBSTITUTE('Start here'!$B$6," ",""))))+1,1)) | E45: =IF(OR('Start here'!$B$5="",UPPER(SUBSTITUTE('Start here'!$B$6," ",""))=""),"",MID(UPPER(SUBSTITUTE('Start here'!$B$6," ","")),MOD(DATE(2027,7,22)-'Start here'!$B$5,LEN(UPPER(SUBSTITUTE('Start here'!$B$6," ",""))))+1,1)) | F45: =IF(OR('Start here'!$B$5="",UPPER(SUBSTITUTE('Start here'!$B$6," ",""))=""),"",MID(UPPER(SUBSTITUTE('Start here'!$B$6," ","")),MOD(DATE(2027,7,23)-'Start here'!$B$5,LEN(UPPER(SUBSTITUTE('Start here'!$B$6," ",""))))+1,1)) | G45: =IF(OR('Start here'!$B$5="",UPPER(SUBSTITUTE('Start here'!$B$6," ",""))=""),"",MID(UPPER(SUBSTITUTE('Start here'!$B$6," ","")),MOD(DATE(2027,7,24)-'Start here'!$B$5,LEN(UPPER(SUBSTITUTE('Start here'!$B$6," ",""))))+1,1)) | I45: =IF(OR('Start here'!$B$5="",UPPER(SUBSTITUTE('Start here'!$B$6," ",""))=""),"",MID(UPPER(SUBSTITUTE('Start here'!$B$6," ","")),MOD(DATE(2027,8,22)-'Start here'!$B$5,LEN(UPPER(SUBSTITUTE('Start here'!$B$6," ",""))))+1,1)) | J45: =IF(OR('Start here'!$B$5="",UPPER(SUBSTITUTE('Start here'!$B$6," ",""))=""),"",MID(UPPER(SUBSTITUTE('Start here'!$B$6," ","")),MOD(DATE(2027,8,23)-'Start here'!$B$5,LEN(UPPER(SUBSTITUTE('Start here'!$B$6," ",""))))+1,1)) | K45: =IF(OR('Start here'!$B$5="",UPPER(SUBSTITUTE('Start here'!$B$6," ",""))=""),"",MID(UPPER(SUBSTITUTE('Start here'!$B$6," ","")),MOD(DATE(2027,8,24)-'Start here'!$B$5,LEN(UPPER(SUBSTITUTE('Start here'!$B$6," ",""))))+1,1)) | L45: =IF(OR('Start here'!$B$5="",UPPER(SUBSTITUTE('Start here'!$B$6," ",""))=""),"",MID(UPPER(SUBSTITUTE('Start here'!$B$6," ","")),MOD(DATE(2027,8,25)-'Start here'!$B$5,LEN(UPPER(SUBSTITUTE('Start here'!$B$6," ",""))))+1,1)) | M45: =IF(OR('Start here'!$B$5="",UPPER(SUBSTITUTE('Start here'!$B$6," ",""))=""),"",MID(UPPER(SUBSTITUTE('Start here'!$B$6," ","")),MOD(DATE(2027,8,26)-'Start here'!$B$5,LEN(UPPER(SUBSTITUTE('Start here'!$B$6," ",""))))+1,1)) | N45: =IF(OR('Start here'!$B$5="",UPPER(SUBSTITUTE('Start here'!$B$6," ",""))=""),"",MID(UPPER(SUBSTITUTE('Start here'!$B$6," ","")),MOD(DATE(2027,8,27)-'Start here'!$B$5,LEN(UPPER(SUBSTITUTE('Start here'!$B$6," ",""))))+1,1)) | O45: =IF(OR('Start here'!$B$5="",UPPER(SUBSTITUTE('Start here'!$B$6," ",""))=""),"",MID(UPPER(SUBSTITUTE('Start here'!$B$6," ","")),MOD(DATE(2027,8,28)-'Start here'!$B$5,LEN(UPPER(SUBSTITUTE('Start here'!$B$6," ",""))))+1,1)) | Q45: =IF(OR('Start here'!$B$5="",UPPER(SUBSTITUTE('Start here'!$B$6," ",""))=""),"",MID(UPPER(SUBSTITUTE('Start here'!$B$6," ","")),MOD(DATE(2027,9,19)-'Start here'!$B$5,LEN(UPPER(SUBSTITUTE('Start here'!$B$6," ",""))))+1,1)) | R45: =IF(OR('Start here'!$B$5="",UPPER(SUBSTITUTE('Start here'!$B$6," ",""))=""),"",MID(UPPER(SUBSTITUTE('Start here'!$B$6," ","")),MOD(DATE(2027,9,20)-'Start here'!$B$5,LEN(UPPER(SUBSTITUTE('Start here'!$B$6," ",""))))+1,1)) | S45: =IF(OR('Start here'!$B$5="",UPPER(SUBSTITUTE('Start here'!$B$6," ",""))=""),"",MID(UPPER(SUBSTITUTE('Start here'!$B$6," ","")),MOD(DATE(2027,9,21)-'Start here'!$B$5,LEN(UPPER(SUBSTITUTE('Start here'!$B$6," ",""))))+1,1)) | T45: =IF(OR('Start here'!$B$5="",UPPER(SUBSTITUTE('Start here'!$B$6," ",""))=""),"",MID(UPPER(SUBSTITUTE('Start here'!$B$6," ","")),MOD(DATE(2027,9,22)-'Start here'!$B$5,LEN(UPPER(SUBSTITUTE('Start here'!$B$6," ",""))))+1,1)) | U45: =IF(OR('Start here'!$B$5="",UPPER(SUBSTITUTE('Start here'!$B$6," ",""))=""),"",MID(UPPER(SUBSTITUTE('Start here'!$B$6," ","")),MOD(DATE(2027,9,23)-'Start here'!$B$5,LEN(UPPER(SUBSTITUTE('Start here'!$B$6," ",""))))+1,1)) | V45: =IF(OR('Start here'!$B$5="",UPPER(SUBSTITUTE('Start here'!$B$6," ",""))=""),"",MID(UPPER(SUBSTITUTE('Start here'!$B$6," ","")),MOD(DATE(2027,9,24)-'Start here'!$B$5,LEN(UPPER(SUBSTITUTE('Start here'!$B$6," ",""))))+1,1)) | W45: =IF(OR('Start here'!$B$5="",UPPER(SUBSTITUTE('Start here'!$B$6," ",""))=""),"",MID(UPPER(SUBSTITUTE('Start here'!$B$6," ","")),MOD(DATE(2027,9,25)-'Start here'!$B$5,LEN(UPPER(SUBSTITUTE('Start here'!$B$6," ",""))))+1,1))
A46: 25 | B46: 26 | C46: 27 | D46: 28 | E46: 29 | F46: 30 | G46: 31 | I46: 29 | J46: 30 | K46: 31 | Q46: 26 | R46: 27 | S46: 28 | T46: 29 | U46: 30
A47: =IF(OR('Start here'!$B$5="",UPPER(SUBSTITUTE('Start here'!$B$6," ",""))=""),"",MID(UPPER(SUBSTITUTE('Start here'!$B$6," ","")),MOD(DATE(2027,7,25)-'Start here'!$B$5,LEN(UPPER(SUBSTITUTE('Start here'!$B$6," ",""))))+1,1)) | B47: =IF(OR('Start here'!$B$5="",UPPER(SUBSTITUTE('Start here'!$B$6," ",""))=""),"",MID(UPPER(SUBSTITUTE('Start here'!$B$6," ","")),MOD(DATE(2027,7,26)-'Start here'!$B$5,LEN(UPPER(SUBSTITUTE('Start here'!$B$6," ",""))))+1,1)) | C47: =IF(OR('Start here'!$B$5="",UPPER(SUBSTITUTE('Start here'!$B$6," ",""))=""),"",MID(UPPER(SUBSTITUTE('Start here'!$B$6," ","")),MOD(DATE(2027,7,27)-'Start here'!$B$5,LEN(UPPER(SUBSTITUTE('Start here'!$B$6," ",""))))+1,1)) | D47: =IF(OR('Start here'!$B$5="",UPPER(SUBSTITUTE('Start here'!$B$6," ",""))=""),"",MID(UPPER(SUBSTITUTE('Start here'!$B$6," ","")),MOD(DATE(2027,7,28)-'Start here'!$B$5,LEN(UPPER(SUBSTITUTE('Start here'!$B$6," ",""))))+1,1)) | E47: =IF(OR('Start here'!$B$5="",UPPER(SUBSTITUTE('Start here'!$B$6," ",""))=""),"",MID(UPPER(SUBSTITUTE('Start here'!$B$6," ","")),MOD(DATE(2027,7,29)-'Start here'!$B$5,LEN(UPPER(SUBSTITUTE('Start here'!$B$6," ",""))))+1,1)) | F47: =IF(OR('Start here'!$B$5="",UPPER(SUBSTITUTE('Start here'!$B$6," ",""))=""),"",MID(UPPER(SUBSTITUTE('Start here'!$B$6," ","")),MOD(DATE(2027,7,30)-'Start here'!$B$5,LEN(UPPER(SUBSTITUTE('Start here'!$B$6," ",""))))+1,1)) | G47: =IF(OR('Start here'!$B$5="",UPPER(SUBSTITUTE('Start here'!$B$6," ",""))=""),"",MID(UPPER(SUBSTITUTE('Start here'!$B$6," ","")),MOD(DATE(2027,7,31)-'Start here'!$B$5,LEN(UPPER(SUBSTITUTE('Start here'!$B$6," ",""))))+1,1)) | I47: =IF(OR('Start here'!$B$5="",UPPER(SUBSTITUTE('Start here'!$B$6," ",""))=""),"",MID(UPPER(SUBSTITUTE('Start here'!$B$6," ","")),MOD(DATE(2027,8,29)-'Start here'!$B$5,LEN(UPPER(SUBSTITUTE('Start here'!$B$6," ",""))))+1,1)) | J47: =IF(OR('Start here'!$B$5="",UPPER(SUBSTITUTE('Start here'!$B$6," ",""))=""),"",MID(UPPER(SUBSTITUTE('Start here'!$B$6," ","")),MOD(DATE(2027,8,30)-'Start here'!$B$5,LEN(UPPER(SUBSTITUTE('Start here'!$B$6," ",""))))+1,1)) | K47: =IF(OR('Start here'!$B$5="",UPPER(SUBSTITUTE('Start here'!$B$6," ",""))=""),"",MID(UPPER(SUBSTITUTE('Start here'!$B$6," ","")),MOD(DATE(2027,8,31)-'Start here'!$B$5,LEN(UPPER(SUBSTITUTE('Start here'!$B$6," ",""))))+1,1)) | Q47: =IF(OR('Start here'!$B$5="",UPPER(SUBSTITUTE('Start here'!$B$6," ",""))=""),"",MID(UPPER(SUBSTITUTE('Start here'!$B$6," ","")),MOD(DATE(2027,9,26)-'Start here'!$B$5,LEN(UPPER(SUBSTITUTE('Start here'!$B$6," ",""))))+1,1)) | R47: =IF(OR('Start here'!$B$5="",UPPER(SUBSTITUTE('Start here'!$B$6," ",""))=""),"",MID(UPPER(SUBSTITUTE('Start here'!$B$6," ","")),MOD(DATE(2027,9,27)-'Start here'!$B$5,LEN(UPPER(SUBSTITUTE('Start here'!$B$6," ",""))))+1,1)) | S47: =IF(OR('Start here'!$B$5="",UPPER(SUBSTITUTE('Start here'!$B$6," ",""))=""),"",MID(UPPER(SUBSTITUTE('Start here'!$B$6," ","")),MOD(DATE(2027,9,28)-'Start here'!$B$5,LEN(UPPER(SUBSTITUTE('Start here'!$B$6," ",""))))+1,1)) | T47: =IF(OR('Start here'!$B$5="",UPPER(SUBSTITUTE('Start here'!$B$6," ",""))=""),"",MID(UPPER(SUBSTITUTE('Start here'!$B$6," ","")),MOD(DATE(2027,9,29)-'Start here'!$B$5,LEN(UPPER(SUBSTITUTE('Start here'!$B$6," ",""))))+1,1)) | U47: =IF(OR('Start here'!$B$5="",UPPER(SUBSTITUTE('Start here'!$B$6," ",""))=""),"",MID(UPPER(SUBSTITUTE('Start here'!$B$6," ","")),MOD(DATE(2027,9,30)-'Start here'!$B$5,LEN(UPPER(SUBSTITUTE('Start here'!$B$6," ",""))))+1,1))
A50: Nights A | C50: =COUNTIF(A39:G49,"A") | E50: B | F50: =COUNTIF(A39:G49,"B") | I50: Nights A | K50: =COUNTIF(I39:O49,"A") | M50: B | N50: =COUNTIF(I39:O49,"B") | Q50: Nights A | S50: =COUNTIF(Q39:W49,"A") | U50: B | V50: =COUNTIF(Q39:W49,"B")
A52: October 2027 | I52: November 2027 | Q52: December 2027
A53: S | B53: M | C53: T | D53: W | E53: T | F53: F | G53: S | I53: S | J53: M | K53: T | L53: W | M53: T | N53: F | O53: S | Q53: S | R53: M | S53: T | T53: W | U53: T | V53: F | W53: S
F54: 1 | G54: 2 | J54: 1 | K54: 2 | L54: 3 | M54: 4 | N54: 5 | O54: 6 | T54: 1 | U54: 2 | V54: 3 | W54: 4
F55: =IF(OR('Start here'!$B$5="",UPPER(SUBSTITUTE('Start here'!$B$6," ",""))=""),"",MID(UPPER(SUBSTITUTE('Start here'!$B$6," ","")),MOD(DATE(2027,10,1)-'Start here'!$B$5,LEN(UPPER(SUBSTITUTE('Start here'!$B$6," ",""))))+1,1)) | G55: =IF(OR('Start here'!$B$5="",UPPER(SUBSTITUTE('Start here'!$B$6," ",""))=""),"",MID(UPPER(SUBSTITUTE('Start here'!$B$6," ","")),MOD(DATE(2027,10,2)-'Start here'!$B$5,LEN(UPPER(SUBSTITUTE('Start here'!$B$6," ",""))))+1,1)) | J55: =IF(OR('Start here'!$B$5="",UPPER(SUBSTITUTE('Start here'!$B$6," ",""))=""),"",MID(UPPER(SUBSTITUTE('Start here'!$B$6," ","")),MOD(DATE(2027,11,1)-'Start here'!$B$5,LEN(UPPER(SUBSTITUTE('Start here'!$B$6," ",""))))+1,1)) | K55: =IF(OR('Start here'!$B$5="",UPPER(SUBSTITUTE('Start here'!$B$6," ",""))=""),"",MID(UPPER(SUBSTITUTE('Start here'!$B$6," ","")),MOD(DATE(2027,11,2)-'Start here'!$B$5,LEN(UPPER(SUBSTITUTE('Start here'!$B$6," ",""))))+1,1)) | L55: =IF(OR('Start here'!$B$5="",UPPER(SUBSTITUTE('Start here'!$B$6," ",""))=""),"",MID(UPPER(SUBSTITUTE('Start here'!$B$6," ","")),MOD(DATE(2027,11,3)-'Start here'!$B$5,LEN(UPPER(SUBSTITUTE('Start here'!$B$6," ",""))))+1,1)) | M55: =IF(OR('Start here'!$B$5="",UPPER(SUBSTITUTE('Start here'!$B$6," ",""))=""),"",MID(UPPER(SUBSTITUTE('Start here'!$B$6," ","")),MOD(DATE(2027,11,4)-'Start here'!$B$5,LEN(UPPER(SUBSTITUTE('Start here'!$B$6," ",""))))+1,1)) | N55: =IF(OR('Start here'!$B$5="",UPPER(SUBSTITUTE('Start here'!$B$6," ",""))=""),"",MID(UPPER(SUBSTITUTE('Start here'!$B$6," ","")),MOD(DATE(2027,11,5)-'Start here'!$B$5,LEN(UPPER(SUBSTITUTE('Start here'!$B$6," ",""))))+1,1)) | O55: =IF(OR('Start here'!$B$5="",UPPER(SUBSTITUTE('Start here'!$B$6," ",""))=""),"",MID(UPPER(SUBSTITUTE('Start here'!$B$6," ","")),MOD(DATE(2027,11,6)-'Start here'!$B$5,LEN(UPPER(SUBSTITUTE('Start here'!$B$6," ",""))))+1,1)) | T55: =IF(OR('Start here'!$B$5="",UPPER(SUBSTITUTE('Start here'!$B$6," ",""))=""),"",MID(UPPER(SUBSTITUTE('Start here'!$B$6," ","")),MOD(DATE(2027,12,1)-'Start here'!$B$5,LEN(UPPER(SUBSTITUTE('Start here'!$B$6," ",""))))+1,1)) | U55: =IF(OR('Start here'!$B$5="",UPPER(SUBSTITUTE('Start here'!$B$6," ",""))=""),"",MID(UPPER(SUBSTITUTE('Start here'!$B$6," ","")),MOD(DATE(2027,12,2)-'Start here'!$B$5,LEN(UPPER(SUBSTITUTE('Start here'!$B$6," ",""))))+1,1)) | V55: =IF(OR('Start here'!$B$5="",UPPER(SUBSTITUTE('Start here'!$B$6," ",""))=""),"",MID(UPPER(SUBSTITUTE('Start here'!$B$6," ","")),MOD(DATE(2027,12,3)-'Start here'!$B$5,LEN(UPPER(SUBSTITUTE('Start here'!$B$6," ",""))))+1,1)) | W55: =IF(OR('Start here'!$B$5="",UPPER(SUBSTITUTE('Start here'!$B$6," ",""))=""),"",MID(UPPER(SUBSTITUTE('Start here'!$B$6," ","")),MOD(DATE(2027,12,4)-'Start here'!$B$5,LEN(UPPER(SUBSTITUTE('Start here'!$B$6," ",""))))+1,1))
A56: 3 | B56: 4 | C56: 5 | D56: 6 | E56: 7 | F56: 8 | G56: 9 | I56: 7 | J56: 8 | K56: 9 | L56: 10 | M56: 11 | N56: 12 | O56: 13 | Q56: 5 | R56: 6 | S56: 7 | T56: 8 | U56: 9 | V56: 10 | W56: 11
A57: =IF(OR('Start here'!$B$5="",UPPER(SUBSTITUTE('Start here'!$B$6," ",""))=""),"",MID(UPPER(SUBSTITUTE('Start here'!$B$6," ","")),MOD(DATE(2027,10,3)-'Start here'!$B$5,LEN(UPPER(SUBSTITUTE('Start here'!$B$6," ",""))))+1,1)) | B57: =IF(OR('Start here'!$B$5="",UPPER(SUBSTITUTE('Start here'!$B$6," ",""))=""),"",MID(UPPER(SUBSTITUTE('Start here'!$B$6," ","")),MOD(DATE(2027,10,4)-'Start here'!$B$5,LEN(UPPER(SUBSTITUTE('Start here'!$B$6," ",""))))+1,1)) | C57: =IF(OR('Start here'!$B$5="",UPPER(SUBSTITUTE('Start here'!$B$6," ",""))=""),"",MID(UPPER(SUBSTITUTE('Start here'!$B$6," ","")),MOD(DATE(2027,10,5)-'Start here'!$B$5,LEN(UPPER(SUBSTITUTE('Start here'!$B$6," ",""))))+1,1)) | D57: =IF(OR('Start here'!$B$5="",UPPER(SUBSTITUTE('Start here'!$B$6," ",""))=""),"",MID(UPPER(SUBSTITUTE('Start here'!$B$6," ","")),MOD(DATE(2027,10,6)-'Start here'!$B$5,LEN(UPPER(SUBSTITUTE('Start here'!$B$6," ",""))))+1,1)) | E57: =IF(OR('Start here'!$B$5="",UPPER(SUBSTITUTE('Start here'!$B$6," ",""))=""),"",MID(UPPER(SUBSTITUTE('Start here'!$B$6," ","")),MOD(DATE(2027,10,7)-'Start here'!$B$5,LEN(UPPER(SUBSTITUTE('Start here'!$B$6," ",""))))+1,1)) | F57: =IF(OR('Start here'!$B$5="",UPPER(SUBSTITUTE('Start here'!$B$6," ",""))=""),"",MID(UPPER(SUBSTITUTE('Start here'!$B$6," ","")),MOD(DATE(2027,10,8)-'Start here'!$B$5,LEN(UPPER(SUBSTITUTE('Start here'!$B$6," ",""))))+1,1)) | G57: =IF(OR('Start here'!$B$5="",UPPER(SUBSTITUTE('Start here'!$B$6," ",""))=""),"",MID(UPPER(SUBSTITUTE('Start here'!$B$6," ","")),MOD(DATE(2027,10,9)-'Start here'!$B$5,LEN(UPPER(SUBSTITUTE('Start here'!$B$6," ",""))))+1,1)) | I57: =IF(OR('Start here'!$B$5="",UPPER(SUBSTITUTE('Start here'!$B$6," ",""))=""),"",MID(UPPER(SUBSTITUTE('Start here'!$B$6," ","")),MOD(DATE(2027,11,7)-'Start here'!$B$5,LEN(UPPER(SUBSTITUTE('Start here'!$B$6," ",""))))+1,1)) | J57: =IF(OR('Start here'!$B$5="",UPPER(SUBSTITUTE('Start here'!$B$6," ",""))=""),"",MID(UPPER(SUBSTITUTE('Start here'!$B$6," ","")),MOD(DATE(2027,11,8)-'Start here'!$B$5,LEN(UPPER(SUBSTITUTE('Start here'!$B$6," ",""))))+1,1)) | K57: =IF(OR('Start here'!$B$5="",UPPER(SUBSTITUTE('Start here'!$B$6," ",""))=""),"",MID(UPPER(SUBSTITUTE('Start here'!$B$6," ","")),MOD(DATE(2027,11,9)-'Start here'!$B$5,LEN(UPPER(SUBSTITUTE('Start here'!$B$6," ",""))))+1,1)) | L57: =IF(OR('Start here'!$B$5="",UPPER(SUBSTITUTE('Start here'!$B$6," ",""))=""),"",MID(UPPER(SUBSTITUTE('Start here'!$B$6," ","")),MOD(DATE(2027,11,10)-'Start here'!$B$5,LEN(UPPER(SUBSTITUTE('Start here'!$B$6," ",""))))+1,1)) | M57: =IF(OR('Start here'!$B$5="",UPPER(SUBSTITUTE('Start here'!$B$6," ",""))=""),"",MID(UPPER(SUBSTITUTE('Start here'!$B$6," ","")),MOD(DATE(2027,11,11)-'Start here'!$B$5,LEN(UPPER(SUBSTITUTE('Start here'!$B$6," ",""))))+1,1)) | N57: =IF(OR('Start here'!$B$5="",UPPER(SUBSTITUTE('Start here'!$B$6," ",""))=""),"",MID(UPPER(SUBSTITUTE('Start here'!$B$6," ","")),MOD(DATE(2027,11,12)-'Start here'!$B$5,LEN(UPPER(SUBSTITUTE('Start here'!$B$6," ",""))))+1,1)) | O57: =IF(OR('Start here'!$B$5="",UPPER(SUBSTITUTE('Start here'!$B$6," ",""))=""),"",MID(UPPER(SUBSTITUTE('Start here'!$B$6," ","")),MOD(DATE(2027,11,13)-'Start here'!$B$5,LEN(UPPER(SUBSTITUTE('Start here'!$B$6," ",""))))+1,1)) | Q57: =IF(OR('Start here'!$B$5="",UPPER(SUBSTITUTE('Start here'!$B$6," ",""))=""),"",MID(UPPER(SUBSTITUTE('Start here'!$B$6," ","")),MOD(DATE(2027,12,5)-'Start here'!$B$5,LEN(UPPER(SUBSTITUTE('Start here'!$B$6," ",""))))+1,1)) | R57: =IF(OR('Start here'!$B$5="",UPPER(SUBSTITUTE('Start here'!$B$6," ",""))=""),"",MID(UPPER(SUBSTITUTE('Start here'!$B$6," ","")),MOD(DATE(2027,12,6)-'Start here'!$B$5,LEN(UPPER(SUBSTITUTE('Start here'!$B$6," ",""))))+1,1)) | S57: =IF(OR('Start here'!$B$5="",UPPER(SUBSTITUTE('Start here'!$B$6," ",""))=""),"",MID(UPPER(SUBSTITUTE('Start here'!$B$6," ","")),MOD(DATE(2027,12,7)-'Start here'!$B$5,LEN(UPPER(SUBSTITUTE('Start here'!$B$6," ",""))))+1,1)) | T57: =IF(OR('Start here'!$B$5="",UPPER(SUBSTITUTE('Start here'!$B$6," ",""))=""),"",MID(UPPER(SUBSTITUTE('Start here'!$B$6," ","")),MOD(DATE(2027,12,8)-'Start here'!$B$5,LEN(UPPER(SUBSTITUTE('Start here'!$B$6," ",""))))+1,1)) | U57: =IF(OR('Start here'!$B$5="",UPPER(SUBSTITUTE('Start here'!$B$6," ",""))=""),"",MID(UPPER(SUBSTITUTE('Start here'!$B$6," ","")),MOD(DATE(2027,12,9)-'Start here'!$B$5,LEN(UPPER(SUBSTITUTE('Start here'!$B$6," ",""))))+1,1)) | V57: =IF(OR('Start here'!$B$5="",UPPER(SUBSTITUTE('Start here'!$B$6," ",""))=""),"",MID(UPPER(SUBSTITUTE('Start here'!$B$6," ","")),MOD(DATE(2027,12,10)-'Start here'!$B$5,LEN(UPPER(SUBSTITUTE('Start here'!$B$6," ",""))))+1,1)) | W57: =IF(OR('Start here'!$B$5="",UPPER(SUBSTITUTE('Start here'!$B$6," ",""))=""),"",MID(UPPER(SUBSTITUTE('Start here'!$B$6," ","")),MOD(DATE(2027,12,11)-'Start here'!$B$5,LEN(UPPER(SUBSTITUTE('Start here'!$B$6," ",""))))+1,1))
A58: 10 | B58: 11 | C58: 12 | D58: 13 | E58: 14 | F58: 15 | G58: 16 | I58: 14 | J58: 15 | K58: 16 | L58: 17 | M58: 18 | N58: 19 | O58: 20 | Q58: 12 | R58: 13 | S58: 14 | T58: 15 | U58: 16 | V58: 17 | W58: 18
A59: =IF(OR('Start here'!$B$5="",UPPER(SUBSTITUTE('Start here'!$B$6," ",""))=""),"",MID(UPPER(SUBSTITUTE('Start here'!$B$6," ","")),MOD(DATE(2027,10,10)-'Start here'!$B$5,LEN(UPPER(SUBSTITUTE('Start here'!$B$6," ",""))))+1,1)) | B59: =IF(OR('Start here'!$B$5="",UPPER(SUBSTITUTE('Start here'!$B$6," ",""))=""),"",MID(UPPER(SUBSTITUTE('Start here'!$B$6," ","")),MOD(DATE(2027,10,11)-'Start here'!$B$5,LEN(UPPER(SUBSTITUTE('Start here'!$B$6," ",""))))+1,1)) | C59: =IF(OR('Start here'!$B$5="",UPPER(SUBSTITUTE('Start here'!$B$6," ",""))=""),"",MID(UPPER(SUBSTITUTE('Start here'!$B$6," ","")),MOD(DATE(2027,10,12)-'Start here'!$B$5,LEN(UPPER(SUBSTITUTE('Start here'!$B$6," ",""))))+1,1)) | D59: =IF(OR('Start here'!$B$5="",UPPER(SUBSTITUTE('Start here'!$B$6," ",""))=""),"",MID(UPPER(SUBSTITUTE('Start here'!$B$6," ","")),MOD(DATE(2027,10,13)-'Start here'!$B$5,LEN(UPPER(SUBSTITUTE('Start here'!$B$6," ",""))))+1,1)) | E59: =IF(OR('Start here'!$B$5="",UPPER(SUBSTITUTE('Start here'!$B$6," ",""))=""),"",MID(UPPER(SUBSTITUTE('Start here'!$B$6," ","")),MOD(DATE(2027,10,14)-'Start here'!$B$5,LEN(UPPER(SUBSTITUTE('Start here'!$B$6," ",""))))+1,1)) | F59: =IF(OR('Start here'!$B$5="",UPPER(SUBSTITUTE('Start here'!$B$6," ",""))=""),"",MID(UPPER(SUBSTITUTE('Start here'!$B$6," ","")),MOD(DATE(2027,10,15)-'Start here'!$B$5,LEN(UPPER(SUBSTITUTE('Start here'!$B$6," ",""))))+1,1)) | G59: =IF(OR('Start here'!$B$5="",UPPER(SUBSTITUTE('Start here'!$B$6," ",""))=""),"",MID(UPPER(SUBSTITUTE('Start here'!$B$6," ","")),MOD(DATE(2027,10,16)-'Start here'!$B$5,LEN(UPPER(SUBSTITUTE('Start here'!$B$6," ",""))))+1,1)) | I59: =IF(OR('Start here'!$B$5="",UPPER(SUBSTITUTE('Start here'!$B$6," ",""))=""),"",MID(UPPER(SUBSTITUTE('Start here'!$B$6," ","")),MOD(DATE(2027,11,14)-'Start here'!$B$5,LEN(UPPER(SUBSTITUTE('Start here'!$B$6," ",""))))+1,1)) | J59: =IF(OR('Start here'!$B$5="",UPPER(SUBSTITUTE('Start here'!$B$6," ",""))=""),"",MID(UPPER(SUBSTITUTE('Start here'!$B$6," ","")),MOD(DATE(2027,11,15)-'Start here'!$B$5,LEN(UPPER(SUBSTITUTE('Start here'!$B$6," ",""))))+1,1)) | K59: =IF(OR('Start here'!$B$5="",UPPER(SUBSTITUTE('Start here'!$B$6," ",""))=""),"",MID(UPPER(SUBSTITUTE('Start here'!$B$6," ","")),MOD(DATE(2027,11,16)-'Start here'!$B$5,LEN(UPPER(SUBSTITUTE('Start here'!$B$6," ",""))))+1,1)) | L59: =IF(OR('Start here'!$B$5="",UPPER(SUBSTITUTE('Start here'!$B$6," ",""))=""),"",MID(UPPER(SUBSTITUTE('Start here'!$B$6," ","")),MOD(DATE(2027,11,17)-'Start here'!$B$5,LEN(UPPER(SUBSTITUTE('Start here'!$B$6," ",""))))+1,1)) | M59: =IF(OR('Start here'!$B$5="",UPPER(SUBSTITUTE('Start here'!$B$6," ",""))=""),"",MID(UPPER(SUBSTITUTE('Start here'!$B$6," ","")),MOD(DATE(2027,11,18)-'Start here'!$B$5,LEN(UPPER(SUBSTITUTE('Start here'!$B$6," ",""))))+1,1)) | N59: =IF(OR('Start here'!$B$5="",UPPER(SUBSTITUTE('Start here'!$B$6," ",""))=""),"",MID(UPPER(SUBSTITUTE('Start here'!$B$6," ","")),MOD(DATE(2027,11,19)-'Start here'!$B$5,LEN(UPPER(SUBSTITUTE('Start here'!$B$6," ",""))))+1,1)) | O59: =IF(OR('Start here'!$B$5="",UPPER(SUBSTITUTE('Start here'!$B$6," ",""))=""),"",MID(UPPER(SUBSTITUTE('Start here'!$B$6," ","")),MOD(DATE(2027,11,20)-'Start here'!$B$5,LEN(UPPER(SUBSTITUTE('Start here'!$B$6," ",""))))+1,1)) | Q59: =IF(OR('Start here'!$B$5="",UPPER(SUBSTITUTE('Start here'!$B$6," ",""))=""),"",MID(UPPER(SUBSTITUTE('Start here'!$B$6," ","")),MOD(DATE(2027,12,12)-'Start here'!$B$5,LEN(UPPER(SUBSTITUTE('Start here'!$B$6," ",""))))+1,1)) | R59: =IF(OR('Start here'!$B$5="",UPPER(SUBSTITUTE('Start here'!$B$6," ",""))=""),"",MID(UPPER(SUBSTITUTE('Start here'!$B$6," ","")),MOD(DATE(2027,12,13)-'Start here'!$B$5,LEN(UPPER(SUBSTITUTE('Start here'!$B$6," ",""))))+1,1)) | S59: =IF(OR('Start here'!$B$5="",UPPER(SUBSTITUTE('Start here'!$B$6," ",""))=""),"",MID(UPPER(SUBSTITUTE('Start here'!$B$6," ","")),MOD(DATE(2027,12,14)-'Start here'!$B$5,LEN(UPPER(SUBSTITUTE('Start here'!$B$6," ",""))))+1,1)) | T59: =IF(OR('Start here'!$B$5="",UPPER(SUBSTITUTE('Start here'!$B$6," ",""))=""),"",MID(UPPER(SUBSTITUTE('Start here'!$B$6," ","")),MOD(DATE(2027,12,15)-'Start here'!$B$5,LEN(UPPER(SUBSTITUTE('Start here'!$B$6," ",""))))+1,1)) | U59: =IF(OR('Start here'!$B$5="",UPPER(SUBSTITUTE('Start here'!$B$6," ",""))=""),"",MID(UPPER(SUBSTITUTE('Start here'!$B$6," ","")),MOD(DATE(2027,12,16)-'Start here'!$B$5,LEN(UPPER(SUBSTITUTE('Start here'!$B$6," ",""))))+1,1)) | V59: =IF(OR('Start here'!$B$5="",UPPER(SUBSTITUTE('Start here'!$B$6," ",""))=""),"",MID(UPPER(SUBSTITUTE('Start here'!$B$6," ","")),MOD(DATE(2027,12,17)-'Start here'!$B$5,LEN(UPPER(SUBSTITUTE('Start here'!$B$6," ",""))))+1,1)) | W59: =IF(OR('Start here'!$B$5="",UPPER(SUBSTITUTE('Start here'!$B$6," ",""))=""),"",MID(UPPER(SUBSTITUTE('Start here'!$B$6," ","")),MOD(DATE(2027,12,18)-'Start here'!$B$5,LEN(UPPER(SUBSTITUTE('Start here'!$B$6," ",""))))+1,1))
A60: 17 | B60: 18 | C60: 19 | D60: 20 | E60: 21 | F60: 22 | G60: 23 | I60: 21 | J60: 22 | K60: 23 | L60: 24 | M60: 25 | N60: 26 | O60: 27 | Q60: 19 | R60: 20 | S60: 21 | T60: 22 | U60: 23 | V60: 24 | W60: 25
A61: =IF(OR('Start here'!$B$5="",UPPER(SUBSTITUTE('Start here'!$B$6," ",""))=""),"",MID(UPPER(SUBSTITUTE('Start here'!$B$6," ","")),MOD(DATE(2027,10,17)-'Start here'!$B$5,LEN(UPPER(SUBSTITUTE('Start here'!$B$6," ",""))))+1,1)) | B61: =IF(OR('Start here'!$B$5="",UPPER(SUBSTITUTE('Start here'!$B$6," ",""))=""),"",MID(UPPER(SUBSTITUTE('Start here'!$B$6," ","")),MOD(DATE(2027,10,18)-'Start here'!$B$5,LEN(UPPER(SUBSTITUTE('Start here'!$B$6," ",""))))+1,1)) | C61: =IF(OR('Start here'!$B$5="",UPPER(SUBSTITUTE('Start here'!$B$6," ",""))=""),"",MID(UPPER(SUBSTITUTE('Start here'!$B$6," ","")),MOD(DATE(2027,10,19)-'Start here'!$B$5,LEN(UPPER(SUBSTITUTE('Start here'!$B$6," ",""))))+1,1)) | D61: =IF(OR('Start here'!$B$5="",UPPER(SUBSTITUTE('Start here'!$B$6," ",""))=""),"",MID(UPPER(SUBSTITUTE('Start here'!$B$6," ","")),MOD(DATE(2027,10,20)-'Start here'!$B$5,LEN(UPPER(SUBSTITUTE('Start here'!$B$6," ",""))))+1,1)) | E61: =IF(OR('Start here'!$B$5="",UPPER(SUBSTITUTE('Start here'!$B$6," ",""))=""),"",MID(UPPER(SUBSTITUTE('Start here'!$B$6," ","")),MOD(DATE(2027,10,21)-'Start here'!$B$5,LEN(UPPER(SUBSTITUTE('Start here'!$B$6," ",""))))+1,1)) | F61: =IF(OR('Start here'!$B$5="",UPPER(SUBSTITUTE('Start here'!$B$6," ",""))=""),"",MID(UPPER(SUBSTITUTE('Start here'!$B$6," ","")),MOD(DATE(2027,10,22)-'Start here'!$B$5,LEN(UPPER(SUBSTITUTE('Start here'!$B$6," ",""))))+1,1)) | G61: =IF(OR('Start here'!$B$5="",UPPER(SUBSTITUTE('Start here'!$B$6," ",""))=""),"",MID(UPPER(SUBSTITUTE('Start here'!$B$6," ","")),MOD(DATE(2027,10,23)-'Start here'!$B$5,LEN(UPPER(SUBSTITUTE('Start here'!$B$6," ",""))))+1,1)) | I61: =IF(OR('Start here'!$B$5="",UPPER(SUBSTITUTE('Start here'!$B$6," ",""))=""),"",MID(UPPER(SUBSTITUTE('Start here'!$B$6," ","")),MOD(DATE(2027,11,21)-'Start here'!$B$5,LEN(UPPER(SUBSTITUTE('Start here'!$B$6," ",""))))+1,1)) | J61: =IF(OR('Start here'!$B$5="",UPPER(SUBSTITUTE('Start here'!$B$6," ",""))=""),"",MID(UPPER(SUBSTITUTE('Start here'!$B$6," ","")),MOD(DATE(2027,11,22)-'Start here'!$B$5,LEN(UPPER(SUBSTITUTE('Start here'!$B$6," ",""))))+1,1)) | K61: =IF(OR('Start here'!$B$5="",UPPER(SUBSTITUTE('Start here'!$B$6," ",""))=""),"",MID(UPPER(SUBSTITUTE('Start here'!$B$6," ","")),MOD(DATE(2027,11,23)-'Start here'!$B$5,LEN(UPPER(SUBSTITUTE('Start here'!$B$6," ",""))))+1,1)) | L61: =IF(OR('Start here'!$B$5="",UPPER(SUBSTITUTE('Start here'!$B$6," ",""))=""),"",MID(UPPER(SUBSTITUTE('Start here'!$B$6," ","")),MOD(DATE(2027,11,24)-'Start here'!$B$5,LEN(UPPER(SUBSTITUTE('Start here'!$B$6," ",""))))+1,1)) | M61: =IF(OR('Start here'!$B$5="",UPPER(SUBSTITUTE('Start here'!$B$6," ",""))=""),"",MID(UPPER(SUBSTITUTE('Start here'!$B$6," ","")),MOD(DATE(2027,11,25)-'Start here'!$B$5,LEN(UPPER(SUBSTITUTE('Start here'!$B$6," ",""))))+1,1)) | N61: =IF(OR('Start here'!$B$5="",UPPER(SUBSTITUTE('Start here'!$B$6," ",""))=""),"",MID(UPPER(SUBSTITUTE('Start here'!$B$6," ","")),MOD(DATE(2027,11,26)-'Start here'!$B$5,LEN(UPPER(SUBSTITUTE('Start here'!$B$6," ",""))))+1,1)) | O61: =IF(OR('Start here'!$B$5="",UPPER(SUBSTITUTE('Start here'!$B$6," ",""))=""),"",MID(UPPER(SUBSTITUTE('Start here'!$B$6," ","")),MOD(DATE(2027,11,27)-'Start here'!$B$5,LEN(UPPER(SUBSTITUTE('Start here'!$B$6," ",""))))+1,1)) | Q61: =IF(OR('Start here'!$B$5="",UPPER(SUBSTITUTE('Start here'!$B$6," ",""))=""),"",MID(UPPER(SUBSTITUTE('Start here'!$B$6," ","")),MOD(DATE(2027,12,19)-'Start here'!$B$5,LEN(UPPER(SUBSTITUTE('Start here'!$B$6," ",""))))+1,1)) | R61: =IF(OR('Start here'!$B$5="",UPPER(SUBSTITUTE('Start here'!$B$6," ",""))=""),"",MID(UPPER(SUBSTITUTE('Start here'!$B$6," ","")),MOD(DATE(2027,12,20)-'Start here'!$B$5,LEN(UPPER(SUBSTITUTE('Start here'!$B$6," ",""))))+1,1)) | S61: =IF(OR('Start here'!$B$5="",UPPER(SUBSTITUTE('Start here'!$B$6," ",""))=""),"",MID(UPPER(SUBSTITUTE('Start here'!$B$6," ","")),MOD(DATE(2027,12,21)-'Start here'!$B$5,LEN(UPPER(SUBSTITUTE('Start here'!$B$6," ",""))))+1,1)) | T61: =IF(OR('Start here'!$B$5="",UPPER(SUBSTITUTE('Start here'!$B$6," ",""))=""),"",MID(UPPER(SUBSTITUTE('Start here'!$B$6," ","")),MOD(DATE(2027,12,22)-'Start here'!$B$5,LEN(UPPER(SUBSTITUTE('Start here'!$B$6," ",""))))+1,1)) | U61: =IF(OR('Start here'!$B$5="",UPPER(SUBSTITUTE('Start here'!$B$6," ",""))=""),"",MID(UPPER(SUBSTITUTE('Start here'!$B$6," ","")),MOD(DATE(2027,12,23)-'Start here'!$B$5,LEN(UPPER(SUBSTITUTE('Start here'!$B$6," ",""))))+1,1)) | V61: =IF(OR('Start here'!$B$5="",UPPER(SUBSTITUTE('Start here'!$B$6," ",""))=""),"",MID(UPPER(SUBSTITUTE('Start here'!$B$6," ","")),MOD(DATE(2027,12,24)-'Start here'!$B$5,LEN(UPPER(SUBSTITUTE('Start here'!$B$6," ",""))))+1,1)) | W61: =IF(OR('Start here'!$B$5="",UPPER(SUBSTITUTE('Start here'!$B$6," ",""))=""),"",MID(UPPER(SUBSTITUTE('Start here'!$B$6," ","")),MOD(DATE(2027,12,25)-'Start here'!$B$5,LEN(UPPER(SUBSTITUTE('Start here'!$B$6," ",""))))+1,1))
A62: 24 | B62: 25 | C62: 26 | D62: 27 | E62: 28 | F62: 29 | G62: 30 | I62: 28 | J62: 29 | K62: 30 | Q62: 26 | R62: 27 | S62: 28 | T62: 29 | U62: 30 | V62: 31
A63: =IF(OR('Start here'!$B$5="",UPPER(SUBSTITUTE('Start here'!$B$6," ",""))=""),"",MID(UPPER(SUBSTITUTE('Start here'!$B$6," ","")),MOD(DATE(2027,10,24)-'Start here'!$B$5,LEN(UPPER(SUBSTITUTE('Start here'!$B$6," ",""))))+1,1)) | B63: =IF(OR('Start here'!$B$5="",UPPER(SUBSTITUTE('Start here'!$B$6," ",""))=""),"",MID(UPPER(SUBSTITUTE('Start here'!$B$6," ","")),MOD(DATE(2027,10,25)-'Start here'!$B$5,LEN(UPPER(SUBSTITUTE('Start here'!$B$6," ",""))))+1,1)) | C63: =IF(OR('Start here'!$B$5="",UPPER(SUBSTITUTE('Start here'!$B$6," ",""))=""),"",MID(UPPER(SUBSTITUTE('Start here'!$B$6," ","")),MOD(DATE(2027,10,26)-'Start here'!$B$5,LEN(UPPER(SUBSTITUTE('Start here'!$B$6," ",""))))+1,1)) | D63: =IF(OR('Start here'!$B$5="",UPPER(SUBSTITUTE('Start here'!$B$6," ",""))=""),"",MID(UPPER(SUBSTITUTE('Start here'!$B$6," ","")),MOD(DATE(2027,10,27)-'Start here'!$B$5,LEN(UPPER(SUBSTITUTE('Start here'!$B$6," ",""))))+1,1)) | E63: =IF(OR('Start here'!$B$5="",UPPER(SUBSTITUTE('Start here'!$B$6," ",""))=""),"",MID(UPPER(SUBSTITUTE('Start here'!$B$6," ","")),MOD(DATE(2027,10,28)-'Start here'!$B$5,LEN(UPPER(SUBSTITUTE('Start here'!$B$6," ",""))))+1,1)) | F63: =IF(OR('Start here'!$B$5="",UPPER(SUBSTITUTE('Start here'!$B$6," ",""))=""),"",MID(UPPER(SUBSTITUTE('Start here'!$B$6," ","")),MOD(DATE(2027,10,29)-'Start here'!$B$5,LEN(UPPER(SUBSTITUTE('Start here'!$B$6," ",""))))+1,1)) | G63: =IF(OR('Start here'!$B$5="",UPPER(SUBSTITUTE('Start here'!$B$6," ",""))=""),"",MID(UPPER(SUBSTITUTE('Start here'!$B$6," ","")),MOD(DATE(2027,10,30)-'Start here'!$B$5,LEN(UPPER(SUBSTITUTE('Start here'!$B$6," ",""))))+1,1)) | I63: =IF(OR('Start here'!$B$5="",UPPER(SUBSTITUTE('Start here'!$B$6," ",""))=""),"",MID(UPPER(SUBSTITUTE('Start here'!$B$6," ","")),MOD(DATE(2027,11,28)-'Start here'!$B$5,LEN(UPPER(SUBSTITUTE('Start here'!$B$6," ",""))))+1,1)) | J63: =IF(OR('Start here'!$B$5="",UPPER(SUBSTITUTE('Start here'!$B$6," ",""))=""),"",MID(UPPER(SUBSTITUTE('Start here'!$B$6," ","")),MOD(DATE(2027,11,29)-'Start here'!$B$5,LEN(UPPER(SUBSTITUTE('Start here'!$B$6," ",""))))+1,1)) | K63: =IF(OR('Start here'!$B$5="",UPPER(SUBSTITUTE('Start here'!$B$6," ",""))=""),"",MID(UPPER(SUBSTITUTE('Start here'!$B$6," ","")),MOD(DATE(2027,11,30)-'Start here'!$B$5,LEN(UPPER(SUBSTITUTE('Start here'!$B$6," ",""))))+1,1)) | Q63: =IF(OR('Start here'!$B$5="",UPPER(SUBSTITUTE('Start here'!$B$6," ",""))=""),"",MID(UPPER(SUBSTITUTE('Start here'!$B$6," ","")),MOD(DATE(2027,12,26)-'Start here'!$B$5,LEN(UPPER(SUBSTITUTE('Start here'!$B$6," ",""))))+1,1)) | R63: =IF(OR('Start here'!$B$5="",UPPER(SUBSTITUTE('Start here'!$B$6," ",""))=""),"",MID(UPPER(SUBSTITUTE('Start here'!$B$6," ","")),MOD(DATE(2027,12,27)-'Start here'!$B$5,LEN(UPPER(SUBSTITUTE('Start here'!$B$6," ",""))))+1,1)) | S63: =IF(OR('Start here'!$B$5="",UPPER(SUBSTITUTE('Start here'!$B$6," ",""))=""),"",MID(UPPER(SUBSTITUTE('Start here'!$B$6," ","")),MOD(DATE(2027,12,28)-'Start here'!$B$5,LEN(UPPER(SUBSTITUTE('Start here'!$B$6," ",""))))+1,1)) | T63: =IF(OR('Start here'!$B$5="",UPPER(SUBSTITUTE('Start here'!$B$6," ",""))=""),"",MID(UPPER(SUBSTITUTE('Start here'!$B$6," ","")),MOD(DATE(2027,12,29)-'Start here'!$B$5,LEN(UPPER(SUBSTITUTE('Start here'!$B$6," ",""))))+1,1)) | U63: =IF(OR('Start here'!$B$5="",UPPER(SUBSTITUTE('Start here'!$B$6," ",""))=""),"",MID(UPPER(SUBSTITUTE('Start here'!$B$6," ","")),MOD(DATE(2027,12,30)-'Start here'!$B$5,LEN(UPPER(SUBSTITUTE('Start here'!$B$6," ",""))))+1,1)) | V63: =IF(OR('Start here'!$B$5="",UPPER(SUBSTITUTE('Start here'!$B$6," ",""))=""),"",MID(UPPER(SUBSTITUTE('Start here'!$B$6," ","")),MOD(DATE(2027,12,31)-'Start here'!$B$5,LEN(UPPER(SUBSTITUTE('Start here'!$B$6," ",""))))+1,1))
A64: 31
A65: =IF(OR('Start here'!$B$5="",UPPER(SUBSTITUTE('Start here'!$B$6," ",""))=""),"",MID(UPPER(SUBSTITUTE('Start here'!$B$6," ","")),MOD(DATE(2027,10,31)-'Start here'!$B$5,LEN(UPPER(SUBSTITUTE('Start here'!$B$6," ",""))))+1,1))
A66: Nights A | C66: =COUNTIF(A55:G65,"A") | E66: B | F66: =COUNTIF(A55:G65,"B") | I66: Nights A | K66: =COUNTIF(I55:O65,"A") | M66: B | N66: =COUNTIF(I55:O65,"B") | Q66: Nights A | S66: =COUNTIF(Q55:W65,"A") | U66: B | V66: =COUNTIF(Q55:W65,"B")
